BEGIN:VCALENDAR
VERSION:2.0
PRODID:-//Paroisse sainte Jeanne d&#039;Arc de Versailles - ECPv6.2.5//NONSGML v1.0//EN
CALSCALE:GREGORIAN
METHOD:PUBLISH
X-ORIGINAL-URL:https://jeannedarc-versailles.com
X-WR-CALDESC:évènements pour Paroisse sainte Jeanne d&#039;Arc de Versailles
REFRESH-INTERVAL;VALUE=DURATION:PT1H
X-Robots-Tag:noindex
X-PUBLISHED-TTL:PT1H
BEGIN:VTIMEZONE
TZID:Europe/Paris
BEGIN:DAYLIGHT
TZOFFSETFROM:+0100
TZOFFSETTO:+0200
TZNAME:CEST
DTSTART:20260329T010000
END:DAYLIGHT
BEGIN:STANDARD
TZOFFSETFROM:+0200
TZOFFSETTO:+0100
TZNAME:CET
DTSTART:20261025T010000
END:STANDARD
END:VTIMEZONE
BEGIN:VEVENT
DTSTART;TZID=Europe/Paris:20260605T164500
DTEND;TZID=Europe/Paris:20260605T170000
DTSTAMP:20260421T151728
CREATED:20251117T153318Z
LAST-MODIFIED:20251117T153318Z
UID:13601-1780677900-1780678800@jeannedarc-versailles.com
SUMMARY:Enfants adorateurs
DESCRIPTION:Le groupe des enfants adorateurs de la paroisse\,\nsous la conduite du père Henri Laroche\,\npropose d’initier les enfants de 4 à 10 ans\,\ntous les vendredis (hors vacances scolaires)\n de 16h45 à 17h/17h10\nà la rencontre avec Jésus réellement présent dans l’Eucharistie. \n\nAccueil à partir de 16h30 derrière l’église (sous la responsabilité des parents)\nDébut de l’adoration à 16h45\, encadrée par le père Laroche\nFin vers 17h / 17h10
URL:https://jeannedarc-versailles.com/event/enfants-adorateurs-24/
LOCATION:Eglise Sainte-Jeanne d’Arc\, 5 rue Jules Raulin\, Versailles\, 78000
END:VEVENT
BEGIN:VEVENT
DTSTART;TZID=Europe/Paris:20260612T164500
DTEND;TZID=Europe/Paris:20260612T170000
DTSTAMP:20260421T151728
CREATED:20251117T153347Z
LAST-MODIFIED:20251117T153347Z
UID:13603-1781282700-1781283600@jeannedarc-versailles.com
SUMMARY:Enfants adorateurs
DESCRIPTION:Le groupe des enfants adorateurs de la paroisse\,\nsous la conduite du père Henri Laroche\,\npropose d’initier les enfants de 4 à 10 ans\,\ntous les vendredis (hors vacances scolaires)\n de 16h45 à 17h/17h10\nà la rencontre avec Jésus réellement présent dans l’Eucharistie. \n\nAccueil à partir de 16h30 derrière l’église (sous la responsabilité des parents)\nDébut de l’adoration à 16h45\, encadrée par le père Laroche\nFin vers 17h / 17h10
URL:https://jeannedarc-versailles.com/event/enfants-adorateurs-25/
LOCATION:Eglise Sainte-Jeanne d’Arc\, 5 rue Jules Raulin\, Versailles\, 78000
END:VEVENT
BEGIN:VEVENT
DTSTART;TZID=Europe/Paris:20260619T164500
DTEND;TZID=Europe/Paris:20260619T170000
DTSTAMP:20260421T151728
CREATED:20251117T153413Z
LAST-MODIFIED:20251117T153413Z
UID:13605-1781887500-1781888400@jeannedarc-versailles.com
SUMMARY:Enfants adorateurs
DESCRIPTION:Le groupe des enfants adorateurs de la paroisse\,\nsous la conduite du père Henri Laroche\,\npropose d’initier les enfants de 4 à 10 ans\,\ntous les vendredis (hors vacances scolaires)\n de 16h45 à 17h/17h10\nà la rencontre avec Jésus réellement présent dans l’Eucharistie. \n\nAccueil à partir de 16h30 derrière l’église (sous la responsabilité des parents)\nDébut de l’adoration à 16h45\, encadrée par le père Laroche\nFin vers 17h / 17h10
URL:https://jeannedarc-versailles.com/event/enfants-adorateurs-26/
LOCATION:Eglise Sainte-Jeanne d’Arc\, 5 rue Jules Raulin\, Versailles\, 78000
END:VEVENT
BEGIN:VEVENT
DTSTART;TZID=Europe/Paris:20260628T180000
DTEND;TZID=Europe/Paris:20260628T190000
DTSTAMP:20260421T151728
CREATED:20250909T074241Z
LAST-MODIFIED:20260325T153936Z
UID:13264-1782669600-1782673200@jeannedarc-versailles.com
SUMMARY:Misa en espagñol
DESCRIPTION:Un dimanche par mois à 18h\, messe en espagnol à la chapelle Saint-Joseph des Capucins\, 29 bd de Glatigny \nLes dimanches 21 septembre\, 12 octobre\, 16 novembre\, 14 décembre\, 18 janvier\, 8 février\, 22 mars\, 12 avril\, 17 mai\, 28 juin \n \n 
URL:https://jeannedarc-versailles.com/event/misa-en-espagnol-10/
LOCATION:chapelle St Joseph\, boulevard de Glatigny\, Versailles\, 78000
END:VEVENT
END:VCALENDAR