BEGIN:VCALENDAR
VERSION:2.0
PRODID:-//Paroisse sainte Jeanne d&#039;Arc de Versailles - ECPv6.2.5//NONSGML v1.0//EN
CALSCALE:GREGORIAN
METHOD:PUBLISH
X-WR-CALNAME:Paroisse sainte Jeanne d&#039;Arc de Versailles
X-ORIGINAL-URL:https://jeannedarc-versailles.com
X-WR-CALDESC:évènements pour Paroisse sainte Jeanne d&#039;Arc de Versailles
REFRESH-INTERVAL;VALUE=DURATION:PT1H
X-Robots-Tag:noindex
X-PUBLISHED-TTL:PT1H
BEGIN:VTIMEZONE
TZID:Europe/Paris
BEGIN:DAYLIGHT
TZOFFSETFROM:+0100
TZOFFSETTO:+0200
TZNAME:CEST
DTSTART:20260329T010000
END:DAYLIGHT
BEGIN:STANDARD
TZOFFSETFROM:+0200
TZOFFSETTO:+0100
TZNAME:CET
DTSTART:20261025T010000
END:STANDARD
END:VTIMEZONE
BEGIN:VEVENT
DTSTART;TZID=Europe/Paris:20260201T141500
DTEND;TZID=Europe/Paris:20260201T160000
DTSTAMP:20260421T151557
CREATED:20260126T095533Z
LAST-MODIFIED:20260126T095533Z
UID:13861-1769955300-1769961600@jeannedarc-versailles.com
SUMMARY:Tournois de bridge au profit de la paroisse
DESCRIPTION:Samedi 31 Janvier à 20h15 précises\net/ou Dimanche 1er février à 14h15 précises\nSalle Jérusalem. \nNombreux lots à gagner ! \nAmitié et décontraction de rigueur. \nParticipation : 25€ par joueur au profit de la paroisse \n(40€ pour les 2 tournois). \nRèglement sur place à l’ordre de « Paroisse Ste-Jeanne d’Arc » \nInscription : tournoidebridgesja@gmail.com\, \ntel : 06 84 87 55 84 ou courrier au secrétariat.
URL:https://jeannedarc-versailles.com/event/tournois-de-bridge-au-profit-de-la-paroisse-3/
LOCATION:salle Jérusalem
END:VEVENT
BEGIN:VEVENT
DTSTART;TZID=Europe/Paris:20260206T164500
DTEND;TZID=Europe/Paris:20260206T170000
DTSTAMP:20260421T151557
CREATED:20251117T152245Z
LAST-MODIFIED:20251117T152245Z
UID:13577-1770396300-1770397200@jeannedarc-versailles.com
SUMMARY:Enfants adorateurs
DESCRIPTION:Le groupe des enfants adorateurs de la paroisse\,\nsous la conduite du père Henri Laroche\,\npropose d’initier les enfants de 4 à 10 ans\,\ntous les vendredis (hors vacances scolaires)\n de 16h45 à 17h/17h10\nà la rencontre avec Jésus réellement présent dans l’Eucharistie. \n\nAccueil à partir de 16h30 derrière l’église (sous la responsabilité des parents)\nDébut de l’adoration à 16h45\, encadrée par le père Laroche\nFin vers 17h / 17h10
URL:https://jeannedarc-versailles.com/event/enfants-adorateurs-12/
LOCATION:Eglise Sainte-Jeanne d’Arc\, 5 rue Jules Raulin\, Versailles\, 78000
END:VEVENT
BEGIN:VEVENT
DTSTART;TZID=Europe/Paris:20260208T180000
DTEND;TZID=Europe/Paris:20260208T190000
DTSTAMP:20260421T151557
CREATED:20250909T074057Z
LAST-MODIFIED:20250909T074057Z
UID:13256-1770573600-1770577200@jeannedarc-versailles.com
SUMMARY:Misa en espagñol
DESCRIPTION:Un dimanche par mois à 18h\, messe en espagnol à la chapelle Saint-Joseph des Capucins\, 29 bd de Glatigny \nLes dimanches 21 septembre\, 12 octobre\, 16 novembre\, 14 décembre\, 18 janvier\, 8 février\, 22 mars\, 5 avril\, 17 mai\, 28 juin \n \n 
URL:https://jeannedarc-versailles.com/event/misa-en-espagnol-6/
LOCATION:chapelle St Joseph\, boulevard de Glatigny\, Versailles\, 78000
END:VEVENT
BEGIN:VEVENT
DTSTART;TZID=Europe/Paris:20260213T164500
DTEND;TZID=Europe/Paris:20260213T170000
DTSTAMP:20260421T151557
CREATED:20251117T152339Z
LAST-MODIFIED:20251117T152339Z
UID:13579-1771001100-1771002000@jeannedarc-versailles.com
SUMMARY:Enfants adorateurs
DESCRIPTION:Le groupe des enfants adorateurs de la paroisse\,\nsous la conduite du père Henri Laroche\,\npropose d’initier les enfants de 4 à 10 ans\,\ntous les vendredis (hors vacances scolaires)\n de 16h45 à 17h/17h10\nà la rencontre avec Jésus réellement présent dans l’Eucharistie. \n\nAccueil à partir de 16h30 derrière l’église (sous la responsabilité des parents)\nDébut de l’adoration à 16h45\, encadrée par le père Laroche\nFin vers 17h / 17h10
URL:https://jeannedarc-versailles.com/event/enfants-adorateurs-13/
LOCATION:Eglise Sainte-Jeanne d’Arc\, 5 rue Jules Raulin\, Versailles\, 78000
END:VEVENT
BEGIN:VEVENT
DTSTART;TZID=Europe/Paris:20260220T164500
DTEND;TZID=Europe/Paris:20260220T170000
DTSTAMP:20260421T151557
CREATED:20251117T152413Z
LAST-MODIFIED:20251117T152413Z
UID:13581-1771605900-1771606800@jeannedarc-versailles.com
SUMMARY:Enfants adorateurs
DESCRIPTION:Le groupe des enfants adorateurs de la paroisse\,\nsous la conduite du père Henri Laroche\,\npropose d’initier les enfants de 4 à 10 ans\,\ntous les vendredis (hors vacances scolaires)\n de 16h45 à 17h/17h10\nà la rencontre avec Jésus réellement présent dans l’Eucharistie. \n\nAccueil à partir de 16h30 derrière l’église (sous la responsabilité des parents)\nDébut de l’adoration à 16h45\, encadrée par le père Laroche\nFin vers 17h / 17h10
URL:https://jeannedarc-versailles.com/event/enfants-adorateurs-14/
LOCATION:Eglise Sainte-Jeanne d’Arc\, 5 rue Jules Raulin\, Versailles\, 78000
END:VEVENT
END:VCALENDAR