BEGIN:VCALENDAR
VERSION:2.0
PRODID:-//Paroisse sainte Jeanne d&#039;Arc de Versailles - ECPv6.2.5//NONSGML v1.0//EN
CALSCALE:GREGORIAN
METHOD:PUBLISH
X-ORIGINAL-URL:https://jeannedarc-versailles.com
X-WR-CALDESC:évènements pour Paroisse sainte Jeanne d&#039;Arc de Versailles
REFRESH-INTERVAL;VALUE=DURATION:PT1H
X-Robots-Tag:noindex
X-PUBLISHED-TTL:PT1H
BEGIN:VTIMEZONE
TZID:Europe/Paris
BEGIN:DAYLIGHT
TZOFFSETFROM:+0100
TZOFFSETTO:+0200
TZNAME:CEST
DTSTART:20250330T010000
END:DAYLIGHT
BEGIN:STANDARD
TZOFFSETFROM:+0200
TZOFFSETTO:+0100
TZNAME:CET
DTSTART:20251026T010000
END:STANDARD
END:VTIMEZONE
BEGIN:VEVENT
DTSTART;TZID=Europe/Paris:20251107T200000
DTEND;TZID=Europe/Paris:20251107T210000
DTSTAMP:20260421T200137
CREATED:20250830T152505Z
LAST-MODIFIED:20250830T152505Z
UID:13158-1762545600-1762549200@jeannedarc-versailles.com
SUMMARY:Veillée d'adoration Scoute
DESCRIPTION:Toutes les infos ici
URL:https://jeannedarc-versailles.com/event/veillee-dadoration-scoute-3/
LOCATION:Eglise Sainte-Jeanne d’Arc\, 5 rue Jules Raulin\, Versailles\, 78000
END:VEVENT
BEGIN:VEVENT
DTSTART;TZID=Europe/Paris:20251113T203000
DTEND;TZID=Europe/Paris:20251113T220000
DTSTAMP:20260421T200137
CREATED:20241018T174834Z
LAST-MODIFIED:20251014T101440Z
UID:11685-1763065800-1763071200@jeannedarc-versailles.com
SUMMARY:Réunion d'information Hiver Solidaire
DESCRIPTION:Réunion d’information « Hiver Solidaire » \nToutes les infos 👉 ici
URL:https://jeannedarc-versailles.com/event/reunion-presentation-des-fraternites-2/
LOCATION:Salle Sainte Marie
END:VEVENT
BEGIN:VEVENT
DTSTART;TZID=Europe/Paris:20251116T180000
DTEND;TZID=Europe/Paris:20251116T190000
DTSTAMP:20260421T200137
CREATED:20250909T073920Z
LAST-MODIFIED:20250909T073920Z
UID:13250-1763316000-1763319600@jeannedarc-versailles.com
SUMMARY:Misa en espagñol
DESCRIPTION:Un dimanche par mois à 18h\, messe en espagnol à la chapelle Saint-Joseph des Capucins\, 29 bd de Glatigny \nLes dimanches 21 septembre\, 12 octobre\, 16 novembre\, 14 décembre\, 18 janvier\, 8 février\, 22 mars\, 5 avril\, 17 mai\, 28 juin \n \n 
URL:https://jeannedarc-versailles.com/event/misa-en-espagnol-3/
LOCATION:chapelle St Joseph\, boulevard de Glatigny\, Versailles\, 78000
END:VEVENT
BEGIN:VEVENT
DTSTART;TZID=Europe/Paris:20251121T164500
DTEND;TZID=Europe/Paris:20251121T170000
DTSTAMP:20260421T200137
CREATED:20251117T122116Z
LAST-MODIFIED:20251117T150730Z
UID:11611-1763743500-1763744400@jeannedarc-versailles.com
SUMMARY:Enfants adorateurs
DESCRIPTION:Le groupe des enfants adorateurs de la paroisse\,\nsous la conduite du père Henri Laroche\,\npropose d’initier les enfants de 4 à 10 ans\,\ntous les vendredis (hors vacances scolaires)\n de 16h45 à 17h/17h10\nà la rencontre avec Jésus réellement présent dans l’Eucharistie. \n\nAccueil à partir de 16h30 derrière l’église (sous la responsabilité des parents)\nDébut de l’adoration à 16h45\, encadrée par le père Laroche\nFin vers 17h / 17h10
URL:https://jeannedarc-versailles.com/event/enfants-adorateurs-3/
LOCATION:Eglise Sainte-Jeanne d’Arc\, 5 rue Jules Raulin\, Versailles\, 78000
END:VEVENT
BEGIN:VEVENT
DTSTART;TZID=Europe/Paris:20251128T164500
DTEND;TZID=Europe/Paris:20251128T170000
DTSTAMP:20260421T200137
CREATED:20251117T150853Z
LAST-MODIFIED:20251117T150853Z
UID:13561-1764348300-1764349200@jeannedarc-versailles.com
SUMMARY:Enfants adorateurs
DESCRIPTION:Le groupe des enfants adorateurs de la paroisse\,\nsous la conduite du père Henri Laroche\,\npropose d’initier les enfants de 4 à 10 ans\,\ntous les vendredis (hors vacances scolaires)\n de 16h45 à 17h/17h10\nà la rencontre avec Jésus réellement présent dans l’Eucharistie. \n\nAccueil à partir de 16h30 derrière l’église (sous la responsabilité des parents)\nDébut de l’adoration à 16h45\, encadrée par le père Laroche\nFin vers 17h / 17h10
URL:https://jeannedarc-versailles.com/event/enfants-adorateurs-4/
LOCATION:Eglise Sainte-Jeanne d’Arc\, 5 rue Jules Raulin\, Versailles\, 78000
END:VEVENT
BEGIN:VEVENT
DTSTART;TZID=Europe/Paris:20251129T180000
DTEND;TZID=Europe/Paris:20251129T190000
DTSTAMP:20260421T200137
CREATED:20230310T203233Z
LAST-MODIFIED:20251008T105732Z
UID:9806-1764439200-1764442800@jeannedarc-versailles.com
SUMMARY:Messe animée par l'équipe liturgique collégiens
DESCRIPTION:Samedi 29 novembre\, 18h à Saint-Joseph\, la messe sera animée par l’équipe liturgique des collégiens! \nLes jeunes qui souhaitent rejoindre l’équipe sont les bienvenus.\nEcrire à : cecile.blavet@gmail.com pour recevoir les partitions et les informations pratiques.\nDès 8 ans !\nNous recherchons des grands adolescents/étudiants pour soutenir les plus jeunes à l’instruments\, n’hésitez pas à vous faire connaitre!\nToutes les infos sur cette équipe d’animation ici
URL:https://jeannedarc-versailles.com/event/messe-animee-par-lequipe-liturgique-collegiens/
LOCATION:chapelle St Joseph\, boulevard de Glatigny\, Versailles\, 78000
END:VEVENT
END:VCALENDAR