BEGIN:VCALENDAR
VERSION:2.0
PRODID:-//Paroisse sainte Jeanne d&#039;Arc de Versailles - ECPv6.2.5//NONSGML v1.0//EN
CALSCALE:GREGORIAN
METHOD:PUBLISH
X-WR-CALNAME:Paroisse sainte Jeanne d&#039;Arc de Versailles
X-ORIGINAL-URL:https://jeannedarc-versailles.com
X-WR-CALDESC:évènements pour Paroisse sainte Jeanne d&#039;Arc de Versailles
REFRESH-INTERVAL;VALUE=DURATION:PT1H
X-Robots-Tag:noindex
X-PUBLISHED-TTL:PT1H
BEGIN:VTIMEZONE
TZID:Europe/Paris
BEGIN:DAYLIGHT
TZOFFSETFROM:+0100
TZOFFSETTO:+0200
TZNAME:CEST
DTSTART:20250330T010000
END:DAYLIGHT
BEGIN:STANDARD
TZOFFSETFROM:+0200
TZOFFSETTO:+0100
TZNAME:CET
DTSTART:20251026T010000
END:STANDARD
END:VTIMEZONE
BEGIN:VEVENT
DTSTART;TZID=Europe/Paris:20250203T203000
DTEND;TZID=Europe/Paris:20250203T220000
DTSTAMP:20260422T004727
CREATED:20240822T113039Z
LAST-MODIFIED:20240822T113149Z
UID:11362-1738614600-1738620000@jeannedarc-versailles.com
SUMMARY:Groupe œcuménique « Réconciliation »
DESCRIPTION:Louange et prière charismatique (Eglise Ste-Jeanne d’Arc- Salle Cana)
URL:https://jeannedarc-versailles.com/event/groupe-oecumenique-reconciliation-21/
LOCATION:Salles paroissiales de Sainte-Jeanne d’Arc\, 5 rue Jules Raulin\, Versailles\, 78000\, France
END:VEVENT
BEGIN:VEVENT
DTSTART;TZID=Europe/Paris:20250204T143000
DTEND;TZID=Europe/Paris:20250204T160000
DTSTAMP:20260422T004727
CREATED:20240822T100226Z
LAST-MODIFIED:20240822T100226Z
UID:11281-1738679400-1738684800@jeannedarc-versailles.com
SUMMARY:"Atelier mémoire"
DESCRIPTION:Equipes Saint Vincent
URL:https://jeannedarc-versailles.com/event/atelier-memoire-13/
LOCATION:Salles paroissiales de Sainte-Jeanne d’Arc\, 5 rue Jules Raulin\, Versailles\, 78000\, France
END:VEVENT
BEGIN:VEVENT
DTSTART;TZID=Europe/Paris:20250206T204500
DTEND;TZID=Europe/Paris:20250206T220000
DTSTAMP:20260422T004727
CREATED:20250126T223250Z
LAST-MODIFIED:20250126T223250Z
UID:12202-1738874700-1738879200@jeannedarc-versailles.com
SUMMARY:Conférence "Sainte Tunique du Christ"
DESCRIPTION:Toutes les infos 👉 ici
URL:https://jeannedarc-versailles.com/event/conference-sainte-tunique-du-christ/
LOCATION:Eglise Sainte-Jeanne d’Arc\, 5 rue Jules Raulin\, Versailles\, 78000
END:VEVENT
BEGIN:VEVENT
DTSTART;TZID=Europe/Paris:20250207T200000
DTEND;TZID=Europe/Paris:20250207T220000
DTSTAMP:20260422T004727
CREATED:20240822T093729Z
LAST-MODIFIED:20240822T093729Z
UID:11242-1738958400-1738965600@jeannedarc-versailles.com
SUMMARY:Adoration premier vendredi du mois
DESCRIPTION:« Mon plus grand contentement est d’être devant\nle Saint-Sacrement où mon coeur est dans son centre ».\nSainte Marguerite-Marie Alacoque\nAdoration\, louange et confessions de 20h à 22h \nAnimation par les scouts de 20h à 21h\, puis par un groupe de paroissien de 21h à 22h \nTous les renseignements en cliquant ici
URL:https://jeannedarc-versailles.com/event/adoration-premier-vendredi-du-mois-5/
LOCATION:Eglise Sainte-Jeanne d’Arc\, 5 rue Jules Raulin\, Versailles\, 78000
END:VEVENT
BEGIN:VEVENT
DTSTART;TZID=Europe/Paris:20250209T113000
DTEND;TZID=Europe/Paris:20250209T123000
DTSTAMP:20260422T004727
CREATED:20240129T164656Z
LAST-MODIFIED:20240822T083853Z
UID:10062-1739100600-1739104200@jeannedarc-versailles.com
SUMMARY:Messe des anniversaires de mariage
DESCRIPTION:Messe des anniversaires de mariage\nle 9 février 2025\nà la messe de 11h30 à SJA\nVous avez 10\, 20\, 30\, 40\, 45\, 50\, 55 … ans (et +) de mariage en 2025\,\ninscrivez vous pour recevoir une bénédiction particulière à cette occasion.\nInscrivez vous via le formulaire en cliquant en cliquant ici ou en appelant le secrétariat au 01 39 02 14 87
URL:https://jeannedarc-versailles.com/event/messe-des-anniversaires-de-mariage/
LOCATION:Eglise Sainte-Jeanne d’Arc\, 5 rue Jules Raulin\, Versailles\, 78000
END:VEVENT
BEGIN:VEVENT
DTSTART;TZID=Europe/Paris:20250210T203000
DTEND;TZID=Europe/Paris:20250210T220000
DTSTAMP:20260422T004727
CREATED:20240822T113222Z
LAST-MODIFIED:20240822T113222Z
UID:11364-1739219400-1739224800@jeannedarc-versailles.com
SUMMARY:Groupe œcuménique « Réconciliation »
DESCRIPTION:Louange et prière charismatique (Eglise Ste-Jeanne d’Arc- Salle Cana)
URL:https://jeannedarc-versailles.com/event/groupe-oecumenique-reconciliation-22/
LOCATION:Salles paroissiales de Sainte-Jeanne d’Arc\, 5 rue Jules Raulin\, Versailles\, 78000\, France
END:VEVENT
BEGIN:VEVENT
DTSTART;TZID=Europe/Paris:20250212T140000
DTEND;TZID=Europe/Paris:20250212T150000
DTSTAMP:20260422T004727
CREATED:20240216T103321Z
LAST-MODIFIED:20250210T134115Z
UID:10293-1739368800-1739372400@jeannedarc-versailles.com
SUMMARY:Chapelet des enfants
DESCRIPTION:Les Clairettes de SJA\nproposent à tous les enfants de la paroisse\nde venir les rejoindre pour un chapelet\ndevant la statue de la Vierge Marie dans l’église\nmercredi 12 février de 14h à 15h \n 
URL:https://jeannedarc-versailles.com/event/chapelet-des-enfants-2/
LOCATION:Eglise Sainte-Jeanne d’Arc\, 5 rue Jules Raulin\, Versailles\, 78000
END:VEVENT
BEGIN:VEVENT
DTSTART;TZID=Europe/Paris:20250212T194500
DTEND;TZID=Europe/Paris:20250212T223000
DTSTAMP:20260422T004727
CREATED:20240822T104128Z
LAST-MODIFIED:20240822T104128Z
UID:11310-1739389500-1739399400@jeannedarc-versailles.com
SUMMARY:"Rien que pour aujourd'hui"
DESCRIPTION:Viser la sainteté quel que soit son état de vie \nParticipation du père Callery. Réunion autour de la lettre apostolique « La joie et l’Allégresse » du Pape François \n2 temps proposés précédant la réunion (vous arrivez quand vous pouvez !) \n\n19h-20h : Adoration (chapelle Ste-Clotilde)\n20h-20h45 (salle Jérusalem) : partage repas convivial (apportez ce qu’il vous plaira).\n\nToutes les infos par ici 
URL:https://jeannedarc-versailles.com/event/rien-que-pour-aujourdhui-4/
LOCATION:salle Jérusalem
END:VEVENT
BEGIN:VEVENT
DTSTART;TZID=Europe/Paris:20250213T204500
DTEND;TZID=Europe/Paris:20250213T223000
DTSTAMP:20260422T004727
CREATED:20240129T162707Z
LAST-MODIFIED:20250203T211644Z
UID:10050-1739479500-1739485800@jeannedarc-versailles.com
SUMMARY:Soirée compassion
DESCRIPTION:Les prêtres de notre paroisse et le service de l’APS vous appellent à participer à la\nSOIRÉE COMPASSION\nqui aura lieu le jeudi 13 février 2025 à 20h45 dans l’église\, \nProche ou non de l’Eglise\, vous êtes tous invités à venir confier fardeaux et souffrances de votre vie ou de celles de vos proches à l’intercession de la communauté paroissiale de Sainte Jeanne d’Arc qui vous accueille et prie pour vous. \nLors de cette veillée de prière et d’adoration\, venez découvrir le chemin d’espérance et de pacification intérieure inédit ouvert par le Christ pour nous libérer du poids des pardons non-donnés ou trop difficiles\, souvent causes de blocages et de tourments dans notre vie. \nUn enseignement et une démarche intérieure seront proposés en ce sens. \nVous pourrez également recevoir une bénédiction personnelle des mains des prêtres\, source de réconfort\, de consolation et d’espérance pour votre route. \nInvitez et venez nombreux !
URL:https://jeannedarc-versailles.com/event/soiree-compassion-3/
LOCATION:Eglise Sainte-Jeanne d’Arc\, 5 rue Jules Raulin\, Versailles\, 78000
END:VEVENT
END:VCALENDAR