BEGIN:VCALENDAR
VERSION:2.0
PRODID:-//Paroisse sainte Jeanne d&#039;Arc de Versailles - ECPv6.2.5//NONSGML v1.0//EN
CALSCALE:GREGORIAN
METHOD:PUBLISH
X-ORIGINAL-URL:https://jeannedarc-versailles.com
X-WR-CALDESC:évènements pour Paroisse sainte Jeanne d&#039;Arc de Versailles
REFRESH-INTERVAL;VALUE=DURATION:PT1H
X-Robots-Tag:noindex
X-PUBLISHED-TTL:PT1H
BEGIN:VTIMEZONE
TZID:Europe/Paris
BEGIN:DAYLIGHT
TZOFFSETFROM:+0100
TZOFFSETTO:+0200
TZNAME:CEST
DTSTART:20250330T010000
END:DAYLIGHT
BEGIN:STANDARD
TZOFFSETFROM:+0200
TZOFFSETTO:+0100
TZNAME:CET
DTSTART:20251026T010000
END:STANDARD
END:VTIMEZONE
BEGIN:VEVENT
DTSTART;TZID=Europe/Paris:20250103T200000
DTEND;TZID=Europe/Paris:20250103T220000
DTSTAMP:20260422T004942
CREATED:20240822T093619Z
LAST-MODIFIED:20240822T093619Z
UID:11240-1735934400-1735941600@jeannedarc-versailles.com
SUMMARY:Adoration premier vendredi du mois
DESCRIPTION:« Mon plus grand contentement est d’être devant\nle Saint-Sacrement où mon coeur est dans son centre ».\nSainte Marguerite-Marie Alacoque\nAdoration\, louange et confessions de 20h à 22h \nAnimation par les scouts de 20h à 21h\, puis par un groupe de paroissien de 21h à 22h \nTous les renseignements en cliquant ici
URL:https://jeannedarc-versailles.com/event/adoration-premier-vendredi-du-mois-4/
LOCATION:Eglise Sainte-Jeanne d’Arc\, 5 rue Jules Raulin\, Versailles\, 78000
END:VEVENT
BEGIN:VEVENT
DTSTART;TZID=Europe/Paris:20250106T203000
DTEND;TZID=Europe/Paris:20250106T220000
DTSTAMP:20260422T004942
CREATED:20240822T112850Z
LAST-MODIFIED:20240822T112850Z
UID:11356-1736195400-1736200800@jeannedarc-versailles.com
SUMMARY:Groupe œcuménique « Réconciliation »
DESCRIPTION:Louange et prière charismatique (Eglise Ste-Jeanne d’Arc- Salle Cana)
URL:https://jeannedarc-versailles.com/event/groupe-oecumenique-reconciliation-18/
LOCATION:Salles paroissiales de Sainte-Jeanne d’Arc\, 5 rue Jules Raulin\, Versailles\, 78000\, France
END:VEVENT
BEGIN:VEVENT
DTSTART;TZID=Europe/Paris:20250107T143000
DTEND;TZID=Europe/Paris:20250107T160000
DTSTAMP:20260422T004942
CREATED:20240822T100121Z
LAST-MODIFIED:20240822T100121Z
UID:11277-1736260200-1736265600@jeannedarc-versailles.com
SUMMARY:"Atelier mémoire"
DESCRIPTION:Equipes Saint Vincent
URL:https://jeannedarc-versailles.com/event/atelier-memoire-11/
LOCATION:Salles paroissiales de Sainte-Jeanne d’Arc\, 5 rue Jules Raulin\, Versailles\, 78000\, France
END:VEVENT
BEGIN:VEVENT
DTSTART;TZID=Europe/Paris:20250108T204500
DTEND;TZID=Europe/Paris:20250108T220000
DTSTAMP:20260422T004942
CREATED:20241228T152719Z
LAST-MODIFIED:20241228T155547Z
UID:11983-1736369100-1736373600@jeannedarc-versailles.com
SUMMARY:Conférence "Qu’est-ce que le Shabbat ?"
DESCRIPTION:Qu’est-ce que le Shabbat ?\nA la demande de fidèles de la paroisse Sainte Jeanne d’Arc\,\nMonsieur le rabbin Toledano a accepté de nous\nparler de ce point central de la foi et de la pratique juive.\nVenez découvrir le Shabbat à travers les âges et aujourd’hui ! \nMercredi 8 janvier 2025 à 20h30\,\n\nau Centre communautaire israélite\, \n39 rue de Versailles au Chesnay.\nInscription obligatoire ici
URL:https://jeannedarc-versailles.com/event/conference/
END:VEVENT
BEGIN:VEVENT
DTSTART;TZID=Europe/Paris:20250113T203000
DTEND;TZID=Europe/Paris:20250113T220000
DTSTAMP:20260422T004942
CREATED:20240822T112922Z
LAST-MODIFIED:20240822T112922Z
UID:11358-1736800200-1736805600@jeannedarc-versailles.com
SUMMARY:Groupe œcuménique « Réconciliation »
DESCRIPTION:Louange et prière charismatique (Eglise Ste-Jeanne d’Arc- Salle Cana)
URL:https://jeannedarc-versailles.com/event/groupe-oecumenique-reconciliation-19/
LOCATION:Salles paroissiales de Sainte-Jeanne d’Arc\, 5 rue Jules Raulin\, Versailles\, 78000\, France
END:VEVENT
BEGIN:VEVENT
DTSTART;TZID=Europe/Paris:20250114T203000
DTEND;TZID=Europe/Paris:20250114T220000
DTSTAMP:20260422T004942
CREATED:20250109T105450Z
LAST-MODIFIED:20250109T105738Z
UID:12028-1736886600-1736892000@jeannedarc-versailles.com
SUMMARY:Veillée Misericordia
DESCRIPTION:Toutes les infos 👉 ici
URL:https://jeannedarc-versailles.com/event/veillee-misericordia/
LOCATION:Eglise Sainte-Jeanne d’Arc\, 5 rue Jules Raulin\, Versailles\, 78000
END:VEVENT
BEGIN:VEVENT
DTSTART;TZID=Europe/Paris:20250120T203000
DTEND;TZID=Europe/Paris:20250120T220000
DTSTAMP:20260422T004942
CREATED:20240822T113005Z
LAST-MODIFIED:20240822T113005Z
UID:11360-1737405000-1737410400@jeannedarc-versailles.com
SUMMARY:Groupe œcuménique « Réconciliation »
DESCRIPTION:Louange et prière charismatique (Eglise Ste-Jeanne d’Arc- Salle Cana)
URL:https://jeannedarc-versailles.com/event/groupe-oecumenique-reconciliation-20/
LOCATION:Salles paroissiales de Sainte-Jeanne d’Arc\, 5 rue Jules Raulin\, Versailles\, 78000\, France
END:VEVENT
BEGIN:VEVENT
DTSTART;TZID=Europe/Paris:20250121T143000
DTEND;TZID=Europe/Paris:20250121T160000
DTSTAMP:20260422T004942
CREATED:20240822T100153Z
LAST-MODIFIED:20240822T100153Z
UID:11279-1737469800-1737475200@jeannedarc-versailles.com
SUMMARY:"Atelier mémoire"
DESCRIPTION:Equipes Saint Vincent
URL:https://jeannedarc-versailles.com/event/atelier-memoire-12/
LOCATION:Salles paroissiales de Sainte-Jeanne d’Arc\, 5 rue Jules Raulin\, Versailles\, 78000\, France
END:VEVENT
BEGIN:VEVENT
DTSTART;TZID=Europe/Paris:20250124T181500
DTEND;TZID=Europe/Paris:20250124T213000
DTSTAMP:20260422T004942
CREATED:20240822T095002Z
LAST-MODIFIED:20240822T095002Z
UID:11258-1737742500-1737754200@jeannedarc-versailles.com
SUMMARY:Ciné-club des collégiens
DESCRIPTION:Inscrivez votre enfant au ciné-club du 24 janvier ! \nCliquez ici
URL:https://jeannedarc-versailles.com/event/cine-club-des-collegiens-10/
LOCATION:salle Jérusalem
END:VEVENT
BEGIN:VEVENT
DTSTART;TZID=Europe/Paris:20250125T193000
DTEND;TZID=Europe/Paris:20250125T210000
DTSTAMP:20260422T004942
CREATED:20241129T092742Z
LAST-MODIFIED:20241129T100359Z
UID:11863-1737833400-1737838800@jeannedarc-versailles.com
SUMMARY:Conférence du Père Gaspard Craplet
DESCRIPTION:Jeunes\, parents\, grands-parents\, vous êtes tous attendus à la conférence\ndu Père Gaspard Craplet\,\nqui vient à l’occasion de la sortie de son livre :\nLibres ! Pour aimer en vérité\nLa vie affective est une aventure formidable !\nSamedi 25 janvier à 19h30\nà l’église Sainte-Jeanne d’Arc \nPlus d’informations ici
URL:https://jeannedarc-versailles.com/event/conference-du-pere-gaspard-craplet/
LOCATION:Eglise Sainte-Jeanne d’Arc\, 5 rue Jules Raulin\, Versailles\, 78000
END:VEVENT
BEGIN:VEVENT
DTSTART;TZID=Europe/Paris:20250125T201500
DTEND;TZID=Europe/Paris:20250125T220000
DTSTAMP:20260422T004942
CREATED:20250109T110044Z
LAST-MODIFIED:20250109T110232Z
UID:12032-1737836100-1737842400@jeannedarc-versailles.com
SUMMARY:Tournois de bridge au profit de la paroisse
DESCRIPTION:Toutes les infos 👉 ici
URL:https://jeannedarc-versailles.com/event/tournois-de-bridge-au-profit-de-la-paroisse/
LOCATION:salle Jérusalem
END:VEVENT
BEGIN:VEVENT
DTSTART;TZID=Europe/Paris:20250128T150000
DTEND;TZID=Europe/Paris:20250128T160000
DTSTAMP:20260422T004942
CREATED:20240204T093049Z
LAST-MODIFIED:20250109T130424Z
UID:7635-1738076400-1738080000@jeannedarc-versailles.com
SUMMARY:Récollection pour le sacrement des malades
DESCRIPTION:Samedi 8 février 2025 :\nle sacrement de l’onction des malades sera célébré à l’église Ste Jeanne d’Arc lors de la messe à 10h30. \nMardi 28 janvier\, de 15h à 16h :\nune récollection pour la préparation de ce sacrement aura lieu dans les locaux de la paroisse avec le Père Callery. \nVous souhaitez recevoir ce sacrement ?\nVous souhaitez discerner sur ce sujet ? \n⇒ Contactez l’APS : par mail : aps.sacrement@jeannedarc-versailles.com ou par téléphone auprès de Laurence Ozanne : 06 09 65 02 60.
URL:https://jeannedarc-versailles.com/event/recollection-pour-le-sacrement-des-malades/
LOCATION:salle Jérusalem
END:VEVENT
END:VCALENDAR