BEGIN:VCALENDAR
VERSION:2.0
PRODID:-//Paroisse sainte Jeanne d&#039;Arc de Versailles - ECPv6.2.5//NONSGML v1.0//EN
CALSCALE:GREGORIAN
METHOD:PUBLISH
X-WR-CALNAME:Paroisse sainte Jeanne d&#039;Arc de Versailles
X-ORIGINAL-URL:https://jeannedarc-versailles.com
X-WR-CALDESC:évènements pour Paroisse sainte Jeanne d&#039;Arc de Versailles
REFRESH-INTERVAL;VALUE=DURATION:PT1H
X-Robots-Tag:noindex
X-PUBLISHED-TTL:PT1H
BEGIN:VTIMEZONE
TZID:Europe/Paris
BEGIN:DAYLIGHT
TZOFFSETFROM:+0100
TZOFFSETTO:+0200
TZNAME:CEST
DTSTART:20240331T010000
END:DAYLIGHT
BEGIN:STANDARD
TZOFFSETFROM:+0200
TZOFFSETTO:+0100
TZNAME:CET
DTSTART:20241027T010000
END:STANDARD
END:VTIMEZONE
BEGIN:VEVENT
DTSTART;TZID=Europe/Paris:20241202T203000
DTEND;TZID=Europe/Paris:20241202T220000
DTSTAMP:20260421T213702
CREATED:20240822T112635Z
LAST-MODIFIED:20240822T112635Z
UID:11352-1733171400-1733176800@jeannedarc-versailles.com
SUMMARY:Groupe œcuménique « Réconciliation »
DESCRIPTION:Louange et prière charismatique (Eglise Ste-Jeanne d’Arc- Salle Cana)
URL:https://jeannedarc-versailles.com/event/groupe-oecumenique-reconciliation-16/
LOCATION:Salles paroissiales de Sainte-Jeanne d’Arc\, 5 rue Jules Raulin\, Versailles\, 78000\, France
END:VEVENT
BEGIN:VEVENT
DTSTART;TZID=Europe/Paris:20241203T143000
DTEND;TZID=Europe/Paris:20241203T160000
DTSTAMP:20260421T213702
CREATED:20240822T095921Z
LAST-MODIFIED:20240822T095921Z
UID:11273-1733236200-1733241600@jeannedarc-versailles.com
SUMMARY:"Atelier mémoire"
DESCRIPTION:Equipes Saint Vincent
URL:https://jeannedarc-versailles.com/event/atelier-memoire-9/
LOCATION:Salles paroissiales de Sainte-Jeanne d’Arc\, 5 rue Jules Raulin\, Versailles\, 78000\, France
END:VEVENT
BEGIN:VEVENT
DTSTART;TZID=Europe/Paris:20241206T200000
DTEND;TZID=Europe/Paris:20241206T220000
DTSTAMP:20260421T213702
CREATED:20240822T093416Z
LAST-MODIFIED:20240822T093416Z
UID:11238-1733515200-1733522400@jeannedarc-versailles.com
SUMMARY:Adoration premier vendredi du mois
DESCRIPTION:« Mon plus grand contentement est d’être devant\nle Saint-Sacrement où mon coeur est dans son centre ».\nSainte Marguerite-Marie Alacoque\nAdoration\, louange et confessions de 20h à 22h \nAnimation par les scouts de 20h à 21h\, puis par un groupe de paroissien de 21h à 22h \nTous les renseignements en cliquant ici
URL:https://jeannedarc-versailles.com/event/adoration-premier-vendredi-du-mois-3/
LOCATION:Eglise Sainte-Jeanne d’Arc\, 5 rue Jules Raulin\, Versailles\, 78000
END:VEVENT
BEGIN:VEVENT
DTSTART;TZID=Europe/Paris:20241207T203000
DTEND;TZID=Europe/Paris:20241207T223000
DTSTAMP:20260421T213702
CREATED:20241121T172802Z
LAST-MODIFIED:20241129T092103Z
UID:11844-1733603400-1733610600@jeannedarc-versailles.com
SUMMARY:Concert pour le Liban
DESCRIPTION:Après le succès de l’année dernière\, l’Association MSL en partenariat avec Libanais En Yvelines (LEY) vous invite au Concert de Noël : *Chants et Voix pour l’Espoir*.\n\n\nLe 7 décembre à Versailles\, la magie opèrera avec les voix envoûtantes de Christiane Najjar et les mélodies sublimes d’Elie Maalouf.\n\n\nTous les bénéfices seront reversés au Liban-Sud.\n\n\nÉglise Sainte-Jeanne d’Arc\, 20h30\n\n\n Date : 7 décembre 2024\n Heure : 20:30\n Lieu : Église Sainte-jeanne d’arc\, Versailles\n\n\nBillet : Participation Libre\n\n\nNous vous invitons à réserver vos places en ligne pour nous aider dans la logistique.\n\n\nhttps://www.helloasso.com/…/recital-noel-d-espoir-pour…\n\n\nMerci
URL:https://jeannedarc-versailles.com/event/concert-pour-le-liban/
LOCATION:Eglise Sainte-Jeanne d’Arc\, 5 rue Jules Raulin\, Versailles\, 78000
END:VEVENT
BEGIN:VEVENT
DTSTART;TZID=Europe/Paris:20241210T200000
DTEND;TZID=Europe/Paris:20241210T223000
DTSTAMP:20260421T213702
CREATED:20240822T104939Z
LAST-MODIFIED:20240822T105306Z
UID:11318-1733860800-1733869800@jeannedarc-versailles.com
SUMMARY:Soirée Spi&Spi pour les hommes
DESCRIPTION:Vous êtes un homme de plus de 35 ans\, \nEtes-vous prêts à participer à notre prochaine soirée  \nSpi&Spi (spiriuel et spiritueux) ? \nRDV le 10 décembre prochain \nNe perdez-pas de temps pour vous inscrire! \nToutes les infos ici ! \n 
URL:https://jeannedarc-versailles.com/event/soiree-spispi-pour-les-hommes-2/
LOCATION:salle Jérusalem
END:VEVENT
BEGIN:VEVENT
DTSTART;TZID=Europe/Paris:20241212T194500
DTEND;TZID=Europe/Paris:20241212T223000
DTSTAMP:20260421T213702
CREATED:20240822T104032Z
LAST-MODIFIED:20240822T104032Z
UID:11308-1734032700-1734042600@jeannedarc-versailles.com
SUMMARY:"Rien que pour aujourd'hui"
DESCRIPTION:Viser la sainteté quel que soit son état de vie \nParticipation du père Callery. Réunion autour de la lettre apostolique « La joie et l’Allégresse » du Pape François \n2 temps proposés précédant la réunion (vous arrivez quand vous pouvez !) \n\n19h-20h : Adoration (chapelle Ste-Clotilde)\n20h-20h45 (salle Jérusalem) : partage repas convivial (apportez ce qu’il vous plaira).\n\nToutes les infos par ici 
URL:https://jeannedarc-versailles.com/event/rien-que-pour-aujourdhui-3/
LOCATION:salle Jérusalem
END:VEVENT
BEGIN:VEVENT
DTSTART;TZID=Europe/Paris:20241213T204500
DTEND;TZID=Europe/Paris:20241213T220000
DTSTAMP:20260421T213702
CREATED:20231203T220220Z
LAST-MODIFIED:20241202T091623Z
UID:9765-1734122700-1734127200@jeannedarc-versailles.com
SUMMARY:Veillée de l'Avent
DESCRIPTION:Deuxième veillée de l’avent à l’église Sainte-Jeanne d’Arc \nSuivie d’un vin chaud !
URL:https://jeannedarc-versailles.com/event/veillee-de-lavent/
LOCATION:Eglise Sainte-Jeanne d’Arc\, 5 rue Jules Raulin\, Versailles\, 78000
END:VEVENT
BEGIN:VEVENT
DTSTART;TZID=Europe/Paris:20241214T150000
DTEND;TZID=Europe/Paris:20241214T180000
DTSTAMP:20260421T213702
CREATED:20231111T151523Z
LAST-MODIFIED:20240822T102102Z
UID:9513-1734188400-1734199200@jeannedarc-versailles.com
SUMMARY:Un quartier\, un défi - ciné club
DESCRIPTION:Un moment convivial autour d’un goûter et d’un film\, suivi d’un débat. \nPour les enfants de 6 à 10 ans.
URL:https://jeannedarc-versailles.com/event/un-quartier-un-defi-cine-club/
LOCATION:salle Jérusalem
END:VEVENT
BEGIN:VEVENT
DTSTART;TZID=Europe/Paris:20241216T203000
DTEND;TZID=Europe/Paris:20241216T220000
DTSTAMP:20260421T213702
CREATED:20240822T112707Z
LAST-MODIFIED:20240822T112738Z
UID:11354-1734381000-1734386400@jeannedarc-versailles.com
SUMMARY:Groupe œcuménique « Réconciliation »
DESCRIPTION:Louange et prière charismatique (Eglise Ste-Jeanne d’Arc- Salle Cana)
URL:https://jeannedarc-versailles.com/event/groupe-oecumenique-reconciliation-17/
LOCATION:Salles paroissiales de Sainte-Jeanne d’Arc\, 5 rue Jules Raulin\, Versailles\, 78000\, France
END:VEVENT
BEGIN:VEVENT
DTSTART;TZID=Europe/Paris:20241217T143000
DTEND;TZID=Europe/Paris:20241217T160000
DTSTAMP:20260421T213702
CREATED:20240822T100029Z
LAST-MODIFIED:20240822T100029Z
UID:11275-1734445800-1734451200@jeannedarc-versailles.com
SUMMARY:"Atelier mémoire"
DESCRIPTION:Equipes Saint Vincent
URL:https://jeannedarc-versailles.com/event/atelier-memoire-10/
LOCATION:Salles paroissiales de Sainte-Jeanne d’Arc\, 5 rue Jules Raulin\, Versailles\, 78000\, France
END:VEVENT
BEGIN:VEVENT
DTSTART;TZID=Europe/Paris:20241217T200000
DTEND;TZID=Europe/Paris:20241217T220000
DTSTAMP:20260421T213702
CREATED:20241216T130028Z
LAST-MODIFIED:20241216T130603Z
UID:11950-1734465600-1734472800@jeannedarc-versailles.com
SUMMARY:Soirée confessions
DESCRIPTION:17 prêtres viendront à Ste Jeanne d’Arc pour venir donner le sacrement de la miséricorde (confessions) à tous ceux qui le désirent. Vous êtes les bienvenus librement entre 20h et 22h. \nNous vous encourageons à vivre cette belle réconciliation avec le Seigneur à quelques heures de Noël !
URL:https://jeannedarc-versailles.com/event/soiree-confessions/
LOCATION:Salle Sainte Marie
END:VEVENT
BEGIN:VEVENT
DTSTART;TZID=Europe/Paris:20241220T200000
DTEND;TZID=Europe/Paris:20241220T210000
DTSTAMP:20260421T213702
CREATED:20221127T165925Z
LAST-MODIFIED:20240822T105926Z
UID:7190-1734724800-1734728400@jeannedarc-versailles.com
SUMMARY:2ème Veillée de l'Avent
DESCRIPTION:Seconde veillée de l’Avent à l’église Sainte-Jeanne d’Arc
URL:https://jeannedarc-versailles.com/event/2eme-veillee-de-lavent-2/
LOCATION:chapelle St Joseph\, boulevard de Glatigny\, Versailles\, 78000
END:VEVENT
END:VCALENDAR