BEGIN:VCALENDAR
VERSION:2.0
PRODID:-//Paroisse sainte Jeanne d&#039;Arc de Versailles - ECPv6.2.5//NONSGML v1.0//EN
CALSCALE:GREGORIAN
METHOD:PUBLISH
X-WR-CALNAME:Paroisse sainte Jeanne d&#039;Arc de Versailles
X-ORIGINAL-URL:https://jeannedarc-versailles.com
X-WR-CALDESC:évènements pour Paroisse sainte Jeanne d&#039;Arc de Versailles
REFRESH-INTERVAL;VALUE=DURATION:PT1H
X-Robots-Tag:noindex
X-PUBLISHED-TTL:PT1H
BEGIN:VTIMEZONE
TZID:Europe/Paris
BEGIN:DAYLIGHT
TZOFFSETFROM:+0100
TZOFFSETTO:+0200
TZNAME:CEST
DTSTART:20240331T010000
END:DAYLIGHT
BEGIN:STANDARD
TZOFFSETFROM:+0200
TZOFFSETTO:+0100
TZNAME:CET
DTSTART:20241027T010000
END:STANDARD
END:VTIMEZONE
BEGIN:VEVENT
DTSTART;TZID=Europe/Paris:20241101T200000
DTEND;TZID=Europe/Paris:20241101T220000
DTSTAMP:20260421T200000
CREATED:20240822T093238Z
LAST-MODIFIED:20240822T093238Z
UID:11235-1730491200-1730498400@jeannedarc-versailles.com
SUMMARY:Adoration premier vendredi du mois
DESCRIPTION:« Mon plus grand contentement est d’être devant\nle Saint-Sacrement où mon coeur est dans son centre ».\nSainte Marguerite-Marie Alacoque\nAdoration\, louange et confessions de 20h à 22h \nAnimation par les scouts de 20h à 21h\, puis par un groupe de paroissien de 21h à 22h \nTous les renseignements en cliquant ici
URL:https://jeannedarc-versailles.com/event/adoration-premier-vendredi-du-mois-2/
LOCATION:Eglise Sainte-Jeanne d’Arc\, 5 rue Jules Raulin\, Versailles\, 78000
END:VEVENT
BEGIN:VEVENT
DTSTART;TZID=Europe/Paris:20241104T203000
DTEND;TZID=Europe/Paris:20241104T220000
DTSTAMP:20260421T200000
CREATED:20240822T112403Z
LAST-MODIFIED:20240822T112403Z
UID:11346-1730752200-1730757600@jeannedarc-versailles.com
SUMMARY:Groupe œcuménique « Réconciliation »
DESCRIPTION:Louange et prière charismatique (Eglise Ste-Jeanne d’Arc- Salle Cana)
URL:https://jeannedarc-versailles.com/event/groupe-oecumenique-reconciliation-13/
LOCATION:Salles paroissiales de Sainte-Jeanne d’Arc\, 5 rue Jules Raulin\, Versailles\, 78000\, France
END:VEVENT
BEGIN:VEVENT
DTSTART;TZID=Europe/Paris:20241105T143000
DTEND;TZID=Europe/Paris:20241105T160000
DTSTAMP:20260421T200000
CREATED:20240822T095851Z
LAST-MODIFIED:20240822T095851Z
UID:11271-1730817000-1730822400@jeannedarc-versailles.com
SUMMARY:"Atelier mémoire"
DESCRIPTION:Equipes Saint Vincent
URL:https://jeannedarc-versailles.com/event/atelier-memoire-8/
LOCATION:Salles paroissiales de Sainte-Jeanne d’Arc\, 5 rue Jules Raulin\, Versailles\, 78000\, France
END:VEVENT
BEGIN:VEVENT
DTSTART;TZID=Europe/Paris:20241106T194500
DTEND;TZID=Europe/Paris:20241106T210000
DTSTAMP:20260421T200000
CREATED:20241103T210716Z
LAST-MODIFIED:20241103T212123Z
UID:11731-1730922300-1730926800@jeannedarc-versailles.com
SUMMARY:Dîner paroissial du 1er mercredi du mois
DESCRIPTION:Chaque premier mercredi du mois (hors vacances)\, c’est un moment de rencontre et d’amitié entre tous les paroissiens . \nDe 19h45 à 21h\, salle Jérusalem\, sous l’église Sainte-Jeanne d’Arc \nTous les renseignements en cliquant ICI
URL:https://jeannedarc-versailles.com/event/diner-paroissial-du-1er-mercredi-du-mois-4/
LOCATION:salle Jérusalem
END:VEVENT
BEGIN:VEVENT
DTSTART;TZID=Europe/Paris:20241112T204500
DTEND;TZID=Europe/Paris:20241112T223000
DTSTAMP:20260421T200000
CREATED:20241105T162704Z
LAST-MODIFIED:20241105T162704Z
UID:11738-1731444300-1731450600@jeannedarc-versailles.com
SUMMARY:Réunion d'information Hiver Solidaire
DESCRIPTION:Vous êtes intéressé(e) par le projet Hiver Solidaire de la paroisse ?\nRDV Le mardi 12 novembre à 20h45 ! \nPour découvrir le projet\, rdv ici
URL:https://jeannedarc-versailles.com/event/reunion-dinformation-hiver-solidaire/
LOCATION:Salle Sainte Marie
END:VEVENT
BEGIN:VEVENT
DTSTART;TZID=Europe/Paris:20241116T080000
DTEND;TZID=Europe/Paris:20241116T190000
DTSTAMP:20260421T200000
CREATED:20231105T162723Z
LAST-MODIFIED:20240822T101621Z
UID:9460-1731744000-1731783600@jeannedarc-versailles.com
SUMMARY:Pèlerinage à Montmartre
DESCRIPTION:Vous êtes tous invités au pèlerinage des adorateurs le Samedi 16Novembre !\n20km de marche de Sainte-Jeanne d’Arc au Sacré Coeur de Montmartre \nReliant ainsi ces deux lieux d’adoration. \nAccessible à tous ! \nLes inscriptions sont encore ouvertes :
URL:https://jeannedarc-versailles.com/event/pelerinage-a-montmartre-3/
END:VEVENT
BEGIN:VEVENT
DTSTART;TZID=Europe/Paris:20241118T203000
DTEND;TZID=Europe/Paris:20241118T220000
DTSTAMP:20260421T200000
CREATED:20240822T112438Z
LAST-MODIFIED:20240822T112438Z
UID:11348-1731961800-1731967200@jeannedarc-versailles.com
SUMMARY:Groupe œcuménique « Réconciliation »
DESCRIPTION:Louange et prière charismatique (Eglise Ste-Jeanne d’Arc- Salle Cana)
URL:https://jeannedarc-versailles.com/event/groupe-oecumenique-reconciliation-14/
LOCATION:Salles paroissiales de Sainte-Jeanne d’Arc\, 5 rue Jules Raulin\, Versailles\, 78000\, France
END:VEVENT
BEGIN:VEVENT
DTSTART;TZID=Europe/Paris:20241119T143000
DTEND;TZID=Europe/Paris:20241119T160000
DTSTAMP:20260421T200000
CREATED:20240822T095626Z
LAST-MODIFIED:20240822T095801Z
UID:11269-1732026600-1732032000@jeannedarc-versailles.com
SUMMARY:"Atelier mémoire"
DESCRIPTION:Equipes Saint Vincent
URL:https://jeannedarc-versailles.com/event/atelier-memoire-7/
LOCATION:Salles paroissiales de Sainte-Jeanne d’Arc\, 5 rue Jules Raulin\, Versailles\, 78000\, France
END:VEVENT
BEGIN:VEVENT
DTSTART;TZID=Europe/Paris:20241125T203000
DTEND;TZID=Europe/Paris:20241125T220000
DTSTAMP:20260421T200000
CREATED:20240822T112552Z
LAST-MODIFIED:20240822T112552Z
UID:11350-1732566600-1732572000@jeannedarc-versailles.com
SUMMARY:Groupe œcuménique « Réconciliation »
DESCRIPTION:Louange et prière charismatique (Eglise Ste-Jeanne d’Arc- Salle Cana)
URL:https://jeannedarc-versailles.com/event/groupe-oecumenique-reconciliation-15/
LOCATION:Salles paroissiales de Sainte-Jeanne d’Arc\, 5 rue Jules Raulin\, Versailles\, 78000\, France
END:VEVENT
BEGIN:VEVENT
DTSTART;TZID=Europe/Paris:20241129T181500
DTEND;TZID=Europe/Paris:20241129T213000
DTSTAMP:20260421T200000
CREATED:20240822T094910Z
LAST-MODIFIED:20240822T094910Z
UID:11256-1732904100-1732915800@jeannedarc-versailles.com
SUMMARY:Ciné-club des collégiens
DESCRIPTION:Inscrivez votre enfant au ciné-club du 29 novembre ! \nCliquez ici
URL:https://jeannedarc-versailles.com/event/cine-club-des-collegiens-9/
LOCATION:salle Jérusalem
END:VEVENT
BEGIN:VEVENT
DTSTART;TZID=Europe/Paris:20241129T204500
DTEND;TZID=Europe/Paris:20241129T223000
DTSTAMP:20260421T200000
CREATED:20241121T172239Z
LAST-MODIFIED:20241121T172239Z
UID:11842-1732913100-1732919400@jeannedarc-versailles.com
SUMMARY:L'homosexualité\, vous êtes concerné(e)?
DESCRIPTION:Groupe de partage de parents et proches de personnes homosexuelle \nToutes les infos 👉 ici 
URL:https://jeannedarc-versailles.com/event/lhomosexualite-vous-etes-concernee/
LOCATION:Salles paroissiales de Sainte-Jeanne d’Arc\, 5 rue Jules Raulin\, Versailles\, 78000\, France
END:VEVENT
END:VCALENDAR