BEGIN:VCALENDAR
VERSION:2.0
PRODID:-//Paroisse sainte Jeanne d&#039;Arc de Versailles - ECPv6.2.5//NONSGML v1.0//EN
CALSCALE:GREGORIAN
METHOD:PUBLISH
X-ORIGINAL-URL:https://jeannedarc-versailles.com
X-WR-CALDESC:évènements pour Paroisse sainte Jeanne d&#039;Arc de Versailles
REFRESH-INTERVAL;VALUE=DURATION:PT1H
X-Robots-Tag:noindex
X-PUBLISHED-TTL:PT1H
BEGIN:VTIMEZONE
TZID:Europe/Paris
BEGIN:DAYLIGHT
TZOFFSETFROM:+0100
TZOFFSETTO:+0200
TZNAME:CEST
DTSTART:20240331T010000
END:DAYLIGHT
BEGIN:STANDARD
TZOFFSETFROM:+0200
TZOFFSETTO:+0100
TZNAME:CET
DTSTART:20241027T010000
END:STANDARD
END:VTIMEZONE
BEGIN:VEVENT
DTSTART;TZID=Europe/Paris:20241001T094500
DTEND;TZID=Europe/Paris:20241001T104500
DTSTAMP:20260421T181907
CREATED:20240822T092005Z
LAST-MODIFIED:20240822T092005Z
UID:11224-1727775900-1727779500@jeannedarc-versailles.com
SUMMARY:Café du curé
DESCRIPTION:Café du curé :\nTous les mardis après la messe de 9h\, à l’accueil de l’église Sainte-Jeanne d’Arc
URL:https://jeannedarc-versailles.com/event/cafe-du-cure-4/
LOCATION:Eglise Sainte-Jeanne d’Arc\, 5 rue Jules Raulin\, Versailles\, 78000
END:VEVENT
BEGIN:VEVENT
DTSTART;TZID=Europe/Paris:20241001T143000
DTEND;TZID=Europe/Paris:20241001T160000
DTSTAMP:20260421T181907
CREATED:20240822T095502Z
LAST-MODIFIED:20240822T095502Z
UID:11265-1727793000-1727798400@jeannedarc-versailles.com
SUMMARY:"Atelier mémoire"
DESCRIPTION:Equipes Saint Vincent
URL:https://jeannedarc-versailles.com/event/atelier-memoire-5/
LOCATION:Salles paroissiales de Sainte-Jeanne d’Arc\, 5 rue Jules Raulin\, Versailles\, 78000\, France
END:VEVENT
BEGIN:VEVENT
DTSTART;TZID=Europe/Paris:20241004T200000
DTEND;TZID=Europe/Paris:20241004T220000
DTSTAMP:20260421T181907
CREATED:20240822T093027Z
LAST-MODIFIED:20240822T093027Z
UID:11233-1728072000-1728079200@jeannedarc-versailles.com
SUMMARY:Adoration premier vendredi du mois
DESCRIPTION:« Mon plus grand contentement est d’être devant\nle Saint-Sacrement où mon coeur est dans son centre ».\nSainte Marguerite-Marie Alacoque\nAdoration\, louange et confessions de 20h à 22h \nAnimation par les scouts de 20h à 21h\, puis par un groupe de paroissien de 21h à 22h \nTous les renseignements en cliquant ici
URL:https://jeannedarc-versailles.com/event/adoration-premier-vendredi-du-mois/
LOCATION:Eglise Sainte-Jeanne d’Arc\, 5 rue Jules Raulin\, Versailles\, 78000
END:VEVENT
BEGIN:VEVENT
DTSTART;TZID=Europe/Paris:20241007T203000
DTEND;TZID=Europe/Paris:20241007T220000
DTSTAMP:20260421T181907
CREATED:20240822T112035Z
LAST-MODIFIED:20240822T112035Z
UID:11342-1728333000-1728338400@jeannedarc-versailles.com
SUMMARY:Groupe œcuménique « Réconciliation »
DESCRIPTION:Louange et prière charismatique (Eglise Ste-Jeanne d’Arc- Salle Cana)
URL:https://jeannedarc-versailles.com/event/groupe-oecumenique-reconciliation-11/
LOCATION:Salles paroissiales de Sainte-Jeanne d’Arc\, 5 rue Jules Raulin\, Versailles\, 78000\, France
END:VEVENT
BEGIN:VEVENT
DTSTART;TZID=Europe/Paris:20241008T094500
DTEND;TZID=Europe/Paris:20241008T104500
DTSTAMP:20260421T181907
CREATED:20240822T092037Z
LAST-MODIFIED:20240822T092037Z
UID:11226-1728380700-1728384300@jeannedarc-versailles.com
SUMMARY:Café du curé
DESCRIPTION:Café du curé :\nTous les mardis après la messe de 9h\, à l’accueil de l’église Sainte-Jeanne d’Arc
URL:https://jeannedarc-versailles.com/event/cafe-du-cure-5/
LOCATION:Eglise Sainte-Jeanne d’Arc\, 5 rue Jules Raulin\, Versailles\, 78000
END:VEVENT
BEGIN:VEVENT
DTSTART;TZID=Europe/Paris:20241008T200000
DTEND;TZID=Europe/Paris:20241008T223000
DTSTAMP:20260421T181907
CREATED:20230604T070741Z
LAST-MODIFIED:20240822T105205Z
UID:9521-1728417600-1728426600@jeannedarc-versailles.com
SUMMARY:Soirée Spi&Spi pour les hommes
DESCRIPTION:Vous êtes un homme de plus de 35 ans\, \nEtes-vous prêts à participer à notre prochaine soirée \nSpi&Spi (spiriuel et spiritueux) ? \nRDV le 8 octobre prochain \nNe perdez-pas de temps pour vous inscrire! \nToutes les infos ici ! \n 
URL:https://jeannedarc-versailles.com/event/soiree-spispi-pour-les-hommes/
LOCATION:salle Jérusalem
END:VEVENT
BEGIN:VEVENT
DTSTART;TZID=Europe/Paris:20241009T190000
DTEND;TZID=Europe/Paris:20241009T200000
DTSTAMP:20260421T181907
CREATED:20241004T111633Z
LAST-MODIFIED:20241004T111633Z
UID:11607-1728500400-1728504000@jeannedarc-versailles.com
SUMMARY:Messe Maronite
DESCRIPTION:Le Comité Liban de la paroisse vous invite \nmercredi 9 octobre à 19h \nà la messe maronite célébrée par le Père Douaihy. \nCette messe sera suivie : \n\nd’un échange audio à 20h15 avec le Frère G. Sabé\, Mariste bleu en direct d’Alep\,\npuis d’une conférence à 20h45 « Le Liban va-t-il disparaître ? » de M.A. de Lacoste spécialiste en géopolitique du Proche Orient.
URL:https://jeannedarc-versailles.com/event/messe-maronite/
LOCATION:Eglise Sainte-Jeanne d’Arc\, 5 rue Jules Raulin\, Versailles\, 78000
END:VEVENT
BEGIN:VEVENT
DTSTART;TZID=Europe/Paris:20241009T194500
DTEND;TZID=Europe/Paris:20241009T223000
DTSTAMP:20260421T181907
CREATED:20241004T111856Z
LAST-MODIFIED:20241004T111856Z
UID:11609-1728503100-1728513000@jeannedarc-versailles.com
SUMMARY:Soirée conférence Liban
DESCRIPTION:Le Comité Liban de la paroisse vous invite \nmercredi 9 octobre à 19h \nà la messe maronite célébrée par le Père Douaihy. \nCette messe sera suivie : \n\nd’un échange audio à 20h15 avec le Frère G. Sabé\, Mariste bleu en direct d’Alep\,\npuis d’une conférence à 20h45 « Le Liban va-t-il disparaître ? » de M.A. de Lacoste spécialiste en géopolitique du Proche Orient.
URL:https://jeannedarc-versailles.com/event/soiree-conference-liban/
LOCATION:salle Jérusalem
END:VEVENT
BEGIN:VEVENT
DTSTART;TZID=Europe/Paris:20241011T181500
DTEND;TZID=Europe/Paris:20241011T213000
DTSTAMP:20260421T181907
CREATED:20240822T094757Z
LAST-MODIFIED:20240822T094757Z
UID:11254-1728670500-1728682200@jeannedarc-versailles.com
SUMMARY:Ciné-club des collégiens
DESCRIPTION:Inscrivez votre enfant au ciné-club du 11 octobre ! \nCliquez ici
URL:https://jeannedarc-versailles.com/event/cine-club-des-collegiens-8/
LOCATION:salle Jérusalem
END:VEVENT
BEGIN:VEVENT
DTSTART;TZID=Europe/Paris:20241014T203000
DTEND;TZID=Europe/Paris:20241014T220000
DTSTAMP:20260421T181907
CREATED:20240822T112200Z
LAST-MODIFIED:20240822T112200Z
UID:11344-1728937800-1728943200@jeannedarc-versailles.com
SUMMARY:Groupe œcuménique « Réconciliation »
DESCRIPTION:Louange et prière charismatique (Eglise Ste-Jeanne d’Arc- Salle Cana)
URL:https://jeannedarc-versailles.com/event/groupe-oecumenique-reconciliation-12/
LOCATION:Salles paroissiales de Sainte-Jeanne d’Arc\, 5 rue Jules Raulin\, Versailles\, 78000\, France
END:VEVENT
BEGIN:VEVENT
DTSTART;TZID=Europe/Paris:20241015T094500
DTEND;TZID=Europe/Paris:20241015T104500
DTSTAMP:20260421T181907
CREATED:20240822T092108Z
LAST-MODIFIED:20240822T092108Z
UID:11228-1728985500-1728989100@jeannedarc-versailles.com
SUMMARY:Café du curé
DESCRIPTION:Café du curé :\nTous les mardis après la messe de 9h\, à l’accueil de l’église Sainte-Jeanne d’Arc
URL:https://jeannedarc-versailles.com/event/cafe-du-cure-6/
LOCATION:Eglise Sainte-Jeanne d’Arc\, 5 rue Jules Raulin\, Versailles\, 78000
END:VEVENT
BEGIN:VEVENT
DTSTART;TZID=Europe/Paris:20241015T143000
DTEND;TZID=Europe/Paris:20241015T160000
DTSTAMP:20260421T181907
CREATED:20240822T095529Z
LAST-MODIFIED:20240822T095529Z
UID:11267-1729002600-1729008000@jeannedarc-versailles.com
SUMMARY:"Atelier mémoire"
DESCRIPTION:Equipes Saint Vincent
URL:https://jeannedarc-versailles.com/event/atelier-memoire-6/
LOCATION:Salles paroissiales de Sainte-Jeanne d’Arc\, 5 rue Jules Raulin\, Versailles\, 78000\, France
END:VEVENT
BEGIN:VEVENT
DTSTART;TZID=Europe/Paris:20241016T194500
DTEND;TZID=Europe/Paris:20241016T223000
DTSTAMP:20260421T181907
CREATED:20230226T081100Z
LAST-MODIFIED:20241014T092429Z
UID:9510-1729107900-1729117800@jeannedarc-versailles.com
SUMMARY:"Rien que pour aujourd'hui"
DESCRIPTION:Toutes les infos par ici 
URL:https://jeannedarc-versailles.com/event/rien-que-pour-aujourdhui-2/
LOCATION:salle Jérusalem
END:VEVENT
BEGIN:VEVENT
DTSTART;TZID=Europe/Paris:20241022T094500
DTEND;TZID=Europe/Paris:20241022T104500
DTSTAMP:20260421T181907
CREATED:20240822T092135Z
LAST-MODIFIED:20240822T092135Z
UID:11230-1729590300-1729593900@jeannedarc-versailles.com
SUMMARY:Café du curé
DESCRIPTION:Café du curé :\nTous les mardis après la messe de 9h\, à l’accueil de l’église Sainte-Jeanne d’Arc
URL:https://jeannedarc-versailles.com/event/cafe-du-cure-7/
LOCATION:Eglise Sainte-Jeanne d’Arc\, 5 rue Jules Raulin\, Versailles\, 78000
END:VEVENT
END:VCALENDAR