BEGIN:VCALENDAR
VERSION:2.0
PRODID:-//Paroisse sainte Jeanne d&#039;Arc de Versailles - ECPv6.2.5//NONSGML v1.0//EN
CALSCALE:GREGORIAN
METHOD:PUBLISH
X-ORIGINAL-URL:https://jeannedarc-versailles.com
X-WR-CALDESC:évènements pour Paroisse sainte Jeanne d&#039;Arc de Versailles
REFRESH-INTERVAL;VALUE=DURATION:PT1H
X-Robots-Tag:noindex
X-PUBLISHED-TTL:PT1H
BEGIN:VTIMEZONE
TZID:Europe/Paris
BEGIN:DAYLIGHT
TZOFFSETFROM:+0100
TZOFFSETTO:+0200
TZNAME:CEST
DTSTART:20220327T010000
END:DAYLIGHT
BEGIN:STANDARD
TZOFFSETFROM:+0200
TZOFFSETTO:+0100
TZNAME:CET
DTSTART:20221030T010000
END:STANDARD
END:VTIMEZONE
BEGIN:VEVENT
DTSTART;TZID=Europe/Paris:20220601T194500
DTEND;TZID=Europe/Paris:20220601T220000
DTSTAMP:20260423T191722
CREATED:20220505T102537Z
LAST-MODIFIED:20220505T145411Z
UID:6313-1654112700-1654120800@jeannedarc-versailles.com
SUMMARY:Diner du 1er mercredi du mois
DESCRIPTION:Reprise du dîner partage le mercredi 1er Juin à 19H45 dans la salle crypte\nChaque premier mercredi du mois (hors vacances)\, c’est un moment de rencontre et d’amitié entre tous les paroissiens .\nRavies de vous retrouver nombreux
URL:https://jeannedarc-versailles.com/event/diner-du-1er-mercredi-du-mois/
LOCATION:Crypte de Ste Jeanne d’Arc\, 5 rue Jules Raulin\, Versailles\, 78000\, France
ORGANIZER;CN="secr%C3%A9tariat":MAILTO:secretariat@jeannedarc-versailles.com
END:VEVENT
BEGIN:VEVENT
DTSTART;TZID=Europe/Paris:20220602T204500
DTEND;TZID=Europe/Paris:20220602T220000
DTSTAMP:20260423T191722
CREATED:20220520T124116Z
LAST-MODIFIED:20220520T124514Z
UID:6363-1654202700-1654207200@jeannedarc-versailles.com
SUMMARY:Veillée de Pentecôte
DESCRIPTION:Veillée de Pentecôte animée par le Verbe de Vie :  \n                                              Louange\, lecture de la Parole et\nEnseignement par le frère Jean-Baptiste Alsac. \nJeudi 2 juin à 20h45 dans l’église Sainte-Jeanne d’Arc \n  \n 
URL:https://jeannedarc-versailles.com/event/veillee-de-pentecote/
LOCATION:Eglise Sainte-Jeanne d’Arc\, 5 rue Jules Raulin\, Versailles\, 78000
ATTACH;FMTTYPE=image/jpeg:https://jeannedarc-versailles.com/wp-content/uploads/2022/05/flyer-veillee-esprit-saint-r-scaled.jpg
END:VEVENT
BEGIN:VEVENT
DTSTART;TZID=Europe/Paris:20220603T203000
DTEND;TZID=Europe/Paris:20220603T220000
DTSTAMP:20260423T191722
CREATED:20220529T172318Z
LAST-MODIFIED:20220529T172318Z
UID:6388-1654288200-1654293600@jeannedarc-versailles.com
SUMMARY:Adoration du 1er vendredi du mois
DESCRIPTION:Vendredi 1er avril\, église Ste Jeanne d’Arc\, 20h30-22h : Temps paroissial d’adoration du 1er vendredi du mois\nA la suite de la messe de 19h30. Cliquez ici pour les détails
URL:https://jeannedarc-versailles.com/event/adoration-du-1er-vendredi-du-mois-2/
LOCATION:Eglise Sainte-Jeanne d’Arc\, 5 rue Jules Raulin\, Versailles\, 78000
END:VEVENT
BEGIN:VEVENT
DTSTART;TZID=Europe/Paris:20220610T181500
DTEND;TZID=Europe/Paris:20220610T213000
DTSTAMP:20260423T191722
CREATED:20220409T212757Z
LAST-MODIFIED:20220529T172400Z
UID:6258-1654884900-1654896600@jeannedarc-versailles.com
SUMMARY:Ciné-Club des collégiens
DESCRIPTION:Pour tous les détail et pour inscrire votre enfant : cliquez ici  !
URL:https://jeannedarc-versailles.com/event/cine-club-des-collegiens-3/
LOCATION:Crypte de Ste Jeanne d’Arc\, 5 rue Jules Raulin\, Versailles\, 78000\, France
END:VEVENT
BEGIN:VEVENT
DTSTART;TZID=Europe/Paris:20220617T183000
DTEND;TZID=Europe/Paris:20220617T210000
DTSTAMP:20260423T191722
CREATED:20220606T213450Z
LAST-MODIFIED:20220606T213506Z
UID:6423-1655490600-1655499600@jeannedarc-versailles.com
SUMMARY:Servants d'autel : Remise des cordons
DESCRIPTION:A l’intention des parents des servants d’autel de Sainte Jeanne d’Arc ET de Saint Joseph : \nMesse de remise de cordons le Vendredi 17 juin à 18H30 à Sainte Jeanne d’Arc suivie d’un apéritif \nInscription en cliquant ici
URL:https://jeannedarc-versailles.com/event/servants-dautel-remise-des-cordons/
LOCATION:Eglise Sainte-Jeanne d’Arc\, 5 rue Jules Raulin\, Versailles\, 78000
END:VEVENT
BEGIN:VEVENT
DTSTART;TZID=Europe/Paris:20220617T203000
DTEND;TZID=Europe/Paris:20220617T223000
DTSTAMP:20260423T191722
CREATED:20220606T220117Z
LAST-MODIFIED:20220606T220117Z
UID:6427-1655497800-1655505000@jeannedarc-versailles.com
SUMMARY:Conférence - Comité Liban
DESCRIPTION:Le Comité Liban vous invite \nle vendredi 17 juin à 20h45 à l’église Ste Jeanne d’Arc \npour accueillir la présidente Régionale pour le Proche Orient de la Conférence St Vincent de Paul\, de passage à Paris.\nMme Ella Bitar fera un exposé sur la situation du Liban après les élections législatives qui ont eu lieu le 15 Mai et nous parlera aussi du projet de St Vincent financé par les Journées Missionnaires. \nVenez encourager les Chrétiens du Liban qui ont tant besoin de nous en ces temps dramatiques qu’ils endurent depuis si longtemps.  » \nCaroline de Raimond pour le Comité Liban
URL:https://jeannedarc-versailles.com/event/conference-comite-liban/
LOCATION:Eglise Sainte-Jeanne d’Arc\, 5 rue Jules Raulin\, Versailles\, 78000
END:VEVENT
BEGIN:VEVENT
DTSTART;TZID=Europe/Paris:20220619T093000
DTEND;TZID=Europe/Paris:20220619T160000
DTSTAMP:20260423T191722
CREATED:20220529T194636Z
LAST-MODIFIED:20220529T194636Z
UID:6396-1655631000-1655654400@jeannedarc-versailles.com
SUMMARY:AU REVOIR !
DESCRIPTION:Le dimanche 19 juin\, nous rendrons grâce pour les années que le Père Emmanuel\, le Père Tomasz et le Père Bernardin ont passées au service de la paroisse.\n\n\nUne seule messe sera célébrée le matin à 10h devant l’église Ste Jeanne d’Arc.\nLes messes de samedi soir et de dimanche soir seront maintenues. \n\n\nAu programme :\n\n10h : Messe célébrée sur le parvis\n\nDes sièges\, pour une partie de l’assistance\, seront installés sur la place Elisabeth Brasseur\, les rues René Aubert et Jules Raulin\, mais n’hésitez pas à apporter votre pliant ! \n11h30 : Apéritif et discours \n13h : Repas partagé \n\n  \nCliquez ici pour en savoir plus
URL:https://jeannedarc-versailles.com/event/au-revoir/
LOCATION:Eglise Sainte-Jeanne d’Arc\, 5 rue Jules Raulin\, Versailles\, 78000
END:VEVENT
END:VCALENDAR