BEGIN:VCALENDAR
VERSION:2.0
PRODID:-//Paroisse sainte Jeanne d&#039;Arc de Versailles - ECPv6.2.5//NONSGML v1.0//EN
CALSCALE:GREGORIAN
METHOD:PUBLISH
X-ORIGINAL-URL:https://jeannedarc-versailles.com
X-WR-CALDESC:évènements pour Paroisse sainte Jeanne d&#039;Arc de Versailles
REFRESH-INTERVAL;VALUE=DURATION:PT1H
X-Robots-Tag:noindex
X-PUBLISHED-TTL:PT1H
BEGIN:VTIMEZONE
TZID:Europe/Paris
BEGIN:DAYLIGHT
TZOFFSETFROM:+0100
TZOFFSETTO:+0200
TZNAME:CEST
DTSTART:20210328T010000
END:DAYLIGHT
BEGIN:STANDARD
TZOFFSETFROM:+0200
TZOFFSETTO:+0100
TZNAME:CET
DTSTART:20211031T010000
END:STANDARD
END:VTIMEZONE
BEGIN:VEVENT
DTSTART;TZID=Europe/Paris:20211201T070000
DTEND;TZID=Europe/Paris:20211201T080000
DTSTAMP:20260421T181907
CREATED:20211126T220929Z
LAST-MODIFIED:20211126T220929Z
UID:5646-1638342000-1638345600@jeannedarc-versailles.com
SUMMARY:Messe de l'attente à la lueur des bougies
DESCRIPTION:
URL:https://jeannedarc-versailles.com/event/messe-de-lattente-a-la-lueur-des-bougies/
LOCATION:Eglise Sainte-Jeanne d’Arc\, 5 rue Jules Raulin\, Versailles\, 78000
END:VEVENT
BEGIN:VEVENT
DTSTART;TZID=Europe/Paris:20211202T203000
DTEND;TZID=Europe/Paris:20211202T223000
DTSTAMP:20260421T181907
CREATED:20211126T221131Z
LAST-MODIFIED:20211126T221131Z
UID:5648-1638477000-1638484200@jeannedarc-versailles.com
SUMMARY:1ère veillée de l'Avent
DESCRIPTION:Veillée méditative sur le thème « Les songes de Joseph » \nà 20h45 à l’église Ste Jeanne d’Arc
URL:https://jeannedarc-versailles.com/event/1ere-veillee-de-lavent/
LOCATION:Eglise Sainte-Jeanne d’Arc\, 5 rue Jules Raulin\, Versailles\, 78000
END:VEVENT
BEGIN:VEVENT
DTSTART;TZID=Europe/Paris:20211203T180000
DTEND;TZID=Europe/Paris:20211203T213000
DTSTAMP:20260421T181907
CREATED:20211112T222033Z
LAST-MODIFIED:20211112T222033Z
UID:5602-1638554400-1638567000@jeannedarc-versailles.com
SUMMARY:Ciné-club des Collégiens
DESCRIPTION:FILM\, DEBAT\, PIZZA ! \nTrès bientôt tous les détails
URL:https://jeannedarc-versailles.com/event/cine-club-des-collegiens/
LOCATION:salle Jérusalem
END:VEVENT
BEGIN:VEVENT
DTSTART;TZID=Europe/Paris:20211207T070000
DTEND;TZID=Europe/Paris:20211207T080000
DTSTAMP:20260421T181907
CREATED:20211204T105736Z
LAST-MODIFIED:20211204T105736Z
UID:5733-1638860400-1638864000@jeannedarc-versailles.com
SUMMARY:Messe de l'attente à la lueur des bougies
DESCRIPTION:
URL:https://jeannedarc-versailles.com/event/messe-de-lattente-a-la-lueur-des-bougies-2/
LOCATION:Eglise Sainte-Jeanne d’Arc\, 5 rue Jules Raulin\, Versailles\, 78000
END:VEVENT
BEGIN:VEVENT
DTSTART;VALUE=DATE:20211208
DTEND;VALUE=DATE:20211209
DTSTAMP:20260421T181907
CREATED:20211204T110143Z
LAST-MODIFIED:20211204T110143Z
UID:5737-1638921600-1639007999@jeannedarc-versailles.com
SUMMARY:Fêtons Marie\, Immaculée Conception !
DESCRIPTION:A ste Jeanne d’Arc : \n\nmesse à 9h\nmesse à 20h\, suivie d’un vin chaud\n\nA st Joseph:\nLa chapelle sera ouverte toute la journée. \nVenez confier à Marie vos prières !
URL:https://jeannedarc-versailles.com/event/fetons-marie-immaculee-conception/
END:VEVENT
BEGIN:VEVENT
DTSTART;TZID=Europe/Paris:20211216T203000
DTEND;TZID=Europe/Paris:20211216T223000
DTSTAMP:20260421T181907
CREATED:20211204T105643Z
LAST-MODIFIED:20211208T100852Z
UID:5731-1639686600-1639693800@jeannedarc-versailles.com
SUMMARY:2ème veillée de l'Avent
DESCRIPTION:Veillée méditative sur le thème « Attendre avec Marie\, dans la joie » \nUne heure de beaux textes avec des chants devant la crèche illuminée. \nà 20h45 à l’église Ste Jeanne d’Arc
URL:https://jeannedarc-versailles.com/event/2eme-veillee-de-lavent/
LOCATION:Eglise Sainte-Jeanne d’Arc\, 5 rue Jules Raulin\, Versailles\, 78000
END:VEVENT
BEGIN:VEVENT
DTSTART;TZID=Europe/Paris:20211218T100000
DTEND;TZID=Europe/Paris:20211218T120000
DTSTAMP:20260421T181907
CREATED:20211204T110522Z
LAST-MODIFIED:20211204T110522Z
UID:5741-1639821600-1639828800@jeannedarc-versailles.com
SUMMARY:Permanences de confessions
DESCRIPTION:de 10h à 12h\, à Ste Jeanne d’Arc et à St Joseph
URL:https://jeannedarc-versailles.com/event/permanences-de-confessions/
END:VEVENT
BEGIN:VEVENT
DTSTART;TZID=Europe/Paris:20211224T100000
DTEND;TZID=Europe/Paris:20211224T120000
DTSTAMP:20260421T181907
CREATED:20211204T110627Z
LAST-MODIFIED:20211204T110627Z
UID:5744-1640340000-1640347200@jeannedarc-versailles.com
SUMMARY:Permanences de confessions
DESCRIPTION:de 10h à 12h\, à Ste Jeanne d’Arc et à St Joseph
URL:https://jeannedarc-versailles.com/event/permanences-de-confessions-2/
END:VEVENT
END:VCALENDAR