BEGIN:VCALENDAR
VERSION:2.0
PRODID:-//Paroisse sainte Jeanne d&#039;Arc de Versailles - ECPv6.2.5//NONSGML v1.0//EN
CALSCALE:GREGORIAN
METHOD:PUBLISH
X-ORIGINAL-URL:https://jeannedarc-versailles.com
X-WR-CALDESC:évènements pour Paroisse sainte Jeanne d&#039;Arc de Versailles
REFRESH-INTERVAL;VALUE=DURATION:PT1H
X-Robots-Tag:noindex
X-PUBLISHED-TTL:PT1H
BEGIN:VTIMEZONE
TZID:Europe/Paris
BEGIN:DAYLIGHT
TZOFFSETFROM:+0100
TZOFFSETTO:+0200
TZNAME:CEST
DTSTART:20210328T010000
END:DAYLIGHT
BEGIN:STANDARD
TZOFFSETFROM:+0200
TZOFFSETTO:+0100
TZNAME:CET
DTSTART:20211031T010000
END:STANDARD
END:VTIMEZONE
BEGIN:VEVENT
DTSTART;TZID=Europe/Paris:20211023T080000
DTEND;TZID=Europe/Paris:20211108T070000
DTSTAMP:20260421T164114
CREATED:20211015T230656Z
LAST-MODIFIED:20211015T230656Z
UID:5441-1634976000-1636354800@jeannedarc-versailles.com
SUMMARY:début des vacances de la Toussaint
DESCRIPTION:les vacances de la Toussaint auront lieu du samedi 23 octobre au lundi 8 novembre. \nAttention aux changements d’horaires des messes et du secrétariat.
URL:https://jeannedarc-versailles.com/event/debut-des-vacances-de-la-toussaint/
END:VEVENT
BEGIN:VEVENT
DTSTART;TZID=Europe/Paris:20211111T080000
DTEND;TZID=Europe/Paris:20211111T170000
DTSTAMP:20260421T164114
CREATED:20211015T230854Z
LAST-MODIFIED:20211015T230854Z
UID:5443-1636617600-1636650000@jeannedarc-versailles.com
SUMMARY:Journée de retraite des catéchistes
DESCRIPTION:Les catéchistes de la paroisse se retrouvent pour prier et réfléchir à leur mission d’annonce de la foi auprès des enfants de notre quartier. \n 
URL:https://jeannedarc-versailles.com/event/journee-de-retraite-des-catechistes/
END:VEVENT
BEGIN:VEVENT
DTSTART;TZID=Europe/Paris:20211113T140000
DTEND;TZID=Europe/Paris:20211113T170000
DTSTAMP:20260421T164114
CREATED:20211015T231335Z
LAST-MODIFIED:20211015T231335Z
UID:5445-1636812000-1636822800@jeannedarc-versailles.com
SUMMARY:Un quartier\, un défi
DESCRIPTION:Les Chevaliers de Colomb organisent une après midi ciné-club pour les enfants de 6 à 10 ans du quartier Richard Mique\, en relation avec la maison de quartier. \nLe film Le prince d’Egypte sera projeté\, puis\, après un échange sur le film avec le Père Henri Laroche\, un goûter sera partagé. \nRendez-vous au printemps pour l’après midi des collégiens au stade Richard Mique !
URL:https://jeannedarc-versailles.com/event/un-quartier-un-defi/
LOCATION:Salle Sainte Marie
END:VEVENT
BEGIN:VEVENT
DTSTART;TZID=Europe/Paris:20211120T140000
DTEND;TZID=Europe/Paris:20211121T170000
DTSTAMP:20260421T164114
CREATED:20211112T220527Z
LAST-MODIFIED:20211112T220527Z
UID:5593-1637416800-1637514000@jeannedarc-versailles.com
SUMMARY:JMJ "Lève-toi !"
DESCRIPTION:Le pape François a souhaité que les jeunes de 16 à 35 ans puissent vivre des JMJ en diocèse\, en attendant le rendez-vous de Lisbonne en 2023. \n 
URL:https://jeannedarc-versailles.com/event/jmj-leve-toi/
END:VEVENT
BEGIN:VEVENT
DTSTART;TZID=Europe/Paris:20211124T203000
DTEND;TZID=Europe/Paris:20211124T223000
DTSTAMP:20260421T164114
CREATED:20211120T230544Z
LAST-MODIFIED:20211120T230544Z
UID:5632-1637785800-1637793000@jeannedarc-versailles.com
SUMMARY:Soirée de réflexion sur les abus sexuels dans l'Eglise
DESCRIPTION:Dans la continuité du rapport de la CIASE (Commission Indépendante sur les Abus Sexuels dans l’Eglise)\, les paroisses Sainte-Jeanne d’Arc\, Notre-Dame et du Chesnay organisent une soirée à 20h45\, ouvertes à tous : \n« Comment faire de notre Eglise une maison sûre ? » \nMercredi 24 novembre à l’église Notre-Dame-de-la-Résurrection (Le Chesnay).
URL:https://jeannedarc-versailles.com/event/soiree-de-reflexion-sur-les-abus-sexuels-dans-leglise/
END:VEVENT
BEGIN:VEVENT
DTSTART;TZID=Europe/Paris:20211127T100000
DTEND;TZID=Europe/Paris:20211127T180000
DTSTAMP:20260421T164114
CREATED:20211112T221136Z
LAST-MODIFIED:20211112T221136Z
UID:5598-1638007200-1638036000@jeannedarc-versailles.com
SUMMARY:Marché de Noël
DESCRIPTION:Plus de 25 stands pour vous faire plaisir et faire vos cadeaux de Noël\, tout en soutenant financièrement les projets paroissiaux. \nVous pouvez nous aider : cliquer ici pour savoir comment \nVous pouvez dès à présent commander certains articles sur la boutique en ligne en cliquant ici
URL:https://jeannedarc-versailles.com/event/marche-de-noel/
END:VEVENT
BEGIN:VEVENT
DTSTART;TZID=Europe/Paris:20211128T203000
DTEND;TZID=Europe/Paris:20211128T220000
DTSTAMP:20260421T164114
CREATED:20211120T230831Z
LAST-MODIFIED:20211120T230831Z
UID:5634-1638131400-1638136800@jeannedarc-versailles.com
SUMMARY:Reliques de Ste Bernadette
DESCRIPTION:Les reliques de Ste Bernadette de Lourdes à la veillée Resucito !\nA quelques jours de la fête de l’Immaculée Conception\, le groupe paroissial Resucito! a la joie de recevoir les reliques de Ste Bernadette de Lourdes \nle dimanche 28 novembre de 20h30 à 22h. \nLa veillée est ouverte à tous les jeunes de 15 à 25 ans à Ste Jeanne d’Arc.
URL:https://jeannedarc-versailles.com/event/reliques-de-ste-bernadette/
LOCATION:Eglise Sainte-Jeanne d’Arc\, 5 rue Jules Raulin\, Versailles\, 78000
END:VEVENT
END:VCALENDAR