BEGIN:VCALENDAR
VERSION:2.0
PRODID:-//Paroisse sainte Jeanne d&#039;Arc de Versailles - ECPv6.2.5//NONSGML v1.0//EN
CALSCALE:GREGORIAN
METHOD:PUBLISH
X-WR-CALNAME:Paroisse sainte Jeanne d&#039;Arc de Versailles
X-ORIGINAL-URL:https://jeannedarc-versailles.com
X-WR-CALDESC:évènements pour Paroisse sainte Jeanne d&#039;Arc de Versailles
REFRESH-INTERVAL;VALUE=DURATION:PT1H
X-Robots-Tag:noindex
X-PUBLISHED-TTL:PT1H
BEGIN:VTIMEZONE
TZID:Europe/Paris
BEGIN:DAYLIGHT
TZOFFSETFROM:+0100
TZOFFSETTO:+0200
TZNAME:CEST
DTSTART:20210328T010000
END:DAYLIGHT
BEGIN:STANDARD
TZOFFSETFROM:+0200
TZOFFSETTO:+0100
TZNAME:CET
DTSTART:20211031T010000
END:STANDARD
END:VTIMEZONE
BEGIN:VEVENT
DTSTART;TZID=Europe/Paris:20210303T140000
DTEND;TZID=Europe/Paris:20210303T150000
DTSTAMP:20260424T031339
CREATED:20210225T123425Z
LAST-MODIFIED:20210225T123722Z
UID:4593-1614780000-1614783600@jeannedarc-versailles.com
SUMMARY:Enfants adorateurs
DESCRIPTION:
URL:https://jeannedarc-versailles.com/event/enfants-adorateurs/
LOCATION:Eglise Sainte-Jeanne d’Arc\, 5 rue Jules Raulin\, Versailles\, 78000
END:VEVENT
BEGIN:VEVENT
DTSTART;TZID=Europe/Paris:20210306T140000
DTEND;TZID=Europe/Paris:20210306T160000
DTSTAMP:20260424T031339
CREATED:20210225T124343Z
LAST-MODIFIED:20210225T124812Z
UID:4598-1615039200-1615046400@jeannedarc-versailles.com
SUMMARY:Fabrice Hadjadj
DESCRIPTION:Pour les étudiants et jeunes pros de Versailles et alentours\, conférence \nSamedi prochain\, le 6 mars Fabrice Hadjadj\, célèbre philosophe chrétien\, \ndans l’église Notre Dame de Versailles de14h à 16h \n«Être chrétien dans un monde qui ne l’est plus. » \n 
URL:https://jeannedarc-versailles.com/event/fabrice-hadjadj/
LOCATION:Eglise Notre Dame\, 2 Rue Baillet Reviron\, Versailles\, 78000\, France
END:VEVENT
BEGIN:VEVENT
DTSTART;TZID=Europe/Paris:20210313T143000
DTEND;TZID=Europe/Paris:20210313T160000
DTSTAMP:20260424T031339
CREATED:20210225T125445Z
LAST-MODIFIED:20210225T125445Z
UID:4603-1615645800-1615651200@jeannedarc-versailles.com
SUMMARY:LA JOIE ET LA MISÉRICORDE
DESCRIPTION:Veillée de prière diocésaine autour du handicap\, ouverte à tous. \nCette veillée est pensée pour accueillir particulièrement toutes les personnes fragiles.\nLouange et chants animés par le chœur N’joy de la paroisse de Trappes et témoignage de Fouad Hassoun\, chrétien libanais devenu aveugle suite à un attentat à Beyrouth en 1981. \nLa veillée sera accessible en fauteuil et signée en LSF. \n  \n  \n 
URL:https://jeannedarc-versailles.com/event/veillee-handicap/
LOCATION:Eglise Saint-Léger\, 20 Rue de la Maison Verte\, Saint-Germain-en-Laye\, 78100\, France
END:VEVENT
BEGIN:VEVENT
DTSTART;TZID=Europe/Paris:20210319T121500
DTEND;TZID=Europe/Paris:20210319T131500
DTSTAMP:20260424T031339
CREATED:20210303T094316Z
LAST-MODIFIED:20210312T125935Z
UID:4636-1616156100-1616159700@jeannedarc-versailles.com
SUMMARY:FÊTE de SAINT JOSEPH
DESCRIPTION:La messe prévue le vendredi 19 mars à 20h à la chapelle Saint-Joseph sera célébrée à 12h15\, même lieu.\n  \n  \n 
URL:https://jeannedarc-versailles.com/event/fete-de-saint-joseph/
LOCATION:chapelle St Joseph\, boulevard de Glatigny\, Versailles\, 78000
END:VEVENT
END:VCALENDAR