BEGIN:VCALENDAR
VERSION:2.0
PRODID:-//Paroisse sainte Jeanne d&#039;Arc de Versailles - ECPv6.2.5//NONSGML v1.0//EN
CALSCALE:GREGORIAN
METHOD:PUBLISH
X-ORIGINAL-URL:https://jeannedarc-versailles.com
X-WR-CALDESC:évènements pour Paroisse sainte Jeanne d&#039;Arc de Versailles
REFRESH-INTERVAL;VALUE=DURATION:PT1H
X-Robots-Tag:noindex
X-PUBLISHED-TTL:PT1H
BEGIN:VTIMEZONE
TZID:Europe/Paris
BEGIN:DAYLIGHT
TZOFFSETFROM:+0100
TZOFFSETTO:+0200
TZNAME:CEST
DTSTART:20260329T010000
END:DAYLIGHT
BEGIN:STANDARD
TZOFFSETFROM:+0200
TZOFFSETTO:+0100
TZNAME:CET
DTSTART:20261025T010000
END:STANDARD
END:VTIMEZONE
BEGIN:VEVENT
DTSTART;TZID=Europe/Paris:20260417T164500
DTEND;TZID=Europe/Paris:20260417T170000
DTSTAMP:20260421T134817
CREATED:20251117T153022Z
LAST-MODIFIED:20251117T153022Z
UID:13591-1776444300-1776445200@jeannedarc-versailles.com
SUMMARY:Enfants adorateurs
DESCRIPTION:Le groupe des enfants adorateurs de la paroisse\,\nsous la conduite du père Henri Laroche\,\npropose d’initier les enfants de 4 à 10 ans\,\ntous les vendredis (hors vacances scolaires)\n de 16h45 à 17h/17h10\nà la rencontre avec Jésus réellement présent dans l’Eucharistie. \n\nAccueil à partir de 16h30 derrière l’église (sous la responsabilité des parents)\nDébut de l’adoration à 16h45\, encadrée par le père Laroche\nFin vers 17h / 17h10
URL:https://jeannedarc-versailles.com/event/enfants-adorateurs-19/
LOCATION:Eglise Sainte-Jeanne d’Arc\, 5 rue Jules Raulin\, Versailles\, 78000
END:VEVENT
BEGIN:VEVENT
DTSTART;TZID=Europe/Paris:20260415T180000
DTEND;TZID=Europe/Paris:20260415T203000
DTSTAMP:20260421T134817
CREATED:20260331T144010Z
LAST-MODIFIED:20260331T144020Z
UID:14141-1776276000-1776285000@jeannedarc-versailles.com
SUMMARY:Veillée pour les chrétiens d'Orient
DESCRIPTION:Veillée de prière pour et avec les chrétiens d’Orient\npour la paix mercredi 15 avril à 20h30 \nà la cathédrale Saint-Louis\,\nprésidée par Monseigneur Luc Crepy avec l’Œuvre d’Orient \n \n 
URL:https://jeannedarc-versailles.com/event/veillee-pour-les-chretiens-dorients/
END:VEVENT
BEGIN:VEVENT
DTSTART;TZID=Europe/Paris:20260412T180000
DTEND;TZID=Europe/Paris:20260412T190000
DTSTAMP:20260421T134817
CREATED:20250909T074154Z
LAST-MODIFIED:20260325T154016Z
UID:13259-1776016800-1776020400@jeannedarc-versailles.com
SUMMARY:Misa en espagñol
DESCRIPTION:Un dimanche par mois à 18h\, messe en espagnol à la chapelle Saint-Joseph des Capucins\, 29 bd de Glatigny \nLes dimanches 21 septembre\, 12 octobre\, 16 novembre\, 14 décembre\, 18 janvier\, 8 février\, 22 mars\, 12 avril\, 17 mai\, 28 juin \n \n 
URL:https://jeannedarc-versailles.com/event/misa-en-espagnol-8/
LOCATION:chapelle St Joseph\, boulevard de Glatigny\, Versailles\, 78000
END:VEVENT
BEGIN:VEVENT
DTSTART;TZID=Europe/Paris:20260410T190000
DTEND;TZID=Europe/Paris:20260410T203000
DTSTAMP:20260421T134817
CREATED:20260316T145919Z
LAST-MODIFIED:20260316T145919Z
UID:14060-1775847600-1775853000@jeannedarc-versailles.com
SUMMARY:Soirée Témoignage A Acutis et veillée d'adoration
DESCRIPTION:Vendredi 10 avril\nde 19h à 20h30 \nVeillée témoignage de la mère de Saint Carlo Acutis\nSuivie d’un temps d’adoration \nOuvert à tous !
URL:https://jeannedarc-versailles.com/event/soiree-temoignage-a-acutis-et-veillee-dadoration/
LOCATION:Eglise Sainte-Jeanne d’Arc\, 5 rue Jules Raulin\, Versailles\, 78000
END:VEVENT
BEGIN:VEVENT
DTSTART;TZID=Europe/Paris:20260410T164500
DTEND;TZID=Europe/Paris:20260410T170000
DTSTAMP:20260421T134817
CREATED:20251117T152833Z
LAST-MODIFIED:20251117T152943Z
UID:13589-1775839500-1775840400@jeannedarc-versailles.com
SUMMARY:Enfants adorateurs
DESCRIPTION:Le groupe des enfants adorateurs de la paroisse\,\nsous la conduite du père Henri Laroche\,\npropose d’initier les enfants de 4 à 10 ans\,\ntous les vendredis (hors vacances scolaires)\n de 16h45 à 17h/17h10\nà la rencontre avec Jésus réellement présent dans l’Eucharistie. \n\nAccueil à partir de 16h30 derrière l’église (sous la responsabilité des parents)\nDébut de l’adoration à 16h45\, encadrée par le père Laroche\nFin vers 17h / 17h10
URL:https://jeannedarc-versailles.com/event/enfants-adorateurs-18/
LOCATION:Eglise Sainte-Jeanne d’Arc\, 5 rue Jules Raulin\, Versailles\, 78000
END:VEVENT
BEGIN:VEVENT
DTSTART;TZID=Europe/Paris:20260329T094500
DTEND;TZID=Europe/Paris:20260329T104500
DTSTAMP:20260421T134817
CREATED:20251008T105834Z
LAST-MODIFIED:20260316T151836Z
UID:13391-1774777500-1774781100@jeannedarc-versailles.com
SUMMARY:Messe animée par l'équipe liturgique collégiens
DESCRIPTION:Dimanche 29 mars 9h45 à St Joseph\, la messe sera animée par l’équipe liturgique des collégiens! \nLes jeunes qui souhaitent rejoindre l’équipe sont les bienvenus.\nEcrire à : liturgiecollegiensja@gmail.com pour recevoir les partitions et les informations pratiques.\nDès 8 ans !\nNous recherchons des grands adolescents/étudiants pour soutenir les plus jeunes à l’instruments\, n’hésitez pas à vous faire connaitre!\nToutes les infos sur cette équipe d’animation ici
URL:https://jeannedarc-versailles.com/event/messe-animee-par-lequipe-liturgique-collegiens-2/
LOCATION:chapelle St Joseph\, boulevard de Glatigny\, Versailles\, 78000
END:VEVENT
BEGIN:VEVENT
DTSTART;TZID=Europe/Paris:20260327T204500
DTEND;TZID=Europe/Paris:20260327T220000
DTSTAMP:20260421T134817
CREATED:20260316T145337Z
LAST-MODIFIED:20260316T145337Z
UID:14057-1774644300-1774648800@jeannedarc-versailles.com
SUMMARY:Conférence Hubert de Chergé
DESCRIPTION:Vendredi 27 mars\nnous aurons le plaisir de recevoirHubert de Chergé pour une conférence sur le thème : \n« Chrétiens et musulmans sous le regard de mon frère Christian »  \n30 ans jour pour jour après Tibhirine \nRDV à 20h45 \nDans l’église Sainte-Jeanne d’Arc
URL:https://jeannedarc-versailles.com/event/conference-hubert-de-cherge/
LOCATION:Eglise Sainte-Jeanne d’Arc\, 5 rue Jules Raulin\, Versailles\, 78000
END:VEVENT
BEGIN:VEVENT
DTSTART;TZID=Europe/Paris:20260327T180000
DTEND;TZID=Europe/Paris:20260327T210000
DTSTAMP:20260421T134817
CREATED:20260316T151312Z
LAST-MODIFIED:20260316T151312Z
UID:14071-1774634400-1774645200@jeannedarc-versailles.com
SUMMARY:Ciné club collégien
DESCRIPTION:Toutes les infos ici
URL:https://jeannedarc-versailles.com/event/cine-club-collegien/
END:VEVENT
BEGIN:VEVENT
DTSTART;TZID=Europe/Paris:20260327T164500
DTEND;TZID=Europe/Paris:20260327T170000
DTSTAMP:20260421T134817
CREATED:20251117T152759Z
LAST-MODIFIED:20251117T152759Z
UID:13587-1774629900-1774630800@jeannedarc-versailles.com
SUMMARY:Enfants adorateurs
DESCRIPTION:Le groupe des enfants adorateurs de la paroisse\,\nsous la conduite du père Henri Laroche\,\npropose d’initier les enfants de 4 à 10 ans\,\ntous les vendredis (hors vacances scolaires)\n de 16h45 à 17h/17h10\nà la rencontre avec Jésus réellement présent dans l’Eucharistie. \n\nAccueil à partir de 16h30 derrière l’église (sous la responsabilité des parents)\nDébut de l’adoration à 16h45\, encadrée par le père Laroche\nFin vers 17h / 17h10
URL:https://jeannedarc-versailles.com/event/enfants-adorateurs-17/
LOCATION:Eglise Sainte-Jeanne d’Arc\, 5 rue Jules Raulin\, Versailles\, 78000
END:VEVENT
BEGIN:VEVENT
DTSTART;TZID=Europe/Paris:20260324T200000
DTEND;TZID=Europe/Paris:20260324T223000
DTSTAMP:20260421T134817
CREATED:20250917T123335Z
LAST-MODIFIED:20260316T151349Z
UID:13296-1774382400-1774391400@jeannedarc-versailles.com
SUMMARY:Soirée Spi&Spi pour les hommes
DESCRIPTION:Vous êtes un homme de plus de 35 ans\, \nEtes-vous prêts à participer à notre prochaine soirée  \nSpi&Spi (spiriuel et spiritueux) ? \nRDV le 24 mars prochain \nNe perdez-pas de temps pour vous inscrire! \nToutes les infos ici ! \n 
URL:https://jeannedarc-versailles.com/event/soiree-spispi-pour-les-hommes-8/
LOCATION:salle Jérusalem
END:VEVENT
BEGIN:VEVENT
DTSTART;TZID=Europe/Paris:20260322T180000
DTEND;TZID=Europe/Paris:20260322T190000
DTSTAMP:20260421T134817
CREATED:20250909T074130Z
LAST-MODIFIED:20250909T074130Z
UID:13258-1774202400-1774206000@jeannedarc-versailles.com
SUMMARY:Misa en espagñol
DESCRIPTION:Un dimanche par mois à 18h\, messe en espagnol à la chapelle Saint-Joseph des Capucins\, 29 bd de Glatigny \nLes dimanches 21 septembre\, 12 octobre\, 16 novembre\, 14 décembre\, 18 janvier\, 8 février\, 22 mars\, 5 avril\, 17 mai\, 28 juin \n \n 
URL:https://jeannedarc-versailles.com/event/misa-en-espagnol-7/
LOCATION:chapelle St Joseph\, boulevard de Glatigny\, Versailles\, 78000
END:VEVENT
BEGIN:VEVENT
DTSTART;TZID=Europe/Paris:20260321T070000
DTEND;TZID=Europe/Paris:20260321T153000
DTSTAMP:20260421T134817
CREATED:20260316T151000Z
LAST-MODIFIED:20260316T151000Z
UID:14067-1774076400-1774107000@jeannedarc-versailles.com
SUMMARY:Marche des familles - Saint Joseph
DESCRIPTION:35ème Marche des familles de la paroisse samedi 21 mars \nde ND du Perpétuel Secours à Puteaux \nà la chapelle Saint Joseph \n\n\n\n\n\n\n\n\n\n\n\n\n\nRDV à la gare Rive droite à 7h\n\n\n\n\n\n\n\n\n\n\n\n\n\n\n\n\n\n\n\n\n\n\n\n\n\n\nmesse de lancement à 8h à Notre-Dame du Perpétuel Secours à Puteaux\n\n\n\n\n\n\n\n\n\n\n\n\n\n\n\n\n\n\n\n\n\n\n\n\n\n\nmarche et pique-nique dans les bois (bords de Seine\, parc de St Cloud et bois de Fausses Reposes) jusqu’à la chapelle St Joseph\n\n\n\n\n\n\n\n\n\n\n\n\n\n\n\n\n\n\n\n\n\n\n\n\n\n\nbénédiction à 15h à la chapelle Saint-Joseph\n\n\n\n\n\n\n\n\n\n\n\n\n\nSans inscription \nContact : em.masson78@gmail.com \nProlongeons notre Jubilé avec \nSaint Joseph
URL:https://jeannedarc-versailles.com/event/marche-des-familles-saint-joseph/
LOCATION:chapelle St Joseph\, boulevard de Glatigny\, Versailles\, 78000
END:VEVENT
BEGIN:VEVENT
DTSTART;TZID=Europe/Paris:20260320T164500
DTEND;TZID=Europe/Paris:20260320T170000
DTSTAMP:20260421T134817
CREATED:20251117T152731Z
LAST-MODIFIED:20251117T152731Z
UID:13585-1774025100-1774026000@jeannedarc-versailles.com
SUMMARY:Enfants adorateurs
DESCRIPTION:Le groupe des enfants adorateurs de la paroisse\,\nsous la conduite du père Henri Laroche\,\npropose d’initier les enfants de 4 à 10 ans\,\ntous les vendredis (hors vacances scolaires)\n de 16h45 à 17h/17h10\nà la rencontre avec Jésus réellement présent dans l’Eucharistie. \n\nAccueil à partir de 16h30 derrière l’église (sous la responsabilité des parents)\nDébut de l’adoration à 16h45\, encadrée par le père Laroche\nFin vers 17h / 17h10
URL:https://jeannedarc-versailles.com/event/enfants-adorateurs-16/
LOCATION:Eglise Sainte-Jeanne d’Arc\, 5 rue Jules Raulin\, Versailles\, 78000
END:VEVENT
BEGIN:VEVENT
DTSTART;TZID=Europe/Paris:20260319T204500
DTEND;TZID=Europe/Paris:20260319T221500
DTSTAMP:20260421T134817
CREATED:20260315T095725Z
LAST-MODIFIED:20260316T152035Z
UID:12216-1773953100-1773958500@jeannedarc-versailles.com
SUMMARY:Rencontres oecuméniques
DESCRIPTION:Prochaine réunion sur le thème : « La terre promise dans la Bible « 
URL:https://jeannedarc-versailles.com/event/rencontres-oecumeniques/
LOCATION:Salles paroissiales de Sainte-Jeanne d’Arc\, 5 rue Jules Raulin\, Versailles\, 78000\, France
END:VEVENT
BEGIN:VEVENT
DTSTART;TZID=Europe/Paris:20260319T203000
DTEND;TZID=Europe/Paris:20260319T213000
DTSTAMP:20260421T134817
CREATED:20260316T154121Z
LAST-MODIFIED:20260316T154121Z
UID:14078-1773952200-1773955800@jeannedarc-versailles.com
SUMMARY:Messe Solennité de Saint Joseph
DESCRIPTION:
URL:https://jeannedarc-versailles.com/event/messe-solennite-de-saint-joseph/
LOCATION:chapelle St Joseph\, boulevard de Glatigny\, Versailles\, 78000
END:VEVENT
BEGIN:VEVENT
DTSTART;TZID=Europe/Paris:20260318T204500
DTEND;TZID=Europe/Paris:20260318T223000
DTSTAMP:20260421T134817
CREATED:20260316T150530Z
LAST-MODIFIED:20260316T150558Z
UID:14064-1773866700-1773873000@jeannedarc-versailles.com
SUMMARY:Veillée compassion
DESCRIPTION:Mercredi 18 mars à 20h45  \n\nà Sainte-Jeanne d’Arc \nVeillée de prière\, adoration\, témoignages et bénédiction \nVous êtes tous invités à venir confier fardeaux et souffrances de votre vie et de vos proches. \nContact : aps@jeannedarc-versailles.com
URL:https://jeannedarc-versailles.com/event/veillee-compassion/
LOCATION:Eglise Sainte-Jeanne d’Arc\, 5 rue Jules Raulin\, Versailles\, 78000
END:VEVENT
BEGIN:VEVENT
DTSTART;TZID=Europe/Paris:20260313T164500
DTEND;TZID=Europe/Paris:20260313T170000
DTSTAMP:20260421T134817
CREATED:20251117T152644Z
LAST-MODIFIED:20251117T152644Z
UID:13583-1773420300-1773421200@jeannedarc-versailles.com
SUMMARY:Enfants adorateurs
DESCRIPTION:Le groupe des enfants adorateurs de la paroisse\,\nsous la conduite du père Henri Laroche\,\npropose d’initier les enfants de 4 à 10 ans\,\ntous les vendredis (hors vacances scolaires)\n de 16h45 à 17h/17h10\nà la rencontre avec Jésus réellement présent dans l’Eucharistie. \n\nAccueil à partir de 16h30 derrière l’église (sous la responsabilité des parents)\nDébut de l’adoration à 16h45\, encadrée par le père Laroche\nFin vers 17h / 17h10
URL:https://jeannedarc-versailles.com/event/enfants-adorateurs-15/
LOCATION:Eglise Sainte-Jeanne d’Arc\, 5 rue Jules Raulin\, Versailles\, 78000
END:VEVENT
BEGIN:VEVENT
DTSTART;TZID=Europe/Paris:20260220T164500
DTEND;TZID=Europe/Paris:20260220T170000
DTSTAMP:20260421T134817
CREATED:20251117T152413Z
LAST-MODIFIED:20251117T152413Z
UID:13581-1771605900-1771606800@jeannedarc-versailles.com
SUMMARY:Enfants adorateurs
DESCRIPTION:Le groupe des enfants adorateurs de la paroisse\,\nsous la conduite du père Henri Laroche\,\npropose d’initier les enfants de 4 à 10 ans\,\ntous les vendredis (hors vacances scolaires)\n de 16h45 à 17h/17h10\nà la rencontre avec Jésus réellement présent dans l’Eucharistie. \n\nAccueil à partir de 16h30 derrière l’église (sous la responsabilité des parents)\nDébut de l’adoration à 16h45\, encadrée par le père Laroche\nFin vers 17h / 17h10
URL:https://jeannedarc-versailles.com/event/enfants-adorateurs-14/
LOCATION:Eglise Sainte-Jeanne d’Arc\, 5 rue Jules Raulin\, Versailles\, 78000
END:VEVENT
BEGIN:VEVENT
DTSTART;TZID=Europe/Paris:20260213T164500
DTEND;TZID=Europe/Paris:20260213T170000
DTSTAMP:20260421T134817
CREATED:20251117T152339Z
LAST-MODIFIED:20251117T152339Z
UID:13579-1771001100-1771002000@jeannedarc-versailles.com
SUMMARY:Enfants adorateurs
DESCRIPTION:Le groupe des enfants adorateurs de la paroisse\,\nsous la conduite du père Henri Laroche\,\npropose d’initier les enfants de 4 à 10 ans\,\ntous les vendredis (hors vacances scolaires)\n de 16h45 à 17h/17h10\nà la rencontre avec Jésus réellement présent dans l’Eucharistie. \n\nAccueil à partir de 16h30 derrière l’église (sous la responsabilité des parents)\nDébut de l’adoration à 16h45\, encadrée par le père Laroche\nFin vers 17h / 17h10
URL:https://jeannedarc-versailles.com/event/enfants-adorateurs-13/
LOCATION:Eglise Sainte-Jeanne d’Arc\, 5 rue Jules Raulin\, Versailles\, 78000
END:VEVENT
BEGIN:VEVENT
DTSTART;TZID=Europe/Paris:20260208T180000
DTEND;TZID=Europe/Paris:20260208T190000
DTSTAMP:20260421T134817
CREATED:20250909T074057Z
LAST-MODIFIED:20250909T074057Z
UID:13256-1770573600-1770577200@jeannedarc-versailles.com
SUMMARY:Misa en espagñol
DESCRIPTION:Un dimanche par mois à 18h\, messe en espagnol à la chapelle Saint-Joseph des Capucins\, 29 bd de Glatigny \nLes dimanches 21 septembre\, 12 octobre\, 16 novembre\, 14 décembre\, 18 janvier\, 8 février\, 22 mars\, 5 avril\, 17 mai\, 28 juin \n \n 
URL:https://jeannedarc-versailles.com/event/misa-en-espagnol-6/
LOCATION:chapelle St Joseph\, boulevard de Glatigny\, Versailles\, 78000
END:VEVENT
BEGIN:VEVENT
DTSTART;TZID=Europe/Paris:20260206T164500
DTEND;TZID=Europe/Paris:20260206T170000
DTSTAMP:20260421T134817
CREATED:20251117T152245Z
LAST-MODIFIED:20251117T152245Z
UID:13577-1770396300-1770397200@jeannedarc-versailles.com
SUMMARY:Enfants adorateurs
DESCRIPTION:Le groupe des enfants adorateurs de la paroisse\,\nsous la conduite du père Henri Laroche\,\npropose d’initier les enfants de 4 à 10 ans\,\ntous les vendredis (hors vacances scolaires)\n de 16h45 à 17h/17h10\nà la rencontre avec Jésus réellement présent dans l’Eucharistie. \n\nAccueil à partir de 16h30 derrière l’église (sous la responsabilité des parents)\nDébut de l’adoration à 16h45\, encadrée par le père Laroche\nFin vers 17h / 17h10
URL:https://jeannedarc-versailles.com/event/enfants-adorateurs-12/
LOCATION:Eglise Sainte-Jeanne d’Arc\, 5 rue Jules Raulin\, Versailles\, 78000
END:VEVENT
BEGIN:VEVENT
DTSTART;TZID=Europe/Paris:20260201T141500
DTEND;TZID=Europe/Paris:20260201T160000
DTSTAMP:20260421T134817
CREATED:20260126T095533Z
LAST-MODIFIED:20260126T095533Z
UID:13861-1769955300-1769961600@jeannedarc-versailles.com
SUMMARY:Tournois de bridge au profit de la paroisse
DESCRIPTION:Samedi 31 Janvier à 20h15 précises\net/ou Dimanche 1er février à 14h15 précises\nSalle Jérusalem. \nNombreux lots à gagner ! \nAmitié et décontraction de rigueur. \nParticipation : 25€ par joueur au profit de la paroisse \n(40€ pour les 2 tournois). \nRèglement sur place à l’ordre de « Paroisse Ste-Jeanne d’Arc » \nInscription : tournoidebridgesja@gmail.com\, \ntel : 06 84 87 55 84 ou courrier au secrétariat.
URL:https://jeannedarc-versailles.com/event/tournois-de-bridge-au-profit-de-la-paroisse-3/
LOCATION:salle Jérusalem
END:VEVENT
BEGIN:VEVENT
DTSTART;TZID=Europe/Paris:20260131T201500
DTEND;TZID=Europe/Paris:20260131T220000
DTSTAMP:20260421T134817
CREATED:20260124T110144Z
LAST-MODIFIED:20260126T095434Z
UID:12034-1769890500-1769896800@jeannedarc-versailles.com
SUMMARY:Tournois de bridge au profit de la paroisse
DESCRIPTION:Samedi 31 Janvier à 20h15 précises\net/ou Dimanche 1er février à 14h15 précises\nSalle Jérusalem. \nNombreux lots à gagner ! \nAmitié et décontraction de rigueur. \nParticipation : 25€ par joueur au profit de la paroisse \n(40€ pour les 2 tournois). \nRèglement sur place à l’ordre de « Paroisse Ste-Jeanne d’Arc » \nInscription : tournoidebridgesja@gmail.com\, \ntel : 06 84 87 55 84 ou courrier au secrétariat.
URL:https://jeannedarc-versailles.com/event/tournois-de-bridge-au-profit-de-la-paroisse-2/
LOCATION:salle Jérusalem
END:VEVENT
BEGIN:VEVENT
DTSTART;TZID=Europe/Paris:20260130T164500
DTEND;TZID=Europe/Paris:20260130T170000
DTSTAMP:20260421T134817
CREATED:20251117T151524Z
LAST-MODIFIED:20251117T151524Z
UID:13575-1769791500-1769792400@jeannedarc-versailles.com
SUMMARY:Enfants adorateurs
DESCRIPTION:Le groupe des enfants adorateurs de la paroisse\,\nsous la conduite du père Henri Laroche\,\npropose d’initier les enfants de 4 à 10 ans\,\ntous les vendredis (hors vacances scolaires)\n de 16h45 à 17h/17h10\nà la rencontre avec Jésus réellement présent dans l’Eucharistie. \n\nAccueil à partir de 16h30 derrière l’église (sous la responsabilité des parents)\nDébut de l’adoration à 16h45\, encadrée par le père Laroche\nFin vers 17h / 17h10
URL:https://jeannedarc-versailles.com/event/enfants-adorateurs-11/
LOCATION:Eglise Sainte-Jeanne d’Arc\, 5 rue Jules Raulin\, Versailles\, 78000
END:VEVENT
BEGIN:VEVENT
DTSTART;TZID=Europe/Paris:20260129T203000
DTEND;TZID=Europe/Paris:20260129T223000
DTSTAMP:20260421T134817
CREATED:20260109T105630Z
LAST-MODIFIED:20260126T095644Z
UID:12030-1769718600-1769725800@jeannedarc-versailles.com
SUMMARY:Soirée Exception'Elles
DESCRIPTION:Toutes les infos 👉 ici
URL:https://jeannedarc-versailles.com/event/soiree-exceptionelles/
LOCATION:salle Jérusalem
END:VEVENT
BEGIN:VEVENT
DTSTART;TZID=Europe/Paris:20260123T164500
DTEND;TZID=Europe/Paris:20260123T170000
DTSTAMP:20260421T134817
CREATED:20251117T151445Z
LAST-MODIFIED:20251117T151445Z
UID:13573-1769186700-1769187600@jeannedarc-versailles.com
SUMMARY:Enfants adorateurs
DESCRIPTION:Le groupe des enfants adorateurs de la paroisse\,\nsous la conduite du père Henri Laroche\,\npropose d’initier les enfants de 4 à 10 ans\,\ntous les vendredis (hors vacances scolaires)\n de 16h45 à 17h/17h10\nà la rencontre avec Jésus réellement présent dans l’Eucharistie. \n\nAccueil à partir de 16h30 derrière l’église (sous la responsabilité des parents)\nDébut de l’adoration à 16h45\, encadrée par le père Laroche\nFin vers 17h / 17h10
URL:https://jeannedarc-versailles.com/event/enfants-adorateurs-10/
LOCATION:Eglise Sainte-Jeanne d’Arc\, 5 rue Jules Raulin\, Versailles\, 78000
END:VEVENT
BEGIN:VEVENT
DTSTART;TZID=Europe/Paris:20260118T180000
DTEND;TZID=Europe/Paris:20260118T190000
DTSTAMP:20260421T134817
CREATED:20250909T074031Z
LAST-MODIFIED:20250909T074031Z
UID:13254-1768759200-1768762800@jeannedarc-versailles.com
SUMMARY:Misa en espagñol
DESCRIPTION:Un dimanche par mois à 18h\, messe en espagnol à la chapelle Saint-Joseph des Capucins\, 29 bd de Glatigny \nLes dimanches 21 septembre\, 12 octobre\, 16 novembre\, 14 décembre\, 18 janvier\, 8 février\, 22 mars\, 5 avril\, 17 mai\, 28 juin \n \n 
URL:https://jeannedarc-versailles.com/event/misa-en-espagnol-5/
LOCATION:chapelle St Joseph\, boulevard de Glatigny\, Versailles\, 78000
END:VEVENT
BEGIN:VEVENT
DTSTART;TZID=Europe/Paris:20260117T143000
DTEND;TZID=Europe/Paris:20260117T173000
DTSTAMP:20260421T134817
CREATED:20260112T105815Z
LAST-MODIFIED:20260112T105815Z
UID:13817-1768660200-1768671000@jeannedarc-versailles.com
SUMMARY:Un quartier / un défi
DESCRIPTION:« Un Quartier / un Défi » est un projet porté\npar la paroisse Sainte Jeanne d’Arc accompagnée par\nla Maison de Quartier Clagny-Glatigny.\nIl concerne les familles (parents\, enfants\, jeunes et moins jeunes)\ndu quartier Clagny-Glatigny / Richard Mique à Versailles. \nProchain RDV \n\n\nSamedi 17 janvier \nde 14h30 à 17h30 \nPour les ados : grand rallye pédestre à la découverte de notre quartier \nPour les familles et les enfants : jeux au gymnase Richard Mique \nRDV salle Marcelle Tassencourt\,\n7 bis\, rue Pierre Lescot à Versailles. \nÀ l’issue du rallye\, \ngoûter avec galette et chocolat chaud \npour tout le monde \nContact : em.masson78@gmail.com \n\n \n 
URL:https://jeannedarc-versailles.com/event/un-quartier-un-defi-2/
LOCATION:Maison de Quartier Clagny-Glatigny
END:VEVENT
BEGIN:VEVENT
DTSTART;TZID=Europe/Paris:20260116T164500
DTEND;TZID=Europe/Paris:20260116T170000
DTSTAMP:20260421T134817
CREATED:20251117T151343Z
LAST-MODIFIED:20251117T151343Z
UID:13571-1768581900-1768582800@jeannedarc-versailles.com
SUMMARY:Enfants adorateurs
DESCRIPTION:Le groupe des enfants adorateurs de la paroisse\,\nsous la conduite du père Henri Laroche\,\npropose d’initier les enfants de 4 à 10 ans\,\ntous les vendredis (hors vacances scolaires)\n de 16h45 à 17h/17h10\nà la rencontre avec Jésus réellement présent dans l’Eucharistie. \n\nAccueil à partir de 16h30 derrière l’église (sous la responsabilité des parents)\nDébut de l’adoration à 16h45\, encadrée par le père Laroche\nFin vers 17h / 17h10
URL:https://jeannedarc-versailles.com/event/enfants-adorateurs-9/
LOCATION:Eglise Sainte-Jeanne d’Arc\, 5 rue Jules Raulin\, Versailles\, 78000
END:VEVENT
BEGIN:VEVENT
DTSTART;TZID=Europe/Paris:20260114T203000
DTEND;TZID=Europe/Paris:20260114T223000
DTSTAMP:20260421T134817
CREATED:20231105T163328Z
LAST-MODIFIED:20260112T104709Z
UID:9462-1768422600-1768429800@jeannedarc-versailles.com
SUMMARY:Paroissiens séparés ou divorcés
DESCRIPTION:Va Vis et Deviens ! Une rencontre bimestrielle pour les paroissiens séparés et/ou divorcés\n  \n« Va Vis et Deviens » : Titre d’un film culte mais surtout nom d’un nouveau groupe paroissial destiné aux personnes séparées et/ou divorcées\, à leur initiative\, la demande étant bien réelle et récurrente. \nCes rencontres mensuelles\, entre 20h30 et 22h30\, dans la salle paroissiale Jérusalem\, permettent de se rassembler pour \n\npartager le dessert\,\nprier\,\néchanger sur un Evangile autour de quelques questions\,\nécouter l’Enseignement du père Jean-Brice sur ce thème\,\n\nafin qu’ensemble\, nous ouvrions de nouveaux chemins. \nPour plus d’informations sur le déroulement de ces soirées\,\nn’hésitez pas à contacter Sophie BECQUART-CHARVET au 06 61 46 61 45\net merci d’en parler autour de vous.
URL:https://jeannedarc-versailles.com/event/paroissiens-separes-ou-divorces-2/
LOCATION:Salles paroissiales de Sainte-Jeanne d’Arc\, 5 rue Jules Raulin\, Versailles\, 78000\, France
END:VEVENT
END:VCALENDAR