BEGIN:VCALENDAR
VERSION:2.0
PRODID:-//Paroisse sainte Jeanne d&#039;Arc de Versailles - ECPv6.2.5//NONSGML v1.0//EN
CALSCALE:GREGORIAN
METHOD:PUBLISH
X-WR-CALNAME:Paroisse sainte Jeanne d&#039;Arc de Versailles
X-ORIGINAL-URL:https://jeannedarc-versailles.com
X-WR-CALDESC:évènements pour Paroisse sainte Jeanne d&#039;Arc de Versailles
REFRESH-INTERVAL;VALUE=DURATION:PT1H
X-Robots-Tag:noindex
X-PUBLISHED-TTL:PT1H
BEGIN:VTIMEZONE
TZID:Europe/Paris
BEGIN:DAYLIGHT
TZOFFSETFROM:+0100
TZOFFSETTO:+0200
TZNAME:CEST
DTSTART:20260329T010000
END:DAYLIGHT
BEGIN:STANDARD
TZOFFSETFROM:+0200
TZOFFSETTO:+0100
TZNAME:CET
DTSTART:20261025T010000
END:STANDARD
END:VTIMEZONE
BEGIN:VEVENT
DTSTART;TZID=Europe/Paris:20260410T164500
DTEND;TZID=Europe/Paris:20260410T170000
DTSTAMP:20260421T134214
CREATED:20251117T152833Z
LAST-MODIFIED:20251117T152943Z
UID:13589-1775839500-1775840400@jeannedarc-versailles.com
SUMMARY:Enfants adorateurs
DESCRIPTION:Le groupe des enfants adorateurs de la paroisse\,\nsous la conduite du père Henri Laroche\,\npropose d’initier les enfants de 4 à 10 ans\,\ntous les vendredis (hors vacances scolaires)\n de 16h45 à 17h/17h10\nà la rencontre avec Jésus réellement présent dans l’Eucharistie. \n\nAccueil à partir de 16h30 derrière l’église (sous la responsabilité des parents)\nDébut de l’adoration à 16h45\, encadrée par le père Laroche\nFin vers 17h / 17h10
URL:https://jeannedarc-versailles.com/event/enfants-adorateurs-18/
LOCATION:Eglise Sainte-Jeanne d’Arc\, 5 rue Jules Raulin\, Versailles\, 78000
END:VEVENT
BEGIN:VEVENT
DTSTART;TZID=Europe/Paris:20260410T190000
DTEND;TZID=Europe/Paris:20260410T203000
DTSTAMP:20260421T134214
CREATED:20260316T145919Z
LAST-MODIFIED:20260316T145919Z
UID:14060-1775847600-1775853000@jeannedarc-versailles.com
SUMMARY:Soirée Témoignage A Acutis et veillée d'adoration
DESCRIPTION:Vendredi 10 avril\nde 19h à 20h30 \nVeillée témoignage de la mère de Saint Carlo Acutis\nSuivie d’un temps d’adoration \nOuvert à tous !
URL:https://jeannedarc-versailles.com/event/soiree-temoignage-a-acutis-et-veillee-dadoration/
LOCATION:Eglise Sainte-Jeanne d’Arc\, 5 rue Jules Raulin\, Versailles\, 78000
END:VEVENT
END:VCALENDAR