BEGIN:VCALENDAR
VERSION:2.0
PRODID:-//Paroisse sainte Jeanne d&#039;Arc de Versailles - ECPv6.2.5//NONSGML v1.0//EN
CALSCALE:GREGORIAN
METHOD:PUBLISH
X-ORIGINAL-URL:https://jeannedarc-versailles.com
X-WR-CALDESC:évènements pour Paroisse sainte Jeanne d&#039;Arc de Versailles
REFRESH-INTERVAL;VALUE=DURATION:PT1H
X-Robots-Tag:noindex
X-PUBLISHED-TTL:PT1H
BEGIN:VTIMEZONE
TZID:Europe/Paris
BEGIN:DAYLIGHT
TZOFFSETFROM:+0100
TZOFFSETTO:+0200
TZNAME:CEST
DTSTART:20260329T010000
END:DAYLIGHT
BEGIN:STANDARD
TZOFFSETFROM:+0200
TZOFFSETTO:+0100
TZNAME:CET
DTSTART:20261025T010000
END:STANDARD
END:VTIMEZONE
BEGIN:VEVENT
DTSTART;TZID=Europe/Paris:20260129T203000
DTEND;TZID=Europe/Paris:20260129T223000
DTSTAMP:20260421T164005
CREATED:20260109T105630Z
LAST-MODIFIED:20260126T095644Z
UID:12030-1769718600-1769725800@jeannedarc-versailles.com
SUMMARY:Soirée Exception'Elles
DESCRIPTION:Toutes les infos 👉 ici
URL:https://jeannedarc-versailles.com/event/soiree-exceptionelles/
LOCATION:salle Jérusalem
END:VEVENT
END:VCALENDAR