BEGIN:VCALENDAR
VERSION:2.0
PRODID:-//Paroisse sainte Jeanne d&#039;Arc de Versailles - ECPv6.2.5//NONSGML v1.0//EN
CALSCALE:GREGORIAN
METHOD:PUBLISH
X-ORIGINAL-URL:https://jeannedarc-versailles.com
X-WR-CALDESC:évènements pour Paroisse sainte Jeanne d&#039;Arc de Versailles
REFRESH-INTERVAL;VALUE=DURATION:PT1H
X-Robots-Tag:noindex
X-PUBLISHED-TTL:PT1H
BEGIN:VTIMEZONE
TZID:Europe/Paris
BEGIN:DAYLIGHT
TZOFFSETFROM:+0100
TZOFFSETTO:+0200
TZNAME:CEST
DTSTART:20260329T010000
END:DAYLIGHT
BEGIN:STANDARD
TZOFFSETFROM:+0200
TZOFFSETTO:+0100
TZNAME:CET
DTSTART:20261025T010000
END:STANDARD
END:VTIMEZONE
BEGIN:VEVENT
DTSTART;TZID=Europe/Paris:20260113T204500
DTEND;TZID=Europe/Paris:20260113T223000
DTSTAMP:20260421T180748
CREATED:20240822T104250Z
LAST-MODIFIED:20260112T105051Z
UID:11314-1768337100-1768343400@jeannedarc-versailles.com
SUMMARY:"Rien que pour aujourd'hui"
DESCRIPTION:20h45 / 22h30 Groupe de formation pour tous\,\nouvert aux personnes célibataires – 4ème réunion.\n3ème chapitre de l’ Encyclique « Il nous a aimés » du Pape François. (salle Béthanie) \nContact : flo2by@orange.fr/ Père Justin Bannedé
URL:https://jeannedarc-versailles.com/event/rien-que-pour-aujourdhui-6/
LOCATION:Salles paroissiales de Sainte-Jeanne d’Arc\, 5 rue Jules Raulin\, Versailles\, 78000\, France
END:VEVENT
END:VCALENDAR