BEGIN:VCALENDAR
VERSION:2.0
PRODID:-//Paroisse sainte Jeanne d&#039;Arc de Versailles - ECPv6.2.5//NONSGML v1.0//EN
CALSCALE:GREGORIAN
METHOD:PUBLISH
X-WR-CALNAME:Paroisse sainte Jeanne d&#039;Arc de Versailles
X-ORIGINAL-URL:https://jeannedarc-versailles.com
X-WR-CALDESC:évènements pour Paroisse sainte Jeanne d&#039;Arc de Versailles
REFRESH-INTERVAL;VALUE=DURATION:PT1H
X-Robots-Tag:noindex
X-PUBLISHED-TTL:PT1H
BEGIN:VTIMEZONE
TZID:Europe/Paris
BEGIN:DAYLIGHT
TZOFFSETFROM:+0100
TZOFFSETTO:+0200
TZNAME:CEST
DTSTART:20260329T010000
END:DAYLIGHT
BEGIN:STANDARD
TZOFFSETFROM:+0200
TZOFFSETTO:+0100
TZNAME:CET
DTSTART:20261025T010000
END:STANDARD
END:VTIMEZONE
BEGIN:VEVENT
DTSTART;TZID=Europe/Paris:20260111T100000
DTEND;TZID=Europe/Paris:20260111T110000
DTSTAMP:20260421T181408
CREATED:20260103T152020Z
LAST-MODIFIED:20260103T152020Z
UID:13785-1768125600-1768129200@jeannedarc-versailles.com
SUMMARY:Messe pour les baptisés de l'année
DESCRIPTION:MESSE DE TOUS LES BAPTISÉS :\nDimanche 11 janvier à 10h à Ste-Jeanne d’Arc\nMess pour tous les baptisés\, enfants et adultes de l’année 2025\net pour les enfants du catéchisme et leur famille\,\nsuivie d’un vin et chocolat chauds pour échanger nos vœux de nouvelle année ! \n 
URL:https://jeannedarc-versailles.com/event/messe-pour-les-baptises-de-lannee/
LOCATION:Eglise Sainte-Jeanne d’Arc\, 5 rue Jules Raulin\, Versailles\, 78000
END:VEVENT
BEGIN:VEVENT
DTSTART;TZID=Europe/Paris:20260111T153000
DTEND;TZID=Europe/Paris:20260111T170000
DTSTAMP:20260421T181408
CREATED:20260103T150841Z
LAST-MODIFIED:20260103T150841Z
UID:13780-1768145400-1768150800@jeannedarc-versailles.com
SUMMARY:Clôture de l'année jubilaire
DESCRIPTION:Vous êtes tous attendus le dimanche 11 janvier\nde 15h30 à 17h salle Jérusalem\nPour un temps d’échanges et de partage\, animé par le Père Callery\,\navec le témoignage de paroissiens ayant participé\naux grands événements du Jubilé.\nVenez partager les fruits de cette Année Sainte en paroisse !
URL:https://jeannedarc-versailles.com/event/cloture-de-lannee-jubilaire/
LOCATION:salle Jérusalem
END:VEVENT
BEGIN:VEVENT
DTSTART;TZID=Europe/Paris:20260111T170000
DTEND;TZID=Europe/Paris:20260111T183000
DTSTAMP:20260421T181408
CREATED:20260103T151454Z
LAST-MODIFIED:20260103T151454Z
UID:13782-1768150800-1768156200@jeannedarc-versailles.com
SUMMARY:Galette pour les nouveaux arrivants
DESCRIPTION:Dimanche 11 janvier de 17h à 18h30 (salle Jérusalem).\nVenez rencontrer les prêtres et des membres de la paroisse\nqui seront heureux de vous accueillir.
URL:https://jeannedarc-versailles.com/event/galette-pour-les-nouveaux-arrivants/
LOCATION:salle Jérusalem
END:VEVENT
END:VCALENDAR