BEGIN:VCALENDAR
VERSION:2.0
PRODID:-//Paroisse sainte Jeanne d&#039;Arc de Versailles - ECPv6.2.5//NONSGML v1.0//EN
CALSCALE:GREGORIAN
METHOD:PUBLISH
X-ORIGINAL-URL:https://jeannedarc-versailles.com
X-WR-CALDESC:évènements pour Paroisse sainte Jeanne d&#039;Arc de Versailles
REFRESH-INTERVAL;VALUE=DURATION:PT1H
X-Robots-Tag:noindex
X-PUBLISHED-TTL:PT1H
BEGIN:VTIMEZONE
TZID:Europe/Paris
BEGIN:DAYLIGHT
TZOFFSETFROM:+0100
TZOFFSETTO:+0200
TZNAME:CEST
DTSTART:20250330T010000
END:DAYLIGHT
BEGIN:STANDARD
TZOFFSETFROM:+0200
TZOFFSETTO:+0100
TZNAME:CET
DTSTART:20251026T010000
END:STANDARD
END:VTIMEZONE
BEGIN:VEVENT
DTSTART;TZID=Europe/Paris:20251129T180000
DTEND;TZID=Europe/Paris:20251129T190000
DTSTAMP:20260421T212437
CREATED:20230310T203233Z
LAST-MODIFIED:20251008T105732Z
UID:9806-1764439200-1764442800@jeannedarc-versailles.com
SUMMARY:Messe animée par l'équipe liturgique collégiens
DESCRIPTION:Samedi 29 novembre\, 18h à Saint-Joseph\, la messe sera animée par l’équipe liturgique des collégiens! \nLes jeunes qui souhaitent rejoindre l’équipe sont les bienvenus.\nEcrire à : cecile.blavet@gmail.com pour recevoir les partitions et les informations pratiques.\nDès 8 ans !\nNous recherchons des grands adolescents/étudiants pour soutenir les plus jeunes à l’instruments\, n’hésitez pas à vous faire connaitre!\nToutes les infos sur cette équipe d’animation ici
URL:https://jeannedarc-versailles.com/event/messe-animee-par-lequipe-liturgique-collegiens/
LOCATION:chapelle St Joseph\, boulevard de Glatigny\, Versailles\, 78000
END:VEVENT
END:VCALENDAR