BEGIN:VCALENDAR
VERSION:2.0
PRODID:-//Paroisse sainte Jeanne d&#039;Arc de Versailles - ECPv6.2.5//NONSGML v1.0//EN
CALSCALE:GREGORIAN
METHOD:PUBLISH
X-WR-CALNAME:Paroisse sainte Jeanne d&#039;Arc de Versailles
X-ORIGINAL-URL:https://jeannedarc-versailles.com
X-WR-CALDESC:évènements pour Paroisse sainte Jeanne d&#039;Arc de Versailles
REFRESH-INTERVAL;VALUE=DURATION:PT1H
X-Robots-Tag:noindex
X-PUBLISHED-TTL:PT1H
BEGIN:VTIMEZONE
TZID:Europe/Paris
BEGIN:DAYLIGHT
TZOFFSETFROM:+0100
TZOFFSETTO:+0200
TZNAME:CEST
DTSTART:20250330T010000
END:DAYLIGHT
BEGIN:STANDARD
TZOFFSETFROM:+0200
TZOFFSETTO:+0100
TZNAME:CET
DTSTART:20251026T010000
END:STANDARD
END:VTIMEZONE
BEGIN:VEVENT
DTSTART;TZID=Europe/Paris:20250930T200000
DTEND;TZID=Europe/Paris:20250930T223000
DTSTAMP:20260421T231653
CREATED:20250917T122736Z
LAST-MODIFIED:20250917T122736Z
UID:13292-1759262400-1759271400@jeannedarc-versailles.com
SUMMARY:Soirée Spi&Spi pour les hommes
DESCRIPTION:Vous êtes un homme de plus de 35 ans\, \nEtes-vous prêts à participer à notre prochaine soirée  \nSpi&Spi (spiriuel et spiritueux) ? \nRDV le 30 septembre prochain \nNe perdez-pas de temps pour vous inscrire! \nToutes les infos ici ! \n 
URL:https://jeannedarc-versailles.com/event/soiree-spispi-pour-les-hommes-6/
LOCATION:salle Jérusalem
END:VEVENT
BEGIN:VEVENT
DTSTART;TZID=Europe/Paris:20250930T203000
DTEND;TZID=Europe/Paris:20250930T221500
DTSTAMP:20260421T231653
CREATED:20230604T091436Z
LAST-MODIFIED:20250921T203734Z
UID:9186-1759264200-1759270500@jeannedarc-versailles.com
SUMMARY:Les rencontres bibliques œcuméniques 2025 / 2026
DESCRIPTION:Première soirée du cycle des rencontres bibliques œcuméniques 2025 / 2026 \nmardi 30 septembre 2025\nThème de la soirée : L’espérance dans la Bible\n20h45 / 22h15\nSalle Jéricho\, sous l’église Sainte-Jeanne d’Arc
URL:https://jeannedarc-versailles.com/event/les-rencontres-bibliques-oecumeniques-2023-2024/
LOCATION:salle Jérusalem
END:VEVENT
END:VCALENDAR