BEGIN:VCALENDAR
VERSION:2.0
PRODID:-//Paroisse sainte Jeanne d&#039;Arc de Versailles - ECPv6.2.5//NONSGML v1.0//EN
CALSCALE:GREGORIAN
METHOD:PUBLISH
X-ORIGINAL-URL:https://jeannedarc-versailles.com
X-WR-CALDESC:évènements pour Paroisse sainte Jeanne d&#039;Arc de Versailles
REFRESH-INTERVAL;VALUE=DURATION:PT1H
X-Robots-Tag:noindex
X-PUBLISHED-TTL:PT1H
BEGIN:VTIMEZONE
TZID:Europe/Paris
BEGIN:DAYLIGHT
TZOFFSETFROM:+0100
TZOFFSETTO:+0200
TZNAME:CEST
DTSTART:20250330T010000
END:DAYLIGHT
BEGIN:STANDARD
TZOFFSETFROM:+0200
TZOFFSETTO:+0100
TZNAME:CET
DTSTART:20251026T010000
END:STANDARD
END:VTIMEZONE
BEGIN:VEVENT
DTSTART;TZID=Europe/Paris:20250905T170000
DTEND;TZID=Europe/Paris:20250905T190000
DTSTAMP:20260422T005033
CREATED:20240822T101347Z
LAST-MODIFIED:20250903T093643Z
UID:11302-1757091600-1757098800@jeannedarc-versailles.com
SUMMARY:Inscriptions au catéchisme
DESCRIPTION:[vc_row][vc_column] \nPermanences d’INSCRIPTIONS pour l’année 2025-2026 à l’église Sainte Jeanne d’Arc\n\n\nVendredi 5 septembre     17h-19h\nSamedi 6 septembre        10h-12h\n\n\n\n\nPour plus d’information rendez-vous sur la page Catéchisme.\n[/vc_column][/vc_row]
URL:https://jeannedarc-versailles.com/event/inscriptions-au-catechisme/
LOCATION:Crypte de Ste Jeanne d’Arc\, 5 rue Jules Raulin\, Versailles\, 78000\, France
END:VEVENT
BEGIN:VEVENT
DTSTART;TZID=Europe/Paris:20250905T200000
DTEND;TZID=Europe/Paris:20250905T210000
DTSTAMP:20260422T005033
CREATED:20250830T150746Z
LAST-MODIFIED:20250830T150746Z
UID:13143-1757102400-1757106000@jeannedarc-versailles.com
SUMMARY:Veillée d'adoration Scoute
DESCRIPTION:Toutes les infos ici
URL:https://jeannedarc-versailles.com/event/veillee-dadoration-scoute/
LOCATION:Eglise Sainte-Jeanne d’Arc\, 5 rue Jules Raulin\, Versailles\, 78000
END:VEVENT
END:VCALENDAR