BEGIN:VCALENDAR
VERSION:2.0
PRODID:-//Paroisse sainte Jeanne d&#039;Arc de Versailles - ECPv6.2.5//NONSGML v1.0//EN
CALSCALE:GREGORIAN
METHOD:PUBLISH
X-WR-CALNAME:Paroisse sainte Jeanne d&#039;Arc de Versailles
X-ORIGINAL-URL:https://jeannedarc-versailles.com
X-WR-CALDESC:évènements pour Paroisse sainte Jeanne d&#039;Arc de Versailles
REFRESH-INTERVAL;VALUE=DURATION:PT1H
X-Robots-Tag:noindex
X-PUBLISHED-TTL:PT1H
BEGIN:VTIMEZONE
TZID:Europe/Paris
BEGIN:DAYLIGHT
TZOFFSETFROM:+0100
TZOFFSETTO:+0200
TZNAME:CEST
DTSTART:20250330T010000
END:DAYLIGHT
BEGIN:STANDARD
TZOFFSETFROM:+0200
TZOFFSETTO:+0100
TZNAME:CET
DTSTART:20251026T010000
END:STANDARD
END:VTIMEZONE
BEGIN:VEVENT
DTSTART;TZID=Europe/Paris:20250626T204500
DTEND;TZID=Europe/Paris:20250626T220000
DTSTAMP:20260422T055933
CREATED:20240922T211058Z
LAST-MODIFIED:20240922T211058Z
UID:11563-1750970700-1750975200@jeannedarc-versailles.com
SUMMARY:Répétition chorale du 1er vendredi du mois
DESCRIPTION:La chorale de l’Adoration du 1er vendredi du mois cherche à s’étoffer : \ntout niveau\, tout pupitre\, tout âge ! \nÀ vous qui aimez chanter\, bienvenue !\nNous animons l’adoration paroissiale du 1er vendredi du mois après l’heure des scouts à partir de 21h. \n\nProchaine répétition jeudi 26 septembre à 20h45 salle Jéricho\, \n\nen vue de préparer l’Adoration du 4 octobre.\nContact : Clémentine Harkabus 07 82 66 50 08.
URL:https://jeannedarc-versailles.com/event/repetition-chorale-du-1er-vendredi-du-mois/
LOCATION:Salles paroissiales de Sainte-Jeanne d’Arc\, 5 rue Jules Raulin\, Versailles\, 78000\, France
END:VEVENT
END:VCALENDAR