BEGIN:VCALENDAR
VERSION:2.0
PRODID:-//Paroisse sainte Jeanne d&#039;Arc de Versailles - ECPv6.2.5//NONSGML v1.0//EN
CALSCALE:GREGORIAN
METHOD:PUBLISH
X-ORIGINAL-URL:https://jeannedarc-versailles.com
X-WR-CALDESC:évènements pour Paroisse sainte Jeanne d&#039;Arc de Versailles
REFRESH-INTERVAL;VALUE=DURATION:PT1H
X-Robots-Tag:noindex
X-PUBLISHED-TTL:PT1H
BEGIN:VTIMEZONE
TZID:Europe/Paris
BEGIN:DAYLIGHT
TZOFFSETFROM:+0100
TZOFFSETTO:+0200
TZNAME:CEST
DTSTART:20250330T010000
END:DAYLIGHT
BEGIN:STANDARD
TZOFFSETFROM:+0200
TZOFFSETTO:+0100
TZNAME:CET
DTSTART:20251026T010000
END:STANDARD
END:VTIMEZONE
BEGIN:VEVENT
DTSTART;TZID=Europe/Paris:20250428T200000
DTEND;TZID=Europe/Paris:20250428T220000
DTSTAMP:20260422T052108
CREATED:20250428T085612Z
LAST-MODIFIED:20250428T085620Z
UID:12675-1745870400-1745877600@jeannedarc-versailles.com
SUMMARY:Messe de Requiem et d'action de grâce pour le Pape François
DESCRIPTION:Mgr Luc Crepy vous invite à participer à la messe de requiem et d’action de grâce pour le pape François\, qui aura lieu lundi 28 avril\, à 20h\, à la Cathédrale Saint-Louis à Versailles. \n\n\n\n\nCette messe\, présidée par notre Evêque\, sera l’occasion de rendre grâce pour son ministère de Pape et de prier pour le repos de son âme\, avec les prêtres\, les diacres\, tous les fidèles du diocèse qui pourront y participer et tous ceux qui souhaiteront s’y joindre.\n\nLire le communiqué de Mgr Crepy à l’occasion du décès du Pape François
URL:https://jeannedarc-versailles.com/event/messe-de-requiem-et-daction-de-grace-pour-le-pape-francoise/
END:VEVENT
END:VCALENDAR