BEGIN:VCALENDAR
VERSION:2.0
PRODID:-//Paroisse sainte Jeanne d&#039;Arc de Versailles - ECPv6.2.5//NONSGML v1.0//EN
CALSCALE:GREGORIAN
METHOD:PUBLISH
X-ORIGINAL-URL:https://jeannedarc-versailles.com
X-WR-CALDESC:évènements pour Paroisse sainte Jeanne d&#039;Arc de Versailles
REFRESH-INTERVAL;VALUE=DURATION:PT1H
X-Robots-Tag:noindex
X-PUBLISHED-TTL:PT1H
BEGIN:VTIMEZONE
TZID:Europe/Paris
BEGIN:DAYLIGHT
TZOFFSETFROM:+0100
TZOFFSETTO:+0200
TZNAME:CEST
DTSTART:20250330T010000
END:DAYLIGHT
BEGIN:STANDARD
TZOFFSETFROM:+0200
TZOFFSETTO:+0100
TZNAME:CET
DTSTART:20251026T010000
END:STANDARD
END:VTIMEZONE
BEGIN:VEVENT
DTSTART;TZID=Europe/Paris:20250405T143000
DTEND;TZID=Europe/Paris:20250405T173000
DTSTAMP:20260422T035253
CREATED:20230516T154436Z
LAST-MODIFIED:20240822T102155Z
UID:8380-1743863400-1743874200@jeannedarc-versailles.com
SUMMARY:Après-midi "Un quartier Un défi"
DESCRIPTION:La journée sports de Un Quartier / Un Défi 2025 aura lieu le samedi 5 avril prochain. \nOlympiades sportives\nStructure gonflable\nGoûter\nRendez-vous de 14h30 à 17h30\nau parc Jonathan Sandler \n\nComme chaque année tous les enfants de la paroisse (10 à 17 ans) sont invités afin de leur permettre\, au travers de ces olympiades de quartier\, de faire connaissance avec les enfants de la Maison de Quartier et des résidences Richard Mique. \n 
URL:https://jeannedarc-versailles.com/event/apres-midi-un-quartier-un-defi/
LOCATION:Maison de Quartier Clagny-Glatigny
END:VEVENT
END:VCALENDAR