BEGIN:VCALENDAR
VERSION:2.0
PRODID:-//Paroisse sainte Jeanne d&#039;Arc de Versailles - ECPv6.2.5//NONSGML v1.0//EN
CALSCALE:GREGORIAN
METHOD:PUBLISH
X-ORIGINAL-URL:https://jeannedarc-versailles.com
X-WR-CALDESC:évènements pour Paroisse sainte Jeanne d&#039;Arc de Versailles
REFRESH-INTERVAL;VALUE=DURATION:PT1H
X-Robots-Tag:noindex
X-PUBLISHED-TTL:PT1H
BEGIN:VTIMEZONE
TZID:Europe/Paris
BEGIN:DAYLIGHT
TZOFFSETFROM:+0100
TZOFFSETTO:+0200
TZNAME:CEST
DTSTART:20250330T010000
END:DAYLIGHT
BEGIN:STANDARD
TZOFFSETFROM:+0200
TZOFFSETTO:+0100
TZNAME:CET
DTSTART:20251026T010000
END:STANDARD
END:VTIMEZONE
BEGIN:VEVENT
DTSTART;TZID=Europe/Paris:20250316T160000
DTEND;TZID=Europe/Paris:20250316T170000
DTSTAMP:20260422T035330
CREATED:20250316T092639Z
LAST-MODIFIED:20250316T092639Z
UID:12479-1742140800-1742144400@jeannedarc-versailles.com
SUMMARY:Présentation du Chemin de Croix
DESCRIPTION:Le dimanche 16 mars à 16h\,\nPrésentation dans l’église Sainte-Jeanne d’Arc\,\ndu chemin de croix d’Isabelle de Hédouville \nRetrouvez ici le support d’explication \n 
URL:https://jeannedarc-versailles.com/event/presentation-du-chemin-de-croix/
LOCATION:Eglise Sainte-Jeanne d’Arc\, 5 rue Jules Raulin\, Versailles\, 78000
END:VEVENT
BEGIN:VEVENT
DTSTART;TZID=Europe/Paris:20250316T173000
DTEND;TZID=Europe/Paris:20250316T183000
DTSTAMP:20260422T035330
CREATED:20250316T093315Z
LAST-MODIFIED:20250316T093315Z
UID:12481-1742146200-1742149800@jeannedarc-versailles.com
SUMMARY:Foire aux questions
DESCRIPTION:Un prêtre (essaye) de vous répondre !\nVous avez des questions que vous n’avez jamais eu le temps de poser à un prêtre\, et bien c’est l’occasion !!\n \nDimanche 16 mars\, RDV à 17h30 \nSalle Jérusalem \nLe Père Callery tentera de vous répondre. \nVenez nombreux !
URL:https://jeannedarc-versailles.com/event/foire-aux-questions/
LOCATION:Salle Sainte Marie
END:VEVENT
END:VCALENDAR