BEGIN:VCALENDAR
VERSION:2.0
PRODID:-//Paroisse sainte Jeanne d&#039;Arc de Versailles - ECPv6.2.5//NONSGML v1.0//EN
CALSCALE:GREGORIAN
METHOD:PUBLISH
X-ORIGINAL-URL:https://jeannedarc-versailles.com
X-WR-CALDESC:évènements pour Paroisse sainte Jeanne d&#039;Arc de Versailles
REFRESH-INTERVAL;VALUE=DURATION:PT1H
X-Robots-Tag:noindex
X-PUBLISHED-TTL:PT1H
BEGIN:VTIMEZONE
TZID:Europe/Paris
BEGIN:DAYLIGHT
TZOFFSETFROM:+0100
TZOFFSETTO:+0200
TZNAME:CEST
DTSTART:20250330T010000
END:DAYLIGHT
BEGIN:STANDARD
TZOFFSETFROM:+0200
TZOFFSETTO:+0100
TZNAME:CET
DTSTART:20251026T010000
END:STANDARD
END:VTIMEZONE
BEGIN:VEVENT
DTSTART;TZID=Europe/Paris:20250213T204500
DTEND;TZID=Europe/Paris:20250213T223000
DTSTAMP:20260422T021859
CREATED:20240129T162707Z
LAST-MODIFIED:20250203T211644Z
UID:10050-1739479500-1739485800@jeannedarc-versailles.com
SUMMARY:Soirée compassion
DESCRIPTION:Les prêtres de notre paroisse et le service de l’APS vous appellent à participer à la\nSOIRÉE COMPASSION\nqui aura lieu le jeudi 13 février 2025 à 20h45 dans l’église\, \nProche ou non de l’Eglise\, vous êtes tous invités à venir confier fardeaux et souffrances de votre vie ou de celles de vos proches à l’intercession de la communauté paroissiale de Sainte Jeanne d’Arc qui vous accueille et prie pour vous. \nLors de cette veillée de prière et d’adoration\, venez découvrir le chemin d’espérance et de pacification intérieure inédit ouvert par le Christ pour nous libérer du poids des pardons non-donnés ou trop difficiles\, souvent causes de blocages et de tourments dans notre vie. \nUn enseignement et une démarche intérieure seront proposés en ce sens. \nVous pourrez également recevoir une bénédiction personnelle des mains des prêtres\, source de réconfort\, de consolation et d’espérance pour votre route. \nInvitez et venez nombreux !
URL:https://jeannedarc-versailles.com/event/soiree-compassion-3/
LOCATION:Eglise Sainte-Jeanne d’Arc\, 5 rue Jules Raulin\, Versailles\, 78000
END:VEVENT
END:VCALENDAR