BEGIN:VCALENDAR
VERSION:2.0
PRODID:-//Paroisse sainte Jeanne d&#039;Arc de Versailles - ECPv6.2.5//NONSGML v1.0//EN
CALSCALE:GREGORIAN
METHOD:PUBLISH
X-WR-CALNAME:Paroisse sainte Jeanne d&#039;Arc de Versailles
X-ORIGINAL-URL:https://jeannedarc-versailles.com
X-WR-CALDESC:évènements pour Paroisse sainte Jeanne d&#039;Arc de Versailles
REFRESH-INTERVAL;VALUE=DURATION:PT1H
X-Robots-Tag:noindex
X-PUBLISHED-TTL:PT1H
BEGIN:VTIMEZONE
TZID:Europe/Paris
BEGIN:DAYLIGHT
TZOFFSETFROM:+0100
TZOFFSETTO:+0200
TZNAME:CEST
DTSTART:20250330T010000
END:DAYLIGHT
BEGIN:STANDARD
TZOFFSETFROM:+0200
TZOFFSETTO:+0100
TZNAME:CET
DTSTART:20251026T010000
END:STANDARD
END:VTIMEZONE
BEGIN:VEVENT
DTSTART;TZID=Europe/Paris:20250212T140000
DTEND;TZID=Europe/Paris:20250212T150000
DTSTAMP:20260422T021659
CREATED:20240216T103321Z
LAST-MODIFIED:20250210T134115Z
UID:10293-1739368800-1739372400@jeannedarc-versailles.com
SUMMARY:Chapelet des enfants
DESCRIPTION:Les Clairettes de SJA\nproposent à tous les enfants de la paroisse\nde venir les rejoindre pour un chapelet\ndevant la statue de la Vierge Marie dans l’église\nmercredi 12 février de 14h à 15h \n 
URL:https://jeannedarc-versailles.com/event/chapelet-des-enfants-2/
LOCATION:Eglise Sainte-Jeanne d’Arc\, 5 rue Jules Raulin\, Versailles\, 78000
END:VEVENT
BEGIN:VEVENT
DTSTART;TZID=Europe/Paris:20250212T194500
DTEND;TZID=Europe/Paris:20250212T223000
DTSTAMP:20260422T021659
CREATED:20240822T104128Z
LAST-MODIFIED:20240822T104128Z
UID:11310-1739389500-1739399400@jeannedarc-versailles.com
SUMMARY:"Rien que pour aujourd'hui"
DESCRIPTION:Viser la sainteté quel que soit son état de vie \nParticipation du père Callery. Réunion autour de la lettre apostolique « La joie et l’Allégresse » du Pape François \n2 temps proposés précédant la réunion (vous arrivez quand vous pouvez !) \n\n19h-20h : Adoration (chapelle Ste-Clotilde)\n20h-20h45 (salle Jérusalem) : partage repas convivial (apportez ce qu’il vous plaira).\n\nToutes les infos par ici 
URL:https://jeannedarc-versailles.com/event/rien-que-pour-aujourdhui-4/
LOCATION:salle Jérusalem
END:VEVENT
END:VCALENDAR