BEGIN:VCALENDAR
VERSION:2.0
PRODID:-//Paroisse sainte Jeanne d&#039;Arc de Versailles - ECPv6.2.5//NONSGML v1.0//EN
CALSCALE:GREGORIAN
METHOD:PUBLISH
X-WR-CALNAME:Paroisse sainte Jeanne d&#039;Arc de Versailles
X-ORIGINAL-URL:https://jeannedarc-versailles.com
X-WR-CALDESC:évènements pour Paroisse sainte Jeanne d&#039;Arc de Versailles
REFRESH-INTERVAL;VALUE=DURATION:PT1H
X-Robots-Tag:noindex
X-PUBLISHED-TTL:PT1H
BEGIN:VTIMEZONE
TZID:Europe/Paris
BEGIN:DAYLIGHT
TZOFFSETFROM:+0100
TZOFFSETTO:+0200
TZNAME:CEST
DTSTART:20240331T010000
END:DAYLIGHT
BEGIN:STANDARD
TZOFFSETFROM:+0200
TZOFFSETTO:+0100
TZNAME:CET
DTSTART:20241027T010000
END:STANDARD
END:VTIMEZONE
BEGIN:VEVENT
DTSTART;TZID=Europe/Paris:20241214T150000
DTEND;TZID=Europe/Paris:20241214T180000
DTSTAMP:20260421T231531
CREATED:20231111T151523Z
LAST-MODIFIED:20240822T102102Z
UID:9513-1734188400-1734199200@jeannedarc-versailles.com
SUMMARY:Un quartier\, un défi - ciné club
DESCRIPTION:Un moment convivial autour d’un goûter et d’un film\, suivi d’un débat. \nPour les enfants de 6 à 10 ans.
URL:https://jeannedarc-versailles.com/event/un-quartier-un-defi-cine-club/
LOCATION:salle Jérusalem
END:VEVENT
END:VCALENDAR