BEGIN:VCALENDAR
VERSION:2.0
PRODID:-//Paroisse sainte Jeanne d&#039;Arc de Versailles - ECPv6.2.5//NONSGML v1.0//EN
CALSCALE:GREGORIAN
METHOD:PUBLISH
X-ORIGINAL-URL:https://jeannedarc-versailles.com
X-WR-CALDESC:évènements pour Paroisse sainte Jeanne d&#039;Arc de Versailles
REFRESH-INTERVAL;VALUE=DURATION:PT1H
X-Robots-Tag:noindex
X-PUBLISHED-TTL:PT1H
BEGIN:VTIMEZONE
TZID:Europe/Paris
BEGIN:DAYLIGHT
TZOFFSETFROM:+0100
TZOFFSETTO:+0200
TZNAME:CEST
DTSTART:20240331T010000
END:DAYLIGHT
BEGIN:STANDARD
TZOFFSETFROM:+0200
TZOFFSETTO:+0100
TZNAME:CET
DTSTART:20241027T010000
END:STANDARD
END:VTIMEZONE
BEGIN:VEVENT
DTSTART;TZID=Europe/Paris:20241212T194500
DTEND;TZID=Europe/Paris:20241212T223000
DTSTAMP:20260421T231827
CREATED:20240822T104032Z
LAST-MODIFIED:20240822T104032Z
UID:11308-1734032700-1734042600@jeannedarc-versailles.com
SUMMARY:"Rien que pour aujourd'hui"
DESCRIPTION:Viser la sainteté quel que soit son état de vie \nParticipation du père Callery. Réunion autour de la lettre apostolique « La joie et l’Allégresse » du Pape François \n2 temps proposés précédant la réunion (vous arrivez quand vous pouvez !) \n\n19h-20h : Adoration (chapelle Ste-Clotilde)\n20h-20h45 (salle Jérusalem) : partage repas convivial (apportez ce qu’il vous plaira).\n\nToutes les infos par ici 
URL:https://jeannedarc-versailles.com/event/rien-que-pour-aujourdhui-3/
LOCATION:salle Jérusalem
END:VEVENT
END:VCALENDAR