BEGIN:VCALENDAR
VERSION:2.0
PRODID:-//Paroisse sainte Jeanne d&#039;Arc de Versailles - ECPv6.2.5//NONSGML v1.0//EN
CALSCALE:GREGORIAN
METHOD:PUBLISH
X-ORIGINAL-URL:https://jeannedarc-versailles.com
X-WR-CALDESC:évènements pour Paroisse sainte Jeanne d&#039;Arc de Versailles
REFRESH-INTERVAL;VALUE=DURATION:PT1H
X-Robots-Tag:noindex
X-PUBLISHED-TTL:PT1H
BEGIN:VTIMEZONE
TZID:Europe/Paris
BEGIN:DAYLIGHT
TZOFFSETFROM:+0100
TZOFFSETTO:+0200
TZNAME:CEST
DTSTART:20240331T010000
END:DAYLIGHT
BEGIN:STANDARD
TZOFFSETFROM:+0200
TZOFFSETTO:+0100
TZNAME:CET
DTSTART:20241027T010000
END:STANDARD
END:VTIMEZONE
BEGIN:VEVENT
DTSTART;TZID=Europe/Paris:20241116T080000
DTEND;TZID=Europe/Paris:20241116T190000
DTSTAMP:20260421T212442
CREATED:20231105T162723Z
LAST-MODIFIED:20240822T101621Z
UID:9460-1731744000-1731783600@jeannedarc-versailles.com
SUMMARY:Pèlerinage à Montmartre
DESCRIPTION:Vous êtes tous invités au pèlerinage des adorateurs le Samedi 16Novembre !\n20km de marche de Sainte-Jeanne d’Arc au Sacré Coeur de Montmartre \nReliant ainsi ces deux lieux d’adoration. \nAccessible à tous ! \nLes inscriptions sont encore ouvertes :
URL:https://jeannedarc-versailles.com/event/pelerinage-a-montmartre-3/
END:VEVENT
END:VCALENDAR