BEGIN:VCALENDAR
VERSION:2.0
PRODID:-//Paroisse sainte Jeanne d&#039;Arc de Versailles - ECPv6.2.5//NONSGML v1.0//EN
CALSCALE:GREGORIAN
METHOD:PUBLISH
X-ORIGINAL-URL:https://jeannedarc-versailles.com
X-WR-CALDESC:évènements pour Paroisse sainte Jeanne d&#039;Arc de Versailles
REFRESH-INTERVAL;VALUE=DURATION:PT1H
X-Robots-Tag:noindex
X-PUBLISHED-TTL:PT1H
BEGIN:VTIMEZONE
TZID:Europe/Paris
BEGIN:DAYLIGHT
TZOFFSETFROM:+0100
TZOFFSETTO:+0200
TZNAME:CEST
DTSTART:20240331T010000
END:DAYLIGHT
BEGIN:STANDARD
TZOFFSETFROM:+0200
TZOFFSETTO:+0100
TZNAME:CET
DTSTART:20241027T010000
END:STANDARD
END:VTIMEZONE
BEGIN:VEVENT
DTSTART;TZID=Europe/Paris:20240921T113000
DTEND;TZID=Europe/Paris:20240921T130000
DTSTAMP:20260421T181907
CREATED:20240917T084700Z
LAST-MODIFIED:20240918T100143Z
UID:9012-1726918200-1726923600@jeannedarc-versailles.com
SUMMARY:Apéro des Pères de famille - C'est la reprise !
DESCRIPTION:Reprise des apéro des pères de familles ! \nRendez-vous le samedi 21 septembre 11h30 salle St Marie !\nPour retrouver toutes les dates de cette nouvelle année\, cliquez ici. \nPour en savoir plus sur les groupes d’hommes de notre paroisse\, cliquez ici
URL:https://jeannedarc-versailles.com/event/apero-des-peres-de-famille-cest-la-reprise/
LOCATION:Salle Sainte Marie
END:VEVENT
END:VCALENDAR