BEGIN:VCALENDAR
VERSION:2.0
PRODID:-//Paroisse sainte Jeanne d&#039;Arc de Versailles - ECPv6.2.5//NONSGML v1.0//EN
CALSCALE:GREGORIAN
METHOD:PUBLISH
X-ORIGINAL-URL:https://jeannedarc-versailles.com
X-WR-CALDESC:évènements pour Paroisse sainte Jeanne d&#039;Arc de Versailles
REFRESH-INTERVAL;VALUE=DURATION:PT1H
X-Robots-Tag:noindex
X-PUBLISHED-TTL:PT1H
BEGIN:VTIMEZONE
TZID:Europe/Paris
BEGIN:DAYLIGHT
TZOFFSETFROM:+0100
TZOFFSETTO:+0200
TZNAME:CEST
DTSTART:20240331T010000
END:DAYLIGHT
BEGIN:STANDARD
TZOFFSETFROM:+0200
TZOFFSETTO:+0100
TZNAME:CET
DTSTART:20241027T010000
END:STANDARD
END:VTIMEZONE
BEGIN:VEVENT
DTSTART;TZID=Europe/Paris:20240629T183000
DTEND;TZID=Europe/Paris:20240629T193000
DTSTAMP:20260421T134714
CREATED:20240625T111257Z
LAST-MODIFIED:20240625T111257Z
UID:11097-1719685800-1719689400@jeannedarc-versailles.com
SUMMARY:Messe d'envoi en camp
DESCRIPTION:Messe d’envoi en camp pour tous les scouts de la paroisse. \nSamedi 29 juin à 18h30\nà l’église Sainte-Jeanne d’Arc \nBénédiction des chefs et cheftaines et CP / CE \n \n  \n 
URL:https://jeannedarc-versailles.com/event/messe-denvoi-en-camp-2/
END:VEVENT
END:VCALENDAR