BEGIN:VCALENDAR
VERSION:2.0
PRODID:-//Paroisse sainte Jeanne d&#039;Arc de Versailles - ECPv6.2.5//NONSGML v1.0//EN
CALSCALE:GREGORIAN
METHOD:PUBLISH
X-ORIGINAL-URL:https://jeannedarc-versailles.com
X-WR-CALDESC:évènements pour Paroisse sainte Jeanne d&#039;Arc de Versailles
REFRESH-INTERVAL;VALUE=DURATION:PT1H
X-Robots-Tag:noindex
X-PUBLISHED-TTL:PT1H
BEGIN:VTIMEZONE
TZID:Europe/Paris
BEGIN:DAYLIGHT
TZOFFSETFROM:+0100
TZOFFSETTO:+0200
TZNAME:CEST
DTSTART:20240331T010000
END:DAYLIGHT
BEGIN:STANDARD
TZOFFSETFROM:+0200
TZOFFSETTO:+0100
TZNAME:CET
DTSTART:20241027T010000
END:STANDARD
END:VTIMEZONE
BEGIN:VEVENT
DTSTART;TZID=Europe/Paris:20240616T170000
DTEND;TZID=Europe/Paris:20240617T180000
DTSTAMP:20260421T134715
CREATED:20240604T140301Z
LAST-MODIFIED:20240604T140301Z
UID:10971-1718557200-1718647200@jeannedarc-versailles.com
SUMMARY:Un prêtre "essaye" de vous répondre
DESCRIPTION:Dernière séance de l’année de la « foire aux questions » \nVenez poser tous les questions que vous vous posez au Père Callery qui essaiera de vous répondre ! \nRdv le dimanche 16 juin à 17h Salle Jérusalem \n \n  \n 
URL:https://jeannedarc-versailles.com/event/un-pretre-essaye-de-vous-repondre/
END:VEVENT
END:VCALENDAR