BEGIN:VCALENDAR
VERSION:2.0
PRODID:-//Paroisse sainte Jeanne d&#039;Arc de Versailles - ECPv6.2.5//NONSGML v1.0//EN
CALSCALE:GREGORIAN
METHOD:PUBLISH
X-WR-CALNAME:Paroisse sainte Jeanne d&#039;Arc de Versailles
X-ORIGINAL-URL:https://jeannedarc-versailles.com
X-WR-CALDESC:évènements pour Paroisse sainte Jeanne d&#039;Arc de Versailles
REFRESH-INTERVAL;VALUE=DURATION:PT1H
X-Robots-Tag:noindex
X-PUBLISHED-TTL:PT1H
BEGIN:VTIMEZONE
TZID:Europe/Paris
BEGIN:DAYLIGHT
TZOFFSETFROM:+0100
TZOFFSETTO:+0200
TZNAME:CEST
DTSTART:20240331T010000
END:DAYLIGHT
BEGIN:STANDARD
TZOFFSETFROM:+0200
TZOFFSETTO:+0100
TZNAME:CET
DTSTART:20241027T010000
END:STANDARD
END:VTIMEZONE
BEGIN:VEVENT
DTSTART;TZID=Europe/Paris:20240528T190000
DTEND;TZID=Europe/Paris:20240528T200000
DTSTAMP:20260419T161322
CREATED:20240528T125743Z
LAST-MODIFIED:20240528T125743Z
UID:10920-1716922800-1716926400@jeannedarc-versailles.com
SUMMARY:Chapelet pour la Vie
DESCRIPTION:Pour la Vie\,\nen union de prière avec les évêques à Paris\, \nnous vous proposons de se retrouver \nà Jeanne d’Arc à 19h pour un chapelet.
URL:https://jeannedarc-versailles.com/event/chapelet-pour-la-vie/
END:VEVENT
BEGIN:VEVENT
DTSTART;TZID=Europe/Paris:20240528T193000
DTEND;TZID=Europe/Paris:20240528T220000
DTSTAMP:20260419T161322
CREATED:20240404T120812Z
LAST-MODIFIED:20240404T120812Z
UID:10713-1716924600-1716933600@jeannedarc-versailles.com
SUMMARY:Veillée de prière pour la vie
DESCRIPTION: 
URL:https://jeannedarc-versailles.com/event/veillee-de-priere-pour-la-vie/
END:VEVENT
END:VCALENDAR