BEGIN:VCALENDAR
VERSION:2.0
PRODID:-//Paroisse sainte Jeanne d&#039;Arc de Versailles - ECPv6.2.5//NONSGML v1.0//EN
CALSCALE:GREGORIAN
METHOD:PUBLISH
X-ORIGINAL-URL:https://jeannedarc-versailles.com
X-WR-CALDESC:évènements pour Paroisse sainte Jeanne d&#039;Arc de Versailles
REFRESH-INTERVAL;VALUE=DURATION:PT1H
X-Robots-Tag:noindex
X-PUBLISHED-TTL:PT1H
BEGIN:VTIMEZONE
TZID:Europe/Paris
BEGIN:DAYLIGHT
TZOFFSETFROM:+0100
TZOFFSETTO:+0200
TZNAME:CEST
DTSTART:20220327T010000
END:DAYLIGHT
BEGIN:STANDARD
TZOFFSETFROM:+0200
TZOFFSETTO:+0100
TZNAME:CET
DTSTART:20221030T010000
END:STANDARD
END:VTIMEZONE
BEGIN:VEVENT
DTSTART;TZID=Europe/Paris:20221118T181500
DTEND;TZID=Europe/Paris:20221118T213000
DTSTAMP:20260419T143458
CREATED:20221106T163949Z
LAST-MODIFIED:20221106T163949Z
UID:6994-1668795300-1668807000@jeannedarc-versailles.com
SUMMARY:Ciné-Club des collégiens
DESCRIPTION:Pour tous les détail et pour inscrire votre enfant : cliquez ici  !
URL:https://jeannedarc-versailles.com/event/cine-club-des-collegiens-4/
LOCATION:salle Jérusalem
END:VEVENT
END:VCALENDAR