BEGIN:VCALENDAR
VERSION:2.0
PRODID:-//Paroisse sainte Jeanne d&#039;Arc de Versailles - ECPv6.2.5//NONSGML v1.0//EN
CALSCALE:GREGORIAN
METHOD:PUBLISH
X-WR-CALNAME:Paroisse sainte Jeanne d&#039;Arc de Versailles
X-ORIGINAL-URL:https://jeannedarc-versailles.com
X-WR-CALDESC:évènements pour Paroisse sainte Jeanne d&#039;Arc de Versailles
REFRESH-INTERVAL;VALUE=DURATION:PT1H
X-Robots-Tag:noindex
X-PUBLISHED-TTL:PT1H
BEGIN:VTIMEZONE
TZID:Europe/Paris
BEGIN:DAYLIGHT
TZOFFSETFROM:+0100
TZOFFSETTO:+0200
TZNAME:CEST
DTSTART:20220327T010000
END:DAYLIGHT
BEGIN:STANDARD
TZOFFSETFROM:+0200
TZOFFSETTO:+0100
TZNAME:CET
DTSTART:20221030T010000
END:STANDARD
END:VTIMEZONE
BEGIN:VEVENT
DTSTART;TZID=Europe/Paris:20221115T190000
DTEND;TZID=Europe/Paris:20221115T230000
DTSTAMP:20260419T143312
CREATED:20221015T153018Z
LAST-MODIFIED:20221015T153018Z
UID:6895-1668538800-1668553200@jeannedarc-versailles.com
SUMMARY:Soirée LIBAN
DESCRIPTION:Soirée pour les Chrétiens du Liban – Mardi 15 Novembre : \n– 19h15 à l’église Ste Jeanne d’Arc : Messe maronite célébrée par Mgr Roukos Barrak curé de Notre Dame du Liban à Paris.\n– Conférence de Mgr Roukos Barrak : Quel espoir dans ce drame sans fin que vit le Liban ?\n– Taboulé libanais partagé dans les salles paroissiales.
URL:https://jeannedarc-versailles.com/event/soiree-liban/
END:VEVENT
END:VCALENDAR