BEGIN:VCALENDAR
VERSION:2.0
PRODID:-//Paroisse sainte Jeanne d&#039;Arc de Versailles - ECPv6.2.5//NONSGML v1.0//EN
CALSCALE:GREGORIAN
METHOD:PUBLISH
X-ORIGINAL-URL:https://jeannedarc-versailles.com
X-WR-CALDESC:évènements pour Paroisse sainte Jeanne d&#039;Arc de Versailles
REFRESH-INTERVAL;VALUE=DURATION:PT1H
X-Robots-Tag:noindex
X-PUBLISHED-TTL:PT1H
BEGIN:VTIMEZONE
TZID:Europe/Paris
BEGIN:DAYLIGHT
TZOFFSETFROM:+0100
TZOFFSETTO:+0200
TZNAME:CEST
DTSTART:20220327T010000
END:DAYLIGHT
BEGIN:STANDARD
TZOFFSETFROM:+0200
TZOFFSETTO:+0100
TZNAME:CET
DTSTART:20221030T010000
END:STANDARD
END:VTIMEZONE
BEGIN:VEVENT
DTSTART;TZID=Europe/Paris:20221019T203000
DTEND;TZID=Europe/Paris:20221019T223000
DTSTAMP:20260419T160439
CREATED:20221015T153558Z
LAST-MODIFIED:20221015T153558Z
UID:6899-1666211400-1666218600@jeannedarc-versailles.com
SUMMARY:Réunion à propos du Partage d'Evangile
DESCRIPTION:Vous êtes intéressés par animer le Partage d’Evangile du dimanche pendant les messes de 10h (SJA) ou 9h45 (Saint-Joseph) ? \nSoyez les bienvenus à la réunion de présentation du service à la crypte de l’église. \nLe Partage d’Evangile est un temps privilégié qui s’adresse aux enfants à partir de 3 ans et qui leur permet\, ainsi qu’aux animateurs\, de vivre l’Evangile autrement ce jour-là.\nIl est pour tout adulte qui a envie de transmettre la joie de l’Evangile aux enfants ! \nPour toute information\, vous pouvez joindre\nPhilippine Rault (Ste-JA) philippine.rault@gmail.com / 06 65 22 78 56 ou\nConstance Combes (St-Jo): constance.combes@gmail.com / 06 58 48 36 06
URL:https://jeannedarc-versailles.com/event/reunion-a-propos-du-partage-devangile/
END:VEVENT
END:VCALENDAR