BEGIN:VCALENDAR
VERSION:2.0
PRODID:-//Paroisse sainte Jeanne d&#039;Arc de Versailles - ECPv6.2.5//NONSGML v1.0//EN
CALSCALE:GREGORIAN
METHOD:PUBLISH
X-WR-CALNAME:Paroisse sainte Jeanne d&#039;Arc de Versailles
X-ORIGINAL-URL:https://jeannedarc-versailles.com
X-WR-CALDESC:évènements pour Paroisse sainte Jeanne d&#039;Arc de Versailles
REFRESH-INTERVAL;VALUE=DURATION:PT1H
X-Robots-Tag:noindex
X-PUBLISHED-TTL:PT1H
BEGIN:VTIMEZONE
TZID:Europe/Paris
BEGIN:DAYLIGHT
TZOFFSETFROM:+0100
TZOFFSETTO:+0200
TZNAME:CEST
DTSTART:20220327T010000
END:DAYLIGHT
BEGIN:STANDARD
TZOFFSETFROM:+0200
TZOFFSETTO:+0100
TZNAME:CET
DTSTART:20221030T010000
END:STANDARD
END:VTIMEZONE
BEGIN:VEVENT
DTSTART;TZID=Europe/Paris:20221006T203000
DTEND;TZID=Europe/Paris:20221006T223000
DTSTAMP:20260419T154116
CREATED:20221001T202956Z
LAST-MODIFIED:20221001T202956Z
UID:6790-1665088200-1665095400@jeannedarc-versailles.com
SUMMARY:Grandir en couple
DESCRIPTION:Réunion d’information sur le cycle de formation « Grandir en couple » \nCliquez ici pour les détails
URL:https://jeannedarc-versailles.com/event/grandir-en-couple/
LOCATION:salle Jérusalem
END:VEVENT
END:VCALENDAR