BEGIN:VCALENDAR
VERSION:2.0
PRODID:-//Paroisse sainte Jeanne d&#039;Arc de Versailles - ECPv6.2.5//NONSGML v1.0//EN
CALSCALE:GREGORIAN
METHOD:PUBLISH
X-ORIGINAL-URL:https://jeannedarc-versailles.com
X-WR-CALDESC:évènements pour Paroisse sainte Jeanne d&#039;Arc de Versailles
REFRESH-INTERVAL;VALUE=DURATION:PT1H
X-Robots-Tag:noindex
X-PUBLISHED-TTL:PT1H
BEGIN:VTIMEZONE
TZID:Europe/Paris
BEGIN:DAYLIGHT
TZOFFSETFROM:+0100
TZOFFSETTO:+0200
TZNAME:CEST
DTSTART:20220327T010000
END:DAYLIGHT
BEGIN:STANDARD
TZOFFSETFROM:+0200
TZOFFSETTO:+0100
TZNAME:CET
DTSTART:20221030T010000
END:STANDARD
END:VTIMEZONE
BEGIN:VEVENT
DTSTART;TZID=Europe/Paris:20220902T203000
DTEND;TZID=Europe/Paris:20220902T220000
DTSTAMP:20260419T171939
CREATED:20220825T153855Z
LAST-MODIFIED:20220825T153855Z
UID:6634-1662150600-1662156000@jeannedarc-versailles.com
SUMMARY:Adoration du 1er vendredi du mois
DESCRIPTION:Vendredi 2 septembre\, église Ste Jeanne d’Arc\, 20h30-22h : Temps paroissial d’adoration du 1er vendredi du mois\nA la suite de la messe de 19h30. Cliquez ici pour les détails
URL:https://jeannedarc-versailles.com/event/adoration-du-1er-vendredi-du-mois-3/
LOCATION:Eglise Sainte-Jeanne d’Arc\, 5 rue Jules Raulin\, Versailles\, 78000
END:VEVENT
END:VCALENDAR