BEGIN:VCALENDAR
VERSION:2.0
PRODID:-//Paroisse sainte Jeanne d&#039;Arc de Versailles - ECPv6.2.5//NONSGML v1.0//EN
CALSCALE:GREGORIAN
METHOD:PUBLISH
X-ORIGINAL-URL:https://jeannedarc-versailles.com
X-WR-CALDESC:évènements pour Paroisse sainte Jeanne d&#039;Arc de Versailles
REFRESH-INTERVAL;VALUE=DURATION:PT1H
X-Robots-Tag:noindex
X-PUBLISHED-TTL:PT1H
BEGIN:VTIMEZONE
TZID:Europe/Paris
BEGIN:DAYLIGHT
TZOFFSETFROM:+0100
TZOFFSETTO:+0200
TZNAME:CEST
DTSTART:20220327T010000
END:DAYLIGHT
BEGIN:STANDARD
TZOFFSETFROM:+0200
TZOFFSETTO:+0100
TZNAME:CET
DTSTART:20221030T010000
END:STANDARD
END:VTIMEZONE
BEGIN:VEVENT
DTSTART;TZID=Europe/Paris:20220619T093000
DTEND;TZID=Europe/Paris:20220619T160000
DTSTAMP:20260423T203924
CREATED:20220529T194636Z
LAST-MODIFIED:20220529T194636Z
UID:6396-1655631000-1655654400@jeannedarc-versailles.com
SUMMARY:AU REVOIR !
DESCRIPTION:Le dimanche 19 juin\, nous rendrons grâce pour les années que le Père Emmanuel\, le Père Tomasz et le Père Bernardin ont passées au service de la paroisse.\n\n\nUne seule messe sera célébrée le matin à 10h devant l’église Ste Jeanne d’Arc.\nLes messes de samedi soir et de dimanche soir seront maintenues. \n\n\nAu programme :\n\n10h : Messe célébrée sur le parvis\n\nDes sièges\, pour une partie de l’assistance\, seront installés sur la place Elisabeth Brasseur\, les rues René Aubert et Jules Raulin\, mais n’hésitez pas à apporter votre pliant ! \n11h30 : Apéritif et discours \n13h : Repas partagé \n\n  \nCliquez ici pour en savoir plus
URL:https://jeannedarc-versailles.com/event/au-revoir/
LOCATION:Eglise Sainte-Jeanne d’Arc\, 5 rue Jules Raulin\, Versailles\, 78000
END:VEVENT
END:VCALENDAR