BEGIN:VCALENDAR
VERSION:2.0
PRODID:-//Paroisse sainte Jeanne d&#039;Arc de Versailles - ECPv6.2.5//NONSGML v1.0//EN
CALSCALE:GREGORIAN
METHOD:PUBLISH
X-ORIGINAL-URL:https://jeannedarc-versailles.com
X-WR-CALDESC:évènements pour Paroisse sainte Jeanne d&#039;Arc de Versailles
REFRESH-INTERVAL;VALUE=DURATION:PT1H
X-Robots-Tag:noindex
X-PUBLISHED-TTL:PT1H
BEGIN:VTIMEZONE
TZID:Europe/Paris
BEGIN:DAYLIGHT
TZOFFSETFROM:+0100
TZOFFSETTO:+0200
TZNAME:CEST
DTSTART:20220327T010000
END:DAYLIGHT
BEGIN:STANDARD
TZOFFSETFROM:+0200
TZOFFSETTO:+0100
TZNAME:CET
DTSTART:20221030T010000
END:STANDARD
END:VTIMEZONE
BEGIN:VEVENT
DTSTART;TZID=Europe/Paris:20220513T133000
DTEND;TZID=Europe/Paris:20220515T180000
DTSTAMP:20260423T214941
CREATED:20220324T170609Z
LAST-MODIFIED:20220324T170609Z
UID:6168-1652448600-1652637600@jeannedarc-versailles.com
SUMMARY:Journées Missionnaires
DESCRIPTION:Du vendredi après midi au dimanche\, venez participer à une des multiples propositions de ce weekend convivial et caritatif ! \nAidez-nous à organiser cela : cliquer ici pour tous les renseignements
URL:https://jeannedarc-versailles.com/event/journees-missionnaires/
END:VEVENT
END:VCALENDAR