BEGIN:VCALENDAR
VERSION:2.0
PRODID:-//Paroisse sainte Jeanne d&#039;Arc de Versailles - ECPv6.2.5//NONSGML v1.0//EN
CALSCALE:GREGORIAN
METHOD:PUBLISH
X-ORIGINAL-URL:https://jeannedarc-versailles.com
X-WR-CALDESC:évènements pour Paroisse sainte Jeanne d&#039;Arc de Versailles
REFRESH-INTERVAL;VALUE=DURATION:PT1H
X-Robots-Tag:noindex
X-PUBLISHED-TTL:PT1H
BEGIN:VTIMEZONE
TZID:Europe/Paris
BEGIN:DAYLIGHT
TZOFFSETFROM:+0100
TZOFFSETTO:+0200
TZNAME:CEST
DTSTART:20220327T010000
END:DAYLIGHT
BEGIN:STANDARD
TZOFFSETFROM:+0200
TZOFFSETTO:+0100
TZNAME:CET
DTSTART:20221030T010000
END:STANDARD
END:VTIMEZONE
BEGIN:VEVENT
DTSTART;TZID=Europe/Paris:20220330T203000
DTEND;TZID=Europe/Paris:20220330T223000
DTSTAMP:20260423T231950
CREATED:20220324T171013Z
LAST-MODIFIED:20220324T171013Z
UID:6170-1648672200-1648679400@jeannedarc-versailles.com
SUMMARY:Se mobiliser pour l'Ukraine
DESCRIPTION:La paroisse va accueillir des réfugiés ukrainiens. \nRendez-vous à la crypte de Ste Jeanne d’Arc le mercredi 31 mars\, à 20h45 pour proposer votre aide et obtenir les renseignements. \nCliquer ici pour accéder à l’article « Se mobiliser pour l’Ukraine »
URL:https://jeannedarc-versailles.com/event/se-mobiliser-pour-lukraine/
LOCATION:Crypte de Ste Jeanne d’Arc\, 5 rue Jules Raulin\, Versailles\, 78000\, France
END:VEVENT
END:VCALENDAR