BEGIN:VCALENDAR
VERSION:2.0
PRODID:-//Paroisse sainte Jeanne d&#039;Arc de Versailles - ECPv6.2.5//NONSGML v1.0//EN
CALSCALE:GREGORIAN
METHOD:PUBLISH
X-WR-CALNAME:Paroisse sainte Jeanne d&#039;Arc de Versailles
X-ORIGINAL-URL:https://jeannedarc-versailles.com
X-WR-CALDESC:évènements pour Paroisse sainte Jeanne d&#039;Arc de Versailles
REFRESH-INTERVAL;VALUE=DURATION:PT1H
X-Robots-Tag:noindex
X-PUBLISHED-TTL:PT1H
BEGIN:VTIMEZONE
TZID:Europe/Paris
BEGIN:DAYLIGHT
TZOFFSETFROM:+0100
TZOFFSETTO:+0200
TZNAME:CEST
DTSTART:20220327T010000
END:DAYLIGHT
BEGIN:STANDARD
TZOFFSETFROM:+0200
TZOFFSETTO:+0100
TZNAME:CET
DTSTART:20221030T010000
END:STANDARD
END:VTIMEZONE
BEGIN:VEVENT
DTSTART;TZID=Europe/Paris:20220324T203000
DTEND;TZID=Europe/Paris:20220324T223000
DTSTAMP:20260424T003405
CREATED:20220317T173130Z
LAST-MODIFIED:20220317T173130Z
UID:6111-1648153800-1648161000@jeannedarc-versailles.com
SUMMARY:France\, renouvelle ton alliance
DESCRIPTION:Conférence du P. Geoffroy de la Tousche. \nCliquez ici pour tous les détails
URL:https://jeannedarc-versailles.com/event/france-renouvelle-ton-alliance/
LOCATION:Eglise Sainte-Jeanne d’Arc\, 5 rue Jules Raulin\, Versailles\, 78000
END:VEVENT
END:VCALENDAR