BEGIN:VCALENDAR
VERSION:2.0
PRODID:-//Paroisse sainte Jeanne d&#039;Arc de Versailles - ECPv6.2.5//NONSGML v1.0//EN
CALSCALE:GREGORIAN
METHOD:PUBLISH
X-WR-CALNAME:Paroisse sainte Jeanne d&#039;Arc de Versailles
X-ORIGINAL-URL:https://jeannedarc-versailles.com
X-WR-CALDESC:évènements pour Paroisse sainte Jeanne d&#039;Arc de Versailles
REFRESH-INTERVAL;VALUE=DURATION:PT1H
X-Robots-Tag:noindex
X-PUBLISHED-TTL:PT1H
BEGIN:VTIMEZONE
TZID:Europe/Paris
BEGIN:DAYLIGHT
TZOFFSETFROM:+0100
TZOFFSETTO:+0200
TZNAME:CEST
DTSTART:20220327T010000
END:DAYLIGHT
BEGIN:STANDARD
TZOFFSETFROM:+0200
TZOFFSETTO:+0100
TZNAME:CET
DTSTART:20221030T010000
END:STANDARD
END:VTIMEZONE
BEGIN:VEVENT
DTSTART;TZID=Europe/Paris:20220319T080000
DTEND;TZID=Europe/Paris:20220319T133000
DTSTAMP:20260424T003405
CREATED:20220301T165438Z
LAST-MODIFIED:20220301T165540Z
UID:6039-1647676800-1647696600@jeannedarc-versailles.com
SUMMARY:Pèlerinage de la saint Joseph
DESCRIPTION:13 km de marche et de prière et messe à  12h30 à la chapelle Saint-Joseph
URL:https://jeannedarc-versailles.com/event/pelerinage-de-la-saint-joseph/
LOCATION:chapelle St Joseph\, boulevard de Glatigny\, Versailles\, 78000
END:VEVENT
BEGIN:VEVENT
DTSTART;TZID=Europe/Paris:20220319T190000
DTEND;TZID=Europe/Paris:20220320T190000
DTSTAMP:20260424T003405
CREATED:20220312T161329Z
LAST-MODIFIED:20220312T161329Z
UID:6089-1647716400-1647802800@jeannedarc-versailles.com
SUMMARY:VENTE DE L'HUILE DU LIBAN
DESCRIPTION:L’huile du Liban est enfin arrivée !\nVous pourrez l’acheter à la sortie de toutes les messes du weekend des 19 et 20 mars. \nou \nà la permanence tenue les mardi 22\, jeudi 24 et vendredi 25 Mars \nde 9h45 à 11h\, au garage 9 rue René Aubert \n– – – – \nCliquez ici pour télécharger la dernière lettre adressée aux donateurs \nCliquez ici pour accéder à la page du Comité Liban
URL:https://jeannedarc-versailles.com/event/vente-de-lhuile-du-liban/
END:VEVENT
END:VCALENDAR