BEGIN:VCALENDAR
VERSION:2.0
PRODID:-//Paroisse sainte Jeanne d&#039;Arc de Versailles - ECPv6.2.5//NONSGML v1.0//EN
CALSCALE:GREGORIAN
METHOD:PUBLISH
X-ORIGINAL-URL:https://jeannedarc-versailles.com
X-WR-CALDESC:évènements pour Paroisse sainte Jeanne d&#039;Arc de Versailles
REFRESH-INTERVAL;VALUE=DURATION:PT1H
X-Robots-Tag:noindex
X-PUBLISHED-TTL:PT1H
BEGIN:VTIMEZONE
TZID:Europe/Paris
BEGIN:DAYLIGHT
TZOFFSETFROM:+0100
TZOFFSETTO:+0200
TZNAME:CEST
DTSTART:20210328T010000
END:DAYLIGHT
BEGIN:STANDARD
TZOFFSETFROM:+0200
TZOFFSETTO:+0100
TZNAME:CET
DTSTART:20211031T010000
END:STANDARD
END:VTIMEZONE
BEGIN:VEVENT
DTSTART;TZID=Europe/Paris:20211113T140000
DTEND;TZID=Europe/Paris:20211113T170000
DTSTAMP:20260421T181903
CREATED:20211015T231335Z
LAST-MODIFIED:20211015T231335Z
UID:5445-1636812000-1636822800@jeannedarc-versailles.com
SUMMARY:Un quartier\, un défi
DESCRIPTION:Les Chevaliers de Colomb organisent une après midi ciné-club pour les enfants de 6 à 10 ans du quartier Richard Mique\, en relation avec la maison de quartier. \nLe film Le prince d’Egypte sera projeté\, puis\, après un échange sur le film avec le Père Henri Laroche\, un goûter sera partagé. \nRendez-vous au printemps pour l’après midi des collégiens au stade Richard Mique !
URL:https://jeannedarc-versailles.com/event/un-quartier-un-defi/
LOCATION:Salle Sainte Marie
END:VEVENT
END:VCALENDAR