BEGIN:VCALENDAR
VERSION:2.0
PRODID:-//Paroisse sainte Jeanne d&#039;Arc de Versailles - ECPv6.2.5//NONSGML v1.0//EN
CALSCALE:GREGORIAN
METHOD:PUBLISH
X-WR-CALNAME:Paroisse sainte Jeanne d&#039;Arc de Versailles
X-ORIGINAL-URL:https://jeannedarc-versailles.com
X-WR-CALDESC:évènements pour Paroisse sainte Jeanne d&#039;Arc de Versailles
REFRESH-INTERVAL;VALUE=DURATION:PT1H
X-Robots-Tag:noindex
X-PUBLISHED-TTL:PT1H
BEGIN:VTIMEZONE
TZID:Europe/Paris
BEGIN:DAYLIGHT
TZOFFSETFROM:+0100
TZOFFSETTO:+0200
TZNAME:CEST
DTSTART:20210328T010000
END:DAYLIGHT
BEGIN:STANDARD
TZOFFSETFROM:+0200
TZOFFSETTO:+0100
TZNAME:CET
DTSTART:20211031T010000
END:STANDARD
END:VTIMEZONE
BEGIN:VEVENT
DTSTART;TZID=Europe/Paris:20211009T150000
DTEND;TZID=Europe/Paris:20211009T180000
DTSTAMP:20260421T195917
CREATED:20210911T085441Z
LAST-MODIFIED:20210929T083000Z
UID:5300-1633791600-1633802400@jeannedarc-versailles.com
SUMMARY:Forum des activités paroissiales
DESCRIPTION:Venez discuter\, vous renseigner\npour découvrir toutes les activités paroissiales. \nIl y en a pour tous les goûts\, tous les emplois du temps\, tous les talents !
URL:https://jeannedarc-versailles.com/event/forum-des-activites-paroissiales/
END:VEVENT
END:VCALENDAR