BEGIN:VCALENDAR
VERSION:2.0
PRODID:-//Paroisse sainte Jeanne d&#039;Arc de Versailles - ECPv6.2.5//NONSGML v1.0//EN
CALSCALE:GREGORIAN
METHOD:PUBLISH
X-ORIGINAL-URL:https://jeannedarc-versailles.com
X-WR-CALDESC:évènements pour Paroisse sainte Jeanne d&#039;Arc de Versailles
REFRESH-INTERVAL;VALUE=DURATION:PT1H
X-Robots-Tag:noindex
X-PUBLISHED-TTL:PT1H
BEGIN:VTIMEZONE
TZID:Europe/Paris
BEGIN:DAYLIGHT
TZOFFSETFROM:+0100
TZOFFSETTO:+0200
TZNAME:CEST
DTSTART:20210328T010000
END:DAYLIGHT
BEGIN:STANDARD
TZOFFSETFROM:+0200
TZOFFSETTO:+0100
TZNAME:CET
DTSTART:20211031T010000
END:STANDARD
END:VTIMEZONE
BEGIN:VEVENT
DTSTART;TZID=Europe/Paris:20210928T120000
DTEND;TZID=Europe/Paris:20211002T110000
DTSTAMP:20260421T195958
CREATED:20210911T085043Z
LAST-MODIFIED:20210911T085043Z
UID:5298-1632830400-1633172400@jeannedarc-versailles.com
SUMMARY:Démarrage du catéchisme
DESCRIPTION:Les séances de catéchisme commenceront dans la semaine du 28 septembre au 2 octobre. \nTous les renseignements ici
URL:https://jeannedarc-versailles.com/event/demarrage-du-catechisme/
END:VEVENT
END:VCALENDAR