BEGIN:VCALENDAR
VERSION:2.0
PRODID:-//Paroisse sainte Jeanne d&#039;Arc de Versailles - ECPv6.2.5//NONSGML v1.0//EN
CALSCALE:GREGORIAN
METHOD:PUBLISH
X-WR-CALNAME:Paroisse sainte Jeanne d&#039;Arc de Versailles
X-ORIGINAL-URL:https://jeannedarc-versailles.com
X-WR-CALDESC:évènements pour Paroisse sainte Jeanne d&#039;Arc de Versailles
REFRESH-INTERVAL;VALUE=DURATION:PT1H
X-Robots-Tag:noindex
X-PUBLISHED-TTL:PT1H
BEGIN:VTIMEZONE
TZID:Europe/Paris
BEGIN:DAYLIGHT
TZOFFSETFROM:+0100
TZOFFSETTO:+0200
TZNAME:CEST
DTSTART:20210328T010000
END:DAYLIGHT
BEGIN:STANDARD
TZOFFSETFROM:+0200
TZOFFSETTO:+0100
TZNAME:CET
DTSTART:20211031T010000
END:STANDARD
END:VTIMEZONE
BEGIN:VEVENT
DTSTART;TZID=Europe/Paris:20210926T070000
DTEND;TZID=Europe/Paris:20210926T180000
DTSTAMP:20260421T212433
CREATED:20210911T084607Z
LAST-MODIFIED:20210911T084607Z
UID:5296-1632639600-1632679200@jeannedarc-versailles.com
SUMMARY:Pèlerinage de Cléry
DESCRIPTION:Rendez-vous à ce grand évènement de la rentrée paroissiale ! \nTous les détails ici
URL:https://jeannedarc-versailles.com/event/pelerinage-de-clery/
ATTACH;FMTTYPE=image/jpeg:https://jeannedarc-versailles.com/wp-content/uploads/2021/05/Clery-visuel-article-web.jpg
END:VEVENT
END:VCALENDAR