BEGIN:VCALENDAR
VERSION:2.0
PRODID:-//Paroisse sainte Jeanne d&#039;Arc de Versailles - ECPv6.2.5//NONSGML v1.0//EN
CALSCALE:GREGORIAN
METHOD:PUBLISH
X-WR-CALNAME:Paroisse sainte Jeanne d&#039;Arc de Versailles
X-ORIGINAL-URL:https://jeannedarc-versailles.com
X-WR-CALDESC:évènements pour Paroisse sainte Jeanne d&#039;Arc de Versailles
REFRESH-INTERVAL;VALUE=DURATION:PT1H
X-Robots-Tag:noindex
X-PUBLISHED-TTL:PT1H
BEGIN:VTIMEZONE
TZID:Europe/Paris
BEGIN:DAYLIGHT
TZOFFSETFROM:+0100
TZOFFSETTO:+0200
TZNAME:CEST
DTSTART:20210328T010000
END:DAYLIGHT
BEGIN:STANDARD
TZOFFSETFROM:+0200
TZOFFSETTO:+0100
TZNAME:CET
DTSTART:20211031T010000
END:STANDARD
END:VTIMEZONE
BEGIN:VEVENT
DTSTART;TZID=Europe/Paris:20210306T140000
DTEND;TZID=Europe/Paris:20210306T160000
DTSTAMP:20260424T042603
CREATED:20210225T124343Z
LAST-MODIFIED:20210225T124812Z
UID:4598-1615039200-1615046400@jeannedarc-versailles.com
SUMMARY:Fabrice Hadjadj
DESCRIPTION:Pour les étudiants et jeunes pros de Versailles et alentours\, conférence \nSamedi prochain\, le 6 mars Fabrice Hadjadj\, célèbre philosophe chrétien\, \ndans l’église Notre Dame de Versailles de14h à 16h \n«Être chrétien dans un monde qui ne l’est plus. » \n 
URL:https://jeannedarc-versailles.com/event/fabrice-hadjadj/
LOCATION:Eglise Notre Dame\, 2 Rue Baillet Reviron\, Versailles\, 78000\, France
END:VEVENT
END:VCALENDAR